Workbook

Sheet Summary
B2: Hurstpierpoint High Street - Select Link Analyis - Trip End Summary | AM2: MID SUSSEX LOCAL PLAN SCENARIO 7
B4: Project: | C4: Mid Sussex Local Plan Scenario 7 | H4: Owner/s: | I4: SC & RJ | AK4: #VALUE!
B5: ProjID: | C5: GB01T26D08 | H5: Date: | I5: 46303 | R5: FILTER here to remove Zone with 0 trips on High Street
B7: Local Plan Site | C7: Zone ID | D7: Reference Case BF | M7: SC7M5 BF | U7: 0 or not 0 FILTER | W7: ABS Difference | AA7: % Difference | AF7: ABS Difference | AJ7: % Difference
D8: AM | H8: PM | M8: AM | Q8: PM | W8: AM | AA8: AM | AF8: PM | AJ8: PM
D9: Eastbound | F9: Westbound | H9: Eastbound | J9: Westbound | M9: Eastbound | O9: Westbound | Q9: Eastbound | S9: Westbound | W9: Eastbound | Y9: Westbound | AA9: Eastbound | AC9: Westbound | AF9: Eastbound | AH9: Westbound | AJ9: Eastbound | AL9: Westbound
D10: Origin | E10: Desti' | F10: Origin | G10: Desti' | H10: Origin | I10: Desti' | J10: Origin | K10: Desti' | M10: Origin | N10: Desti' | O10: Origin | P10: Desti' | Q10: Origin | R10: Desti' | S10: Origin | T10: Desti' | W10: Origin | X10: Desti' | Y10: Origin | Z10: Desti' | AA10: Origin | AB10: Desti' | AC10: Origin | AD10: Desti' | AF10: Origin | AG10: Desti' | AH10: Origin | AI10: Desti' | AJ10: Origin | AK10: Desti' | AL10: Origin | AM10: Desti'
C11: Total | D11: =SUM(D12:D865) -> 399.84149 | E11: =SUM(E12:E865) -> 399.84149 | F11: =SUM(F12:F865) -> 377.08178 | G11: =SUM(G12:G865) -> 377.08178 | H11: =SUM(H12:H865) -> 632.31338 | I11: =SUM(I12:I865) -> 632.31338 | J11: =SUM(J12:J865) -> 232.29377 | K11: =SUM(K12:K865) -> 232.29377 | M11: =SUM(M12:M865) -> 463.84418 | N11: =SUM(N12:N865) -> 463.84418 | O11: =SUM(O12:O865) -> 464.53965 | P11: =SUM(P12:P865) -> 464.53965 | Q11: =SUM(Q12:Q865) -> 753.04042 | R11: =SUM(R12:R865) -> 753.04042 | S11: =SUM(S12:S865) -> 273.52302 | T11: =SUM(T12:T865) -> 273.52302 | U11: =SUM(D11:T11) -> 7192.9554 | W11: =M11-D11 -> 64.00269 | X11: =N11-E11 -> 64.00269 | Y11: =O11-F11 -> 87.45787 | Z11: =P11-G11 -> 87.45787 | AA11: =IFERROR(W11/D11,"-") -> 0.16007016 | AB11: =IFERROR(X11/E11,"-") -> 0.16007016 | AC11: =IFERROR(Y11/F11,"-") -> 0.23193343 | AD11: =IFERROR(Z11/G11,"-") -> 0.23193343 | AF11: =Q11-H11 -> 120.72704 | AG11: =R11-I11 -> 120.72704 | AH11: =S11-J11 -> 41.22925 | AI11: =T11-K11 -> 41.22925 | AJ11: =IFERROR(AF11/H11,"-") -> 0.19092912 | AK11: =IFERROR(AG11/I11,"-") -> 0.19092912 | AL11: =IFERROR(AH11/J11,"-") -> 0.17748754 | AM11: =IFERROR(AI11/K11,"-") -> 0.17748754
C12: 1026 | D12: 0 | E12: 60.27736 | F12: 48.05433 | G12: 0 | H12: 0 | I12: 39.50049 | J12: 62.14072 | K12: 0 | M12: 0 | N12: 23.81352 | O12: 59.02858 | P12: 0 | Q12: 0 | R12: 25.89548 | S12: 69.333 | T12: 0 | U12: =SUM(D12:T12) -> 388.04348 | W12: =M12-D12 -> 0 | X12: =N12-E12 -> -36.46384 | Y12: =O12-F12 -> 10.97425 | Z12: =P12-G12 -> 0 | AA12: =IFERROR((M12-D12)/ABS(D12),"-") -> - | AB12: =IFERROR((N12-E12)/ABS(E12),"-") -> -0.60493426 | AC12: =IFERROR((O12-F12)/ABS(F12),"-") -> 0.22837172 | AD12: =IFERROR((P12-G12)/ABS(G12),"-") -> - | AF12: =Q12-H12 -> 0 | AG12: =R12-I12 -> -13.60501 | AH12: =S12-J12 -> 7.19228 | AI12: =T12-K12 -> 0 | AJ12: =IFERROR((Q12-H12)/ABS(H12),"-") -> - | AK12: =IFERROR((R12-I12)/ABS(I12),"-") -> -0.34442636 | AL12: =IFERROR((S12-J12)/ABS(J12),"-") -> 0.11574182 | AM12: =IFERROR((T12-K12)/ABS(K12),"-") -> -
C13: 1028 | D13: 0 | E13: 2.60271 | F13: 35.94353 | G13: 0 | H13: 0 | I13: 19.13147 | J13: 1.74031 | K13: 0 | M13: 0 | N13: 3.46992 | O13: 20.00228 | P13: 0 | Q13: 0 | R13: 19.65509 | S13: 3.67319 | T13: 0 | U13: =SUM(D13:T13) -> 106.2185 | W13: =M13-D13 -> 0 | X13: =N13-E13 -> 0.86721 | Y13: =O13-F13 -> -15.94125 | Z13: =P13-G13 -> 0 | AA13: =IFERROR((M13-D13)/ABS(D13),"-") -> - | AB13: =IFERROR((N13-E13)/ABS(E13),"-") -> 0.33319502 | AC13: =IFERROR((O13-F13)/ABS(F13),"-") -> -0.44350819 | AD13: =IFERROR((P13-G13)/ABS(G13),"-") -> - | AF13: =Q13-H13 -> 0 | AG13: =R13-I13 -> 0.52362 | AH13: =S13-J13 -> 1.93288 | AI13: =T13-K13 -> 0 | AJ13: =IFERROR((Q13-H13)/ABS(H13),"-") -> - | AK13: =IFERROR((R13-I13)/ABS(I13),"-") -> 0.027369564 | AL13: =IFERROR((S13-J13)/ABS(J13),"-") -> 1.1106527 | AM13: =IFERROR((T13-K13)/ABS(K13),"-") -> -
B14: Land east of College Lane | C14: 1029 | D14: 0 | E14: 69.75212 | F14: 70.25471 | G14: 0 | H14: 0 | I14: 188.97737 | J14: 47.62388 | K14: 0 | M14: 0 | N14: 89.76831 | O14: 147.86472 | P14: 0 | Q14: 0 | R14: 214.50788 | S14: 62.71229 | T14: 0 | U14: =SUM(D14:T14) -> 891.46128 | W14: =M14-D14 -> 0 | X14: =N14-E14 -> 20.01619 | Y14: =O14-F14 -> 77.61001 | Z14: =P14-G14 -> 0 | AA14: =IFERROR((M14-D14)/ABS(D14),"-") -> - | AB14: =IFERROR((N14-E14)/ABS(E14),"-") -> 0.28696174 | AC14: =IFERROR((O14-F14)/ABS(F14),"-") -> 1.1046948 | AD14: =IFERROR((P14-G14)/ABS(G14),"-") -> - | AF14: =Q14-H14 -> 0 | AG14: =R14-I14 -> 25.53051 | AH14: =S14-J14 -> 15.08841 | AI14: =T14-K14 -> 0 | AJ14: =IFERROR((Q14-H14)/ABS(H14),"-") -> - | AK14: =IFERROR((R14-I14)/ABS(I14),"-") -> 0.13509824 | AL14: =IFERROR((S14-J14)/ABS(J14),"-") -> 0.31682446 | AM14: =IFERROR((T14-K14)/ABS(K14),"-") -> -
B15: Land north of Willow Way and Talbot Mead, Cuckfield Road | C15: 1030 | D15: 97.41066 | E15: 0 | F15: 0 | G15: 13.63749 | H15: 30.91713 | I15: 0 | J15: 0 | K15: 21.09812 | M15: 91.61812 | N15: 0 | O15: 0 | P15: 16.37921 | Q15: 32.49524 | R15: 0 | S15: 0 | T15: 24.52288 | U15: =SUM(D15:T15) -> 328.07885 | W15: =M15-D15 -> -5.79254 | X15: =N15-E15 -> 0 | Y15: =O15-F15 -> 0 | Z15: =P15-G15 -> 2.74172 | AA15: =IFERROR((M15-D15)/ABS(D15),"-") -> -0.059465155 | AB15: =IFERROR((N15-E15)/ABS(E15),"-") -> - | AC15: =IFERROR((O15-F15)/ABS(F15),"-") -> - | AD15: =IFERROR((P15-G15)/ABS(G15),"-") -> 0.20104286 | AF15: =Q15-H15 -> 1.57811 | AG15: =R15-I15 -> 0 | AH15: =S15-J15 -> 0 | AI15: =T15-K15 -> 3.42476 | AJ15: =IFERROR((Q15-H15)/ABS(H15),"-") -> 0.051043224 | AK15: =IFERROR((R15-I15)/ABS(I15),"-") -> - | AL15: =IFERROR((S15-J15)/ABS(J15),"-") -> - | AM15: =IFERROR((T15-K15)/ABS(K15),"-") -> 0.16232536
C16: 1031 | D16: 21.10559 | E16: 0 | F16: 0 | G16: 3.18113 | H16: 2.98484 | I16: 0 | J16: 0 | K16: 6.77555 | M16: 20.3011 | N16: 0 | O16: 0 | P16: 3.35668 | Q16: 2.99873 | R16: 0 | S16: 0 | T16: 7.59816 | U16: =SUM(D16:T16) -> 68.30178 | W16: =M16-D16 -> -0.80449 | X16: =N16-E16 -> 0 | Y16: =O16-F16 -> 0 | Z16: =P16-G16 -> 0.17555 | AA16: =IFERROR((M16-D16)/ABS(D16),"-") -> -0.03811739 | AB16: =IFERROR((N16-E16)/ABS(E16),"-") -> - | AC16: =IFERROR((O16-F16)/ABS(F16),"-") -> - | AD16: =IFERROR((P16-G16)/ABS(G16),"-") -> 0.055184793 | AF16: =Q16-H16 -> 0.01389 | AG16: =R16-I16 -> 0 | AH16: =S16-J16 -> 0 | AI16: =T16-K16 -> 0.82261 | AJ16: =IFERROR((Q16-H16)/ABS(H16),"-") -> 0.0046535158 | AK16: =IFERROR((R16-I16)/ABS(I16),"-") -> - | AL16: =IFERROR((S16-J16)/ABS(J16),"-") -> - | AM16: =IFERROR((T16-K16)/ABS(K16),"-") -> 0.12140859
C17: 1033 | D17: 0 | E17: 0 | F17: 0 | G17: 0 | H17: 0 | I17: 0 | J17: 0 | K17: 0 | M17: 0 | N17: 0 | O17: 0 | P17: 0 | Q17: 0 | R17: 0 | S17: 0 | T17: 0 | U17: =SUM(D17:T17) -> 0 | W17: =M17-D17 -> 0 | X17: =N17-E17 -> 0 | Y17: =O17-F17 -> 0 | Z17: =P17-G17 -> 0 | AA17: =IFERROR((M17-D17)/ABS(D17),"-") -> - | AB17: =IFERROR((N17-E17)/ABS(E17),"-") -> - | AC17: =IFERROR((O17-F17)/ABS(F17),"-") -> - | AD17: =IFERROR((P17-G17)/ABS(G17),"-") -> - | AF17: =Q17-H17 -> 0 | AG17: =R17-I17 -> 0 | AH17: =S17-J17 -> 0 | AI17: =T17-K17 -> 0 | AJ17: =IFERROR((Q17-H17)/ABS(H17),"-") -> - | AK17: =IFERROR((R17-I17)/ABS(I17),"-") -> - | AL17: =IFERROR((S17-J17)/ABS(J17),"-") -> - | AM17: =IFERROR((T17-K17)/ABS(K17),"-") -> -
B18: Land at Stairbridge Lane (South of Bolney Grange), Bolney | C18: 1034 | D18: 0.302 | E18: 0 | F18: 0 | G18: 1.64266 | H18: 1.59438 | I18: 0 | J18: 0 | K18: 0.11904 | M18: 0.24267 | N18: 0 | O18: 0 | P18: 1.18293 | Q18: 1.15958 | R18: 0 | S18: 0 | T18: 0.19372 | U18: =SUM(D18:T18) -> 6.43698 | W18: =M18-D18 -> -0.05933 | X18: =N18-E18 -> 0 | Y18: =O18-F18 -> 0 | Z18: =P18-G18 -> -0.45973 | AA18: =IFERROR((M18-D18)/ABS(D18),"-") -> -0.19645695 | AB18: =IFERROR((N18-E18)/ABS(E18),"-") -> - | AC18: =IFERROR((O18-F18)/ABS(F18),"-") -> - | AD18: =IFERROR((P18-G18)/ABS(G18),"-") -> -0.27986924 | AF18: =Q18-H18 -> -0.4348 | AG18: =R18-I18 -> 0 | AH18: =S18-J18 -> 0 | AI18: =T18-K18 -> 0.07468 | AJ18: =IFERROR((Q18-H18)/ABS(H18),"-") -> -0.27270789 | AK18: =IFERROR((R18-I18)/ABS(I18),"-") -> - | AL18: =IFERROR((S18-J18)/ABS(J18),"-") -> - | AM18: =IFERROR((T18-K18)/ABS(K18),"-") -> 0.62735215
C19: 1035 | D19: 1.1781 | E19: 0 | F19: 0 | G19: 3.49919 | H19: 1.44563 | I19: 0 | J19: 0 | K19: 0.91569 | M19: 0.57914 | N19: 0 | O19: 0 | P19: 3.94902 | Q19: 1.45317 | R19: 0 | S19: 0 | T19: 0.91901 | U19: =SUM(D19:T19) -> 13.93895 | W19: =M19-D19 -> -0.59896 | X19: =N19-E19 -> 0 | Y19: =O19-F19 -> 0 | Z19: =P19-G19 -> 0.44983 | AA19: =IFERROR((M19-D19)/ABS(D19),"-") -> -0.50841185 | AB19: =IFERROR((N19-E19)/ABS(E19),"-") -> - | AC19: =IFERROR((O19-F19)/ABS(F19),"-") -> - | AD19: =IFERROR((P19-G19)/ABS(G19),"-") -> 0.12855261 | AF19: =Q19-H19 -> 0.00754 | AG19: =R19-I19 -> 0 | AH19: =S19-J19 -> 0 | AI19: =T19-K19 -> 0.00332 | AJ19: =IFERROR((Q19-H19)/ABS(H19),"-") -> 0.0052157191 | AK19: =IFERROR((R19-I19)/ABS(I19),"-") -> - | AL19: =IFERROR((S19-J19)/ABS(J19),"-") -> - | AM19: =IFERROR((T19-K19)/ABS(K19),"-") -> 0.0036256812
C20: 1036 | D20: 2.81382 | E20: 0 | F20: 0 | G20: 0.3851 | H20: 11.46419 | I20: 0 | J20: 0 | K20: 0.04663 | M20: 0.29384 | N20: 0 | O20: 0 | P20: 0.14371 | Q20: 3.19706 | R20: 0 | S20: 0 | T20: 0.26148 | U20: =SUM(D20:T20) -> 18.60583 | W20: =M20-D20 -> -2.51998 | X20: =N20-E20 -> 0 | Y20: =O20-F20 -> 0 | Z20: =P20-G20 -> -0.24139 | AA20: =IFERROR((M20-D20)/ABS(D20),"-") -> -0.89557257 | AB20: =IFERROR((N20-E20)/ABS(E20),"-") -> - | AC20: =IFERROR((O20-F20)/ABS(F20),"-") -> - | AD20: =IFERROR((P20-G20)/ABS(G20),"-") -> -0.6268242 | AF20: =Q20-H20 -> -8.26713 | AG20: =R20-I20 -> 0 | AH20: =S20-J20 -> 0 | AI20: =T20-K20 -> 0.21485 | AJ20: =IFERROR((Q20-H20)/ABS(H20),"-") -> -0.72112639 | AK20: =IFERROR((R20-I20)/ABS(I20),"-") -> - | AL20: =IFERROR((S20-J20)/ABS(J20),"-") -> - | AM20: =IFERROR((T20-K20)/ABS(K20),"-") -> 4.6075488
C21: 1037 | D21: 0 | E21: 0 | F21: 0 | G21: 0 | H21: 0.00229 | I21: 0 | J21: 0 | K21: 0 | M21: 0 | N21: 0 | O21: 0 | P21: 0 | Q21: 0.00174 | R21: 0 | S21: 0 | T21: 0 | U21: =SUM(D21:T21) -> 0.00403 | W21: =M21-D21 -> 0 | X21: =N21-E21 -> 0 | Y21: =O21-F21 -> 0 | Z21: =P21-G21 -> 0 | AA21: =IFERROR((M21-D21)/ABS(D21),"-") -> - | AB21: =IFERROR((N21-E21)/ABS(E21),"-") -> - | AC21: =IFERROR((O21-F21)/ABS(F21),"-") -> - | AD21: =IFERROR((P21-G21)/ABS(G21),"-") -> - | AF21: =Q21-H21 -> -0.00055 | AG21: =R21-I21 -> 0 | AH21: =S21-J21 -> 0 | AI21: =T21-K21 -> 0 | AJ21: =IFERROR((Q21-H21)/ABS(H21),"-") -> -0.24017467 | AK21: =IFERROR((R21-I21)/ABS(I21),"-") -> - | AL21: =IFERROR((S21-J21)/ABS(J21),"-") -> - | AM21: =IFERROR((T21-K21)/ABS(K21),"-") -> -
C22: 1038 | D22: 0.00054 | E22: 0 | F22: 0 | G22: 0.00015 | H22: 0.00015 | I22: 0 | J22: 0 | K22: 0 | M22: 0 | N22: 0 | O22: 0 | P22: 0.00043 | Q22: 0 | R22: 0 | S22: 0 | T22: 0 | U22: =SUM(D22:T22) -> 0.00127 | W22: =M22-D22 -> -0.00054 | X22: =N22-E22 -> 0 | Y22: =O22-F22 -> 0 | Z22: =P22-G22 -> 0.00028 | AA22: =IFERROR((M22-D22)/ABS(D22),"-") -> -1 | AB22: =IFERROR((N22-E22)/ABS(E22),"-") -> - | AC22: =IFERROR((O22-F22)/ABS(F22),"-") -> - | AD22: =IFERROR((P22-G22)/ABS(G22),"-") -> 1.8666667 | AF22: =Q22-H22 -> -0.00015 | AG22: =R22-I22 -> 0 | AH22: =S22-J22 -> 0 | AI22: =T22-K22 -> 0 | AJ22: =IFERROR((Q22-H22)/ABS(H22),"-") -> -1 | AK22: =IFERROR((R22-I22)/ABS(I22),"-") -> - | AL22: =IFERROR((S22-J22)/ABS(J22),"-") -> - | AM22: =IFERROR((T22-K22)/ABS(K22),"-") -> -
C23: 1039 | D23: 0 | E23: 0 | F23: 0 | G23: 0 | H23: 0 | I23: 0 | J23: 0 | K23: 0 | M23: 0 | N23: 0 | O23: 0 | P23: 0 | Q23: 0 | R23: 0 | S23: 0 | T23: 0 | U23: =SUM(D23:T23) -> 0 | W23: =M23-D23 -> 0 | X23: =N23-E23 -> 0 | Y23: =O23-F23 -> 0 | Z23: =P23-G23 -> 0 | AA23: =IFERROR((M23-D23)/ABS(D23),"-") -> - | AB23: =IFERROR((N23-E23)/ABS(E23),"-") -> - | AC23: =IFERROR((O23-F23)/ABS(F23),"-") -> - | AD23: =IFERROR((P23-G23)/ABS(G23),"-") -> - | AF23: =Q23-H23 -> 0 | AG23: =R23-I23 -> 0 | AH23: =S23-J23 -> 0 | AI23: =T23-K23 -> 0 | AJ23: =IFERROR((Q23-H23)/ABS(H23),"-") -> - | AK23: =IFERROR((R23-I23)/ABS(I23),"-") -> - | AL23: =IFERROR((S23-J23)/ABS(J23),"-") -> - | AM23: =IFERROR((T23-K23)/ABS(K23),"-") -> -
C24: 1040 | D24: 0 | E24: 0 | F24: 0 | G24: 0 | H24: 0 | I24: 0 | J24: 0 | K24: 0 | M24: 0 | N24: 0 | O24: 0 | P24: 0 | Q24: 0 | R24: 0 | S24: 0 | T24: 0 | U24: =SUM(D24:T24) -> 0 | W24: =M24-D24 -> 0 | X24: =N24-E24 -> 0 | Y24: =O24-F24 -> 0 | Z24: =P24-G24 -> 0 | AA24: =IFERROR((M24-D24)/ABS(D24),"-") -> - | AB24: =IFERROR((N24-E24)/ABS(E24),"-") -> - | AC24: =IFERROR((O24-F24)/ABS(F24),"-") -> - | AD24: =IFERROR((P24-G24)/ABS(G24),"-") -> - | AF24: =Q24-H24 -> 0 | AG24: =R24-I24 -> 0 | AH24: =S24-J24 -> 0 | AI24: =T24-K24 -> 0 | AJ24: =IFERROR((Q24-H24)/ABS(H24),"-") -> - | AK24: =IFERROR((R24-I24)/ABS(I24),"-") -> - | AL24: =IFERROR((S24-J24)/ABS(J24),"-") -> - | AM24: =IFERROR((T24-K24)/ABS(K24),"-") -> -
B25: Land to the North of Old Wickham Lane | C25: 1041 | D25: 0 | E25: 0 | F25: 0 | G25: 0 | H25: 0 | I25: 0 | J25: 0 | K25: 0 | M25: 0 | N25: 0 | O25: 0 | P25: 0 | Q25: 0 | R25: 0 | S25: 0 | T25: 0 | U25: =SUM(D25:T25) -> 0 | W25: =M25-D25 -> 0 | X25: =N25-E25 -> 0 | Y25: =O25-F25 -> 0 | Z25: =P25-G25 -> 0 | AA25: =IFERROR((M25-D25)/ABS(D25),"-") -> - | AB25: =IFERROR((N25-E25)/ABS(E25),"-") -> - | AC25: =IFERROR((O25-F25)/ABS(F25),"-") -> - | AD25: =IFERROR((P25-G25)/ABS(G25),"-") -> - | AF25: =Q25-H25 -> 0 | AG25: =R25-I25 -> 0 | AH25: =S25-J25 -> 0 | AI25: =T25-K25 -> 0 | AJ25: =IFERROR((Q25-H25)/ABS(H25),"-") -> - | AK25: =IFERROR((R25-I25)/ABS(I25),"-") -> - | AL25: =IFERROR((S25-J25)/ABS(J25),"-") -> - | AM25: =IFERROR((T25-K25)/ABS(K25),"-") -> -
C26: 1043 | D26: 0 | E26: 0 | F26: 0 | G26: 0 | H26: 0 | I26: 0 | J26: 0 | K26: 0 | M26: 0 | N26: 0 | O26: 0 | P26: 0 | Q26: 0 | R26: 0 | S26: 0 | T26: 0 | U26: =SUM(D26:T26) -> 0 | W26: =M26-D26 -> 0 | X26: =N26-E26 -> 0 | Y26: =O26-F26 -> 0 | Z26: =P26-G26 -> 0 | AA26: =IFERROR((M26-D26)/ABS(D26),"-") -> - | AB26: =IFERROR((N26-E26)/ABS(E26),"-") -> - | AC26: =IFERROR((O26-F26)/ABS(F26),"-") -> - | AD26: =IFERROR((P26-G26)/ABS(G26),"-") -> - | AF26: =Q26-H26 -> 0 | AG26: =R26-I26 -> 0 | AH26: =S26-J26 -> 0 | AI26: =T26-K26 -> 0 | AJ26: =IFERROR((Q26-H26)/ABS(H26),"-") -> - | AK26: =IFERROR((R26-I26)/ABS(I26),"-") -> - | AL26: =IFERROR((S26-J26)/ABS(J26),"-") -> - | AM26: =IFERROR((T26-K26)/ABS(K26),"-") -> -
B27: Land to the north of Lyoth Lane | C27: 1044 | D27: 0 | E27: 0 | F27: 0 | G27: 0 | H27: 0 | I27: 0 | J27: 0 | K27: 0 | M27: 0 | N27: 0 | O27: 0 | P27: 0 | Q27: 0 | R27: 0 | S27: 0 | T27: 0 | U27: =SUM(D27:T27) -> 0 | W27: =M27-D27 -> 0 | X27: =N27-E27 -> 0 | Y27: =O27-F27 -> 0 | Z27: =P27-G27 -> 0 | AA27: =IFERROR((M27-D27)/ABS(D27),"-") -> - | AB27: =IFERROR((N27-E27)/ABS(E27),"-") -> - | AC27: =IFERROR((O27-F27)/ABS(F27),"-") -> - | AD27: =IFERROR((P27-G27)/ABS(G27),"-") -> - | AF27: =Q27-H27 -> 0 | AG27: =R27-I27 -> 0 | AH27: =S27-J27 -> 0 | AI27: =T27-K27 -> 0 | AJ27: =IFERROR((Q27-H27)/ABS(H27),"-") -> - | AK27: =IFERROR((R27-I27)/ABS(I27),"-") -> - | AL27: =IFERROR((S27-J27)/ABS(J27),"-") -> - | AM27: =IFERROR((T27-K27)/ABS(K27),"-") -> -
C28: 1049 | D28: 0 | E28: 9.14096 | F28: 18.13327 | G28: 0 | H28: 0 | I28: 22.61419 | J28: 3.24304 | K28: 0 | M28: 0 | N28: 21.79043 | O28: 27.34518 | P28: 0 | Q28: 0 | R28: 32.03817 | S28: 4.45726 | T28: 0 | U28: =SUM(D28:T28) -> 138.7625 | W28: =M28-D28 -> 0 | X28: =N28-E28 -> 12.64947 | Y28: =O28-F28 -> 9.21191 | Z28: =P28-G28 -> 0 | AA28: =IFERROR((M28-D28)/ABS(D28),"-") -> - | AB28: =IFERROR((N28-E28)/ABS(E28),"-") -> 1.3838229 | AC28: =IFERROR((O28-F28)/ABS(F28),"-") -> 0.50801152 | AD28: =IFERROR((P28-G28)/ABS(G28),"-") -> - | AF28: =Q28-H28 -> 0 | AG28: =R28-I28 -> 9.42398 | AH28: =S28-J28 -> 1.21422 | AI28: =T28-K28 -> 0 | AJ28: =IFERROR((Q28-H28)/ABS(H28),"-") -> - | AK28: =IFERROR((R28-I28)/ABS(I28),"-") -> 0.41672861 | AL28: =IFERROR((S28-J28)/ABS(J28),"-") -> 0.37440796 | AM28: =IFERROR((T28-K28)/ABS(K28),"-") -> -
B29: Land west of Ockley Lane | C29: 1050 | D29: 0 | E29: 8.47772 | F29: 52.80919 | G29: 0 | H29: 0 | I29: 78.03228 | J29: 28.02053 | K29: 0 | M29: 0 | N29: 27.34177 | O29: 35.21623 | P29: 0 | Q29: 0 | R29: 80.05357 | S29: 28.79172 | T29: 0 | U29: =SUM(D29:T29) -> 338.74301 | W29: =M29-D29 -> 0 | X29: =N29-E29 -> 18.86405 | Y29: =O29-F29 -> -17.59296 | Z29: =P29-G29 -> 0 | AA29: =IFERROR((M29-D29)/ABS(D29),"-") -> - | AB29: =IFERROR((N29-E29)/ABS(E29),"-") -> 2.2251325 | AC29: =IFERROR((O29-F29)/ABS(F29),"-") -> -0.33314202 | AD29: =IFERROR((P29-G29)/ABS(G29),"-") -> - | AF29: =Q29-H29 -> 0 | AG29: =R29-I29 -> 2.02129 | AH29: =S29-J29 -> 0.77119 | AI29: =T29-K29 -> 0 | AJ29: =IFERROR((Q29-H29)/ABS(H29),"-") -> - | AK29: =IFERROR((R29-I29)/ABS(I29),"-") -> 0.025903254 | AL29: =IFERROR((S29-J29)/ABS(J29),"-") -> 0.02752232 | AM29: =IFERROR((T29-K29)/ABS(K29),"-") -> -
C30: 1051 | D30: 0 | E30: 5.51958 | F30: 60.02397 | G30: 0 | H30: 0 | I30: 49.49262 | J30: 38.49459 | K30: 0 | M30: 0 | N30: 5.41414 | O30: 60.11356 | P30: 0 | Q30: 0 | R30: 45.54967 | S30: 38.58686 | T30: 0 | U30: =SUM(D30:T30) -> 303.19499 | W30: =M30-D30 -> 0 | X30: =N30-E30 -> -0.10544 | Y30: =O30-F30 -> 0.08959 | Z30: =P30-G30 -> 0 | AA30: =IFERROR((M30-D30)/ABS(D30),"-") -> - | AB30: =IFERROR((N30-E30)/ABS(E30),"-") -> -0.019102903 | AC30: =IFERROR((O30-F30)/ABS(F30),"-") -> 0.0014925704 | AD30: =IFERROR((P30-G30)/ABS(G30),"-") -> - | AF30: =Q30-H30 -> 0 | AG30: =R30-I30 -> -3.94295 | AH30: =S30-J30 -> 0.09227 | AI30: =T30-K30 -> 0 | AJ30: =IFERROR((Q30-H30)/ABS(H30),"-") -> - | AK30: =IFERROR((R30-I30)/ABS(I30),"-") -> -0.079667433 | AL30: =IFERROR((S30-J30)/ABS(J30),"-") -> 0.0023969602 | AM30: =IFERROR((T30-K30)/ABS(K30),"-") -> -
C31: 1052 | D31: 0 | E31: 0.96172 | F31: 1.86017 | G31: 0 | H31: 0 | I31: 3.44991 | J31: 0.42572 | K31: 0 | M31: 0 | N31: 0.84785 | O31: 5.63258 | P31: 0 | Q31: 0 | R31: 21.18691 | S31: 0.42556 | T31: 0 | U31: =SUM(D31:T31) -> 34.79042 | W31: =M31-D31 -> 0 | X31: =N31-E31 -> -0.11387 | Y31: =O31-F31 -> 3.77241 | Z31: =P31-G31 -> 0 | AA31: =IFERROR((M31-D31)/ABS(D31),"-") -> - | AB31: =IFERROR((N31-E31)/ABS(E31),"-") -> -0.11840245 | AC31: =IFERROR((O31-F31)/ABS(F31),"-") -> 2.0279921 | AD31: =IFERROR((P31-G31)/ABS(G31),"-") -> - | AF31: =Q31-H31 -> 0 | AG31: =R31-I31 -> 17.737 | AH31: =S31-J31 -> -0.00016 | AI31: =T31-K31 -> 0 | AJ31: =IFERROR((Q31-H31)/ABS(H31),"-") -> - | AK31: =IFERROR((R31-I31)/ABS(I31),"-") -> 5.1412935 | AL31: =IFERROR((S31-J31)/ABS(J31),"-") -> -0.00037583388 | AM31: =IFERROR((T31-K31)/ABS(K31),"-") -> -
B32: Land north east of Hurstpierpoint | C32: 1053 | D32: 0 | E32: 0.00025 | F32: 0 | G32: 0.00037 | H32: 0 | I32: 0 | J32: 0 | K32: 5e-05 | M32: 0 | N32: 0.00023 | O32: 0 | P32: 0.00032 | Q32: 0 | R32: 0 | S32: 0 | T32: 5e-05 | U32: =SUM(D32:T32) -> 0.00127 | W32: =M32-D32 -> 0 | X32: =N32-E32 -> -2e-05 | Y32: =O32-F32 -> 0 | Z32: =P32-G32 -> -5e-05 | AA32: =IFERROR((M32-D32)/ABS(D32),"-") -> - | AB32: =IFERROR((N32-E32)/ABS(E32),"-") -> -0.08 | AC32: =IFERROR((O32-F32)/ABS(F32),"-") -> - | AD32: =IFERROR((P32-G32)/ABS(G32),"-") -> -0.13513514 | AF32: =Q32-H32 -> 0 | AG32: =R32-I32 -> 0 | AH32: =S32-J32 -> 0 | AI32: =T32-K32 -> 0 | AJ32: =IFERROR((Q32-H32)/ABS(H32),"-") -> - | AK32: =IFERROR((R32-I32)/ABS(I32),"-") -> - | AL32: =IFERROR((S32-J32)/ABS(J32),"-") -> - | AM32: =IFERROR((T32-K32)/ABS(K32),"-") -> -1.3552527e-16
B33: Land east and west of Malthouse Lane | C33: 1054 | D33: 1.32757 | E33: 0 | F33: 0 | G33: 12.29254 | H33: 2.35767 | I33: 0 | J33: 0 | K33: 2.05256 | M33: 2.02803 | N33: 0 | O33: 0 | P33: 12.81843 | Q33: 2.82293 | R33: 0 | S33: 0 | T33: 3.02853 | U33: =SUM(D33:T33) -> 38.72826 | W33: =M33-D33 -> 0.70046 | X33: =N33-E33 -> 0 | Y33: =O33-F33 -> 0 | Z33: =P33-G33 -> 0.52589 | AA33: =IFERROR((M33-D33)/ABS(D33),"-") -> 0.52762566 | AB33: =IFERROR((N33-E33)/ABS(E33),"-") -> - | AC33: =IFERROR((O33-F33)/ABS(F33),"-") -> - | AD33: =IFERROR((P33-G33)/ABS(G33),"-") -> 0.042781232 | AF33: =Q33-H33 -> 0.46526 | AG33: =R33-I33 -> 0 | AH33: =S33-J33 -> 0 | AI33: =T33-K33 -> 0.97597 | AJ33: =IFERROR((Q33-H33)/ABS(H33),"-") -> 0.1973389 | AK33: =IFERROR((R33-I33)/ABS(I33),"-") -> - | AL33: =IFERROR((S33-J33)/ABS(J33),"-") -> - | AM33: =IFERROR((T33-K33)/ABS(K33),"-") -> 0.47548915
C34: 1055 | D34: 0 | E34: 0 | F34: 0 | G34: 0 | H34: 0 | I34: 0 | J34: 0 | K34: 0 | M34: 0 | N34: 0 | O34: 0 | P34: 0 | Q34: 0 | R34: 0 | S34: 0 | T34: 0 | U34: =SUM(D34:T34) -> 0 | W34: =M34-D34 -> 0 | X34: =N34-E34 -> 0 | Y34: =O34-F34 -> 0 | Z34: =P34-G34 -> 0 | AA34: =IFERROR((M34-D34)/ABS(D34),"-") -> - | AB34: =IFERROR((N34-E34)/ABS(E34),"-") -> - | AC34: =IFERROR((O34-F34)/ABS(F34),"-") -> - | AD34: =IFERROR((P34-G34)/ABS(G34),"-") -> - | AF34: =Q34-H34 -> 0 | AG34: =R34-I34 -> 0 | AH34: =S34-J34 -> 0 | AI34: =T34-K34 -> 0 | AJ34: =IFERROR((Q34-H34)/ABS(H34),"-") -> - | AK34: =IFERROR((R34-I34)/ABS(I34),"-") -> - | AL34: =IFERROR((S34-J34)/ABS(J34),"-") -> - | AM34: =IFERROR((T34-K34)/ABS(K34),"-") -> -
C35: 1056 | D35: 0 | E35: 0 | F35: 0 | G35: 0 | H35: 0 | I35: 0 | J35: 0 | K35: 0 | M35: 0 | N35: 0 | O35: 0 | P35: 0 | Q35: 0 | R35: 0 | S35: 0 | T35: 0 | U35: =SUM(D35:T35) -> 0 | W35: =M35-D35 -> 0 | X35: =N35-E35 -> 0 | Y35: =O35-F35 -> 0 | Z35: =P35-G35 -> 0 | AA35: =IFERROR((M35-D35)/ABS(D35),"-") -> - | AB35: =IFERROR((N35-E35)/ABS(E35),"-") -> - | AC35: =IFERROR((O35-F35)/ABS(F35),"-") -> - | AD35: =IFERROR((P35-G35)/ABS(G35),"-") -> - | AF35: =Q35-H35 -> 0 | AG35: =R35-I35 -> 0 | AH35: =S35-J35 -> 0 | AI35: =T35-K35 -> 0 | AJ35: =IFERROR((Q35-H35)/ABS(H35),"-") -> - | AK35: =IFERROR((R35-I35)/ABS(I35),"-") -> - | AL35: =IFERROR((S35-J35)/ABS(J35),"-") -> - | AM35: =IFERROR((T35-K35)/ABS(K35),"-") -> -
C36: 1057 | D36: 0 | E36: 0 | F36: 0 | G36: 0 | H36: 0 | I36: 0 | J36: 0 | K36: 0 | M36: 0 | N36: 0 | O36: 0 | P36: 0 | Q36: 0 | R36: 0 | S36: 0 | T36: 0 | U36: =SUM(D36:T36) -> 0 | W36: =M36-D36 -> 0 | X36: =N36-E36 -> 0 | Y36: =O36-F36 -> 0 | Z36: =P36-G36 -> 0 | AA36: =IFERROR((M36-D36)/ABS(D36),"-") -> - | AB36: =IFERROR((N36-E36)/ABS(E36),"-") -> - | AC36: =IFERROR((O36-F36)/ABS(F36),"-") -> - | AD36: =IFERROR((P36-G36)/ABS(G36),"-") -> - | AF36: =Q36-H36 -> 0 | AG36: =R36-I36 -> 0 | AH36: =S36-J36 -> 0 | AI36: =T36-K36 -> 0 | AJ36: =IFERROR((Q36-H36)/ABS(H36),"-") -> - | AK36: =IFERROR((R36-I36)/ABS(I36),"-") -> - | AL36: =IFERROR((S36-J36)/ABS(J36),"-") -> - | AM36: =IFERROR((T36-K36)/ABS(K36),"-") -> -
B37: Land at North Colwell Farm, Lewes Road | C37: 1058 | D37: 0 | E37: 4e-05 | F37: 2e-05 | G37: 0 | H37: 0 | I37: 0 | J37: 0 | K37: 0 | M37: 0 | N37: 3e-05 | O37: 2e-05 | P37: 0 | Q37: 0 | R37: 0 | S37: 0 | T37: 0 | U37: =SUM(D37:T37) -> 0.00011 | W37: =M37-D37 -> 0 | X37: =N37-E37 -> -1e-05 | Y37: =O37-F37 -> 0 | Z37: =P37-G37 -> 0 | AA37: =IFERROR((M37-D37)/ABS(D37),"-") -> - | AB37: =IFERROR((N37-E37)/ABS(E37),"-") -> -0.25 | AC37: =IFERROR((O37-F37)/ABS(F37),"-") -> 0 | AD37: =IFERROR((P37-G37)/ABS(G37),"-") -> - | AF37: =Q37-H37 -> 0 | AG37: =R37-I37 -> 0 | AH37: =S37-J37 -> 0 | AI37: =T37-K37 -> 0 | AJ37: =IFERROR((Q37-H37)/ABS(H37),"-") -> - | AK37: =IFERROR((R37-I37)/ABS(I37),"-") -> - | AL37: =IFERROR((S37-J37)/ABS(J37),"-") -> - | AM37: =IFERROR((T37-K37)/ABS(K37),"-") -> -
C38: 1061 | D38: 0 | E38: 3.31236 | F38: 2.0057 | G38: 0 | H38: 0 | I38: 3.09204 | J38: 1.44541 | K38: 0 | M38: 0 | N38: 5.46034 | O38: 3.224 | P38: 0 | Q38: 0 | R38: 4.89709 | S38: 1.51711 | T38: 0 | U38: =SUM(D38:T38) -> 24.95405 | W38: =M38-D38 -> 0 | X38: =N38-E38 -> 2.14798 | Y38: =O38-F38 -> 1.2183 | Z38: =P38-G38 -> 0 | AA38: =IFERROR((M38-D38)/ABS(D38),"-") -> - | AB38: =IFERROR((N38-E38)/ABS(E38),"-") -> 0.6484742 | AC38: =IFERROR((O38-F38)/ABS(F38),"-") -> 0.60741886 | AD38: =IFERROR((P38-G38)/ABS(G38),"-") -> - | AF38: =Q38-H38 -> 0 | AG38: =R38-I38 -> 1.80505 | AH38: =S38-J38 -> 0.0717 | AI38: =T38-K38 -> 0 | AJ38: =IFERROR((Q38-H38)/ABS(H38),"-") -> - | AK38: =IFERROR((R38-I38)/ABS(I38),"-") -> 0.58377317 | AL38: =IFERROR((S38-J38)/ABS(J38),"-") -> 0.049605302 | AM38: =IFERROR((T38-K38)/ABS(K38),"-") -> -
C39: 1062 | D39: 0 | E39: 3.76493 | F39: 2.76748 | G39: 0 | H39: 0 | I39: 9.23957 | J39: 4.01478 | K39: 0 | M39: 0 | N39: 5.74532 | O39: 4.05107 | P39: 0 | Q39: 0 | R39: 4.9419 | S39: 5.98026 | T39: 0 | U39: =SUM(D39:T39) -> 40.50531 | W39: =M39-D39 -> 0 | X39: =N39-E39 -> 1.98039 | Y39: =O39-F39 -> 1.28359 | Z39: =P39-G39 -> 0 | AA39: =IFERROR((M39-D39)/ABS(D39),"-") -> - | AB39: =IFERROR((N39-E39)/ABS(E39),"-") -> 0.52600978 | AC39: =IFERROR((O39-F39)/ABS(F39),"-") -> 0.46381184 | AD39: =IFERROR((P39-G39)/ABS(G39),"-") -> - | AF39: =Q39-H39 -> 0 | AG39: =R39-I39 -> -4.29767 | AH39: =S39-J39 -> 1.96548 | AI39: =T39-K39 -> 0 | AJ39: =IFERROR((Q39-H39)/ABS(H39),"-") -> - | AK39: =IFERROR((R39-I39)/ABS(I39),"-") -> -0.46513745 | AL39: =IFERROR((S39-J39)/ABS(J39),"-") -> 0.48956107 | AM39: =IFERROR((T39-K39)/ABS(K39),"-") -> -
C40: 1063 | D40: 0 | E40: 5.02685 | F40: 2.75169 | G40: 0 | H40: 0 | I40: 3.91755 | J40: 4.4693 | K40: 0 | M40: 0 | N40: 8.06441 | O40: 4.63577 | P40: 0 | Q40: 0 | R40: 5.15292 | S40: 7.73711 | T40: 0 | U40: =SUM(D40:T40) -> 41.7556 | W40: =M40-D40 -> 0 | X40: =N40-E40 -> 3.03756 | Y40: =O40-F40 -> 1.88408 | Z40: =P40-G40 -> 0 | AA40: =IFERROR((M40-D40)/ABS(D40),"-") -> - | AB40: =IFERROR((N40-E40)/ABS(E40),"-") -> 0.60426709 | AC40: =IFERROR((O40-F40)/ABS(F40),"-") -> 0.68469922 | AD40: =IFERROR((P40-G40)/ABS(G40),"-") -> - | AF40: =Q40-H40 -> 0 | AG40: =R40-I40 -> 1.23537 | AH40: =S40-J40 -> 3.26781 | AI40: =T40-K40 -> 0 | AJ40: =IFERROR((Q40-H40)/ABS(H40),"-") -> - | AK40: =IFERROR((R40-I40)/ABS(I40),"-") -> 0.3153425 | AL40: =IFERROR((S40-J40)/ABS(J40),"-") -> 0.73116819 | AM40: =IFERROR((T40-K40)/ABS(K40),"-") -> -
C41: 1064 | D41: 0 | E41: 6.99949 | F41: 5.22708 | G41: 0 | H41: 0 | I41: 2.71884 | J41: 5.6836 | K41: 0 | M41: 0 | N41: 7.80606 | O41: 5.96605 | P41: 0 | Q41: 0 | R41: 4.0448 | S41: 6.40449 | T41: 0 | U41: =SUM(D41:T41) -> 44.85041 | W41: =M41-D41 -> 0 | X41: =N41-E41 -> 0.80657 | Y41: =O41-F41 -> 0.73897 | Z41: =P41-G41 -> 0 | AA41: =IFERROR((M41-D41)/ABS(D41),"-") -> - | AB41: =IFERROR((N41-E41)/ABS(E41),"-") -> 0.11523268 | AC41: =IFERROR((O41-F41)/ABS(F41),"-") -> 0.14137339 | AD41: =IFERROR((P41-G41)/ABS(G41),"-") -> - | AF41: =Q41-H41 -> 0 | AG41: =R41-I41 -> 1.32596 | AH41: =S41-J41 -> 0.72089 | AI41: =T41-K41 -> 0 | AJ41: =IFERROR((Q41-H41)/ABS(H41),"-") -> - | AK41: =IFERROR((R41-I41)/ABS(I41),"-") -> 0.48769328 | AL41: =IFERROR((S41-J41)/ABS(J41),"-") -> 0.12683686 | AM41: =IFERROR((T41-K41)/ABS(K41),"-") -> -
C42: 1065 | D42: 0 | E42: 86.97561 | F42: 0.00245 | G42: 0 | H42: 0 | I42: 53.34996 | J42: 0.00791 | K42: 0 | M42: 0 | N42: 90.97081 | O42: 0.00217 | P42: 0 | Q42: 0 | R42: 56.26781 | S42: 0.0236 | T42: 0 | U42: =SUM(D42:T42) -> 287.60032 | W42: =M42-D42 -> 0 | X42: =N42-E42 -> 3.9952 | Y42: =O42-F42 -> -0.00028 | Z42: =P42-G42 -> 0 | AA42: =IFERROR((M42-D42)/ABS(D42),"-") -> - | AB42: =IFERROR((N42-E42)/ABS(E42),"-") -> 0.045934717 | AC42: =IFERROR((O42-F42)/ABS(F42),"-") -> -0.11428571 | AD42: =IFERROR((P42-G42)/ABS(G42),"-") -> - | AF42: =Q42-H42 -> 0 | AG42: =R42-I42 -> 2.91785 | AH42: =S42-J42 -> 0.01569 | AI42: =T42-K42 -> 0 | AJ42: =IFERROR((Q42-H42)/ABS(H42),"-") -> - | AK42: =IFERROR((R42-I42)/ABS(I42),"-") -> 0.054692637 | AL42: =IFERROR((S42-J42)/ABS(J42),"-") -> 1.9835651 | AM42: =IFERROR((T42-K42)/ABS(K42),"-") -> -
C43: 1066 | D43: 1e-05 | E43: 0 | F43: 0 | G43: 1e-05 | H43: 0.27099 | I43: 0 | J43: 0 | K43: 0 | M43: 0 | N43: 0 | O43: 0 | P43: 0 | Q43: 0.26233 | R43: 0 | S43: 0 | T43: 0 | U43: =SUM(D43:T43) -> 0.53334 | W43: =M43-D43 -> -1e-05 | X43: =N43-E43 -> 0 | Y43: =O43-F43 -> 0 | Z43: =P43-G43 -> -1e-05 | AA43: =IFERROR((M43-D43)/ABS(D43),"-") -> -1 | AB43: =IFERROR((N43-E43)/ABS(E43),"-") -> - | AC43: =IFERROR((O43-F43)/ABS(F43),"-") -> - | AD43: =IFERROR((P43-G43)/ABS(G43),"-") -> -1 | AF43: =Q43-H43 -> -0.00866 | AG43: =R43-I43 -> 0 | AH43: =S43-J43 -> 0 | AI43: =T43-K43 -> 0 | AJ43: =IFERROR((Q43-H43)/ABS(H43),"-") -> -0.031956899 | AK43: =IFERROR((R43-I43)/ABS(I43),"-") -> - | AL43: =IFERROR((S43-J43)/ABS(J43),"-") -> - | AM43: =IFERROR((T43-K43)/ABS(K43),"-") -> -
...

Sheet Summary(Rounded)
B2: Hurstpierpoint High Street - Select Link Analyis - Trip End Summary | AM2: MID SUSSEX LOCAL PLAN SCENARIO 7
B4: Project: | C4: Mid Sussex Local Plan Scenario 7 | H4: Owner/s: | I4: SC & RJ | M4: Rounded to 1 decimal place | AK4: #VALUE!
B5: ProjID: | C5: GB01T26D08 | H5: Date: | I5: 46303 | R5: FILTER here to remove Zone with 0 trips on High Street
B7: Local Plan Site | C7: Zone ID | D7: Reference Case BF | M7: SC7M5 BF | U7: 0 or not 0 FILTER | W7: ABS Difference | AA7: % Difference | AF7: ABS Difference | AJ7: % Difference
D8: AM | H8: PM | M8: AM | Q8: PM | W8: AM | AA8: AM | AF8: PM | AJ8: PM
D9: Eastbound | F9: Westbound | H9: Eastbound | J9: Westbound | M9: Eastbound | O9: Westbound | Q9: Eastbound | S9: Westbound | W9: Eastbound | Y9: Westbound | AA9: Eastbound | AC9: Westbound | AF9: Eastbound | AH9: Westbound | AJ9: Eastbound | AL9: Westbound
D10: Origin | E10: Desti' | F10: Origin | G10: Desti' | H10: Origin | I10: Desti' | J10: Origin | K10: Desti' | M10: Origin | N10: Desti' | O10: Origin | P10: Desti' | Q10: Origin | R10: Desti' | S10: Origin | T10: Desti' | W10: Origin | X10: Desti' | Y10: Origin | Z10: Desti' | AA10: Origin | AB10: Desti' | AC10: Origin | AD10: Desti' | AF10: Origin | AG10: Desti' | AH10: Origin | AI10: Desti' | AJ10: Origin | AK10: Desti' | AL10: Origin | AM10: Desti'
C11: Total | D11: =SUM(D12:D865) -> 396.3 | E11: =SUM(E12:E865) -> 399.7 | F11: =SUM(F12:F865) -> 377.1 | G11: =SUM(G12:G865) -> 375.4 | H11: =SUM(H12:H865) -> 629.7 | I11: =SUM(I12:I865) -> 631.6 | J11: =SUM(J12:J865) -> 231.9 | K11: =SUM(K12:K865) -> 230.8 | M11: =SUM(M12:M865) -> 460.3 | N11: =SUM(N12:N865) -> 463.8 | O11: =SUM(O12:O865) -> 464.4 | P11: =SUM(P12:P865) -> 461.8 | Q11: =SUM(Q12:Q865) -> 749.6 | R11: =SUM(R12:R865) -> 752.4 | S11: =SUM(S12:S865) -> 273.2 | T11: =SUM(T12:T865) -> 271.9 | U11: =SUM(D11:T11) -> 7169.9 | W11: =M11-D11 -> 64 | X11: =N11-E11 -> 64.1 | Y11: =O11-F11 -> 87.3 | Z11: =P11-G11 -> 86.4 | AA11: =IFERROR(W11/D11,"-") -> 0.16149382 | AB11: =IFERROR(X11/E11,"-") -> 0.16037028 | AC11: =IFERROR(Y11/F11,"-") -> 0.23150358 | AD11: =IFERROR(Z11/G11,"-") -> 0.2301545 | AF11: =Q11-H11 -> 119.9 | AG11: =R11-I11 -> 120.8 | AH11: =S11-J11 -> 41.3 | AI11: =T11-K11 -> 41.1 | AJ11: =IFERROR(AF11/H11,"-") -> 0.19040813 | AK11: =IFERROR(AG11/I11,"-") -> 0.19126029 | AL11: =IFERROR(AH11/J11,"-") -> 0.17809401 | AM11: =IFERROR(AI11/K11,"-") -> 0.17807626
C12: 1026 | D12: =ROUND(Summary!D12,1) -> 0 | E12: =ROUND(Summary!E12,1) -> 60.3 | F12: =ROUND(Summary!F12,1) -> 48.1 | G12: =ROUND(Summary!G12,1) -> 0 | H12: =ROUND(Summary!H12,1) -> 0 | I12: =ROUND(Summary!I12,1) -> 39.5 | J12: =ROUND(Summary!J12,1) -> 62.1 | K12: =ROUND(Summary!K12,1) -> 0 | ... T12: =ROUND(Summary!T12,1) -> 0 | U12: =SUM(D12:T12) -> 388 | W12: =M12-D12 -> 0 | X12: =N12-E12 -> -36.5 | Y12: =O12-F12 -> 10.9 | Z12: =P12-G12 -> 0 | AA12: =IFERROR((M12-D12)/ABS(D12),"-") -> - | AB12: =IFERROR((N12-E12)/ABS(E12),"-") -> -0.6053068 | AC12: =IFERROR((O12-F12)/ABS(F12),"-") -> 0.22661123 | AD12: =IFERROR((P12-G12)/ABS(G12),"-") -> - | AF12: =Q12-H12 -> 0 | AG12: =R12-I12 -> -13.6 | AH12: =S12-J12 -> 7.2 | AI12: =T12-K12 -> 0 | AJ12: =IFERROR((Q12-H12)/ABS(H12),"-") -> - | AK12: =IFERROR((R12-I12)/ABS(I12),"-") -> -0.3443038 | AL12: =IFERROR((S12-J12)/ABS(J12),"-") -> 0.11594203 | AM12: =IFERROR((T12-K12)/ABS(K12),"-") -> -
C13: 1028 | D13: =ROUND(Summary!D13,1) -> 0 | E13: =ROUND(Summary!E13,1) -> 2.6 | F13: =ROUND(Summary!F13,1) -> 35.9 | G13: =ROUND(Summary!G13,1) -> 0 | H13: =ROUND(Summary!H13,1) -> 0 | I13: =ROUND(Summary!I13,1) -> 19.1 | J13: =ROUND(Summary!J13,1) -> 1.7 | K13: =ROUND(Summary!K13,1) -> 0 | ... T13: =ROUND(Summary!T13,1) -> 0 | U13: =SUM(D13:T13) -> 106.2 | W13: =M13-D13 -> 0 | X13: =N13-E13 -> 0.9 | Y13: =O13-F13 -> -15.9 | Z13: =P13-G13 -> 0 | AA13: =IFERROR((M13-D13)/ABS(D13),"-") -> - | AB13: =IFERROR((N13-E13)/ABS(E13),"-") -> 0.34615385 | AC13: =IFERROR((O13-F13)/ABS(F13),"-") -> -0.44289694 | AD13: =IFERROR((P13-G13)/ABS(G13),"-") -> - | AF13: =Q13-H13 -> 0 | AG13: =R13-I13 -> 0.6 | AH13: =S13-J13 -> 2 | AI13: =T13-K13 -> 0 | AJ13: =IFERROR((Q13-H13)/ABS(H13),"-") -> - | AK13: =IFERROR((R13-I13)/ABS(I13),"-") -> 0.031413613 | AL13: =IFERROR((S13-J13)/ABS(J13),"-") -> 1.1764706 | AM13: =IFERROR((T13-K13)/ABS(K13),"-") -> -
B14: Land east of College Lane | C14: 1029 | D14: =ROUND(Summary!D14,1) -> 0 | E14: =ROUND(Summary!E14,1) -> 69.8 | F14: =ROUND(Summary!F14,1) -> 70.3 | G14: =ROUND(Summary!G14,1) -> 0 | H14: =ROUND(Summary!H14,1) -> 0 | I14: =ROUND(Summary!I14,1) -> 189 | J14: =ROUND(Summary!J14,1) -> 47.6 | K14: =ROUND(Summary!K14,1) -> 0 | ... T14: =ROUND(Summary!T14,1) -> 0 | U14: =SUM(D14:T14) -> 891.6 | W14: =M14-D14 -> 0 | X14: =N14-E14 -> 20 | Y14: =O14-F14 -> 77.6 | Z14: =P14-G14 -> 0 | AA14: =IFERROR((M14-D14)/ABS(D14),"-") -> - | AB14: =IFERROR((N14-E14)/ABS(E14),"-") -> 0.28653295 | AC14: =IFERROR((O14-F14)/ABS(F14),"-") -> 1.1038407 | AD14: =IFERROR((P14-G14)/ABS(G14),"-") -> - | AF14: =Q14-H14 -> 0 | AG14: =R14-I14 -> 25.5 | AH14: =S14-J14 -> 15.1 | AI14: =T14-K14 -> 0 | AJ14: =IFERROR((Q14-H14)/ABS(H14),"-") -> - | AK14: =IFERROR((R14-I14)/ABS(I14),"-") -> 0.13492063 | AL14: =IFERROR((S14-J14)/ABS(J14),"-") -> 0.31722689 | AM14: =IFERROR((T14-K14)/ABS(K14),"-") -> -
B15: Land north of Willow Way and Talbot Mead, Cuckfield Road | C15: 1030 | D15: =ROUND(Summary!D15,1) -> 97.4 | E15: =ROUND(Summary!E15,1) -> 0 | F15: =ROUND(Summary!F15,1) -> 0 | G15: =ROUND(Summary!G15,1) -> 13.6 | H15: =ROUND(Summary!H15,1) -> 30.9 | I15: =ROUND(Summary!I15,1) -> 0 | J15: =ROUND(Summary!J15,1) -> 0 | K15: =ROUND(Summary!K15,1) -> 21.1 | ... T15: =ROUND(Summary!T15,1) -> 24.5 | U15: =SUM(D15:T15) -> 328 | W15: =M15-D15 -> -5.8 | X15: =N15-E15 -> 0 | Y15: =O15-F15 -> 0 | Z15: =P15-G15 -> 2.8 | AA15: =IFERROR((M15-D15)/ABS(D15),"-") -> -0.059548255 | AB15: =IFERROR((N15-E15)/ABS(E15),"-") -> - | AC15: =IFERROR((O15-F15)/ABS(F15),"-") -> - | AD15: =IFERROR((P15-G15)/ABS(G15),"-") -> 0.20588235 | AF15: =Q15-H15 -> 1.6 | AG15: =R15-I15 -> 0 | AH15: =S15-J15 -> 0 | AI15: =T15-K15 -> 3.4 | AJ15: =IFERROR((Q15-H15)/ABS(H15),"-") -> 0.051779935 | AK15: =IFERROR((R15-I15)/ABS(I15),"-") -> - | AL15: =IFERROR((S15-J15)/ABS(J15),"-") -> - | AM15: =IFERROR((T15-K15)/ABS(K15),"-") -> 0.16113744
C16: 1031 | D16: =ROUND(Summary!D16,1) -> 21.1 | E16: =ROUND(Summary!E16,1) -> 0 | F16: =ROUND(Summary!F16,1) -> 0 | G16: =ROUND(Summary!G16,1) -> 3.2 | H16: =ROUND(Summary!H16,1) -> 3 | I16: =ROUND(Summary!I16,1) -> 0 | J16: =ROUND(Summary!J16,1) -> 0 | K16: =ROUND(Summary!K16,1) -> 6.8 | ... T16: =ROUND(Summary!T16,1) -> 7.6 | U16: =SUM(D16:T16) -> 68.4 | W16: =M16-D16 -> -0.8 | X16: =N16-E16 -> 0 | Y16: =O16-F16 -> 0 | Z16: =P16-G16 -> 0.2 | AA16: =IFERROR((M16-D16)/ABS(D16),"-") -> -0.037914692 | AB16: =IFERROR((N16-E16)/ABS(E16),"-") -> - | AC16: =IFERROR((O16-F16)/ABS(F16),"-") -> - | AD16: =IFERROR((P16-G16)/ABS(G16),"-") -> 0.0625 | AF16: =Q16-H16 -> 0 | AG16: =R16-I16 -> 0 | AH16: =S16-J16 -> 0 | AI16: =T16-K16 -> 0.8 | AJ16: =IFERROR((Q16-H16)/ABS(H16),"-") -> 0 | AK16: =IFERROR((R16-I16)/ABS(I16),"-") -> - | AL16: =IFERROR((S16-J16)/ABS(J16),"-") -> - | AM16: =IFERROR((T16-K16)/ABS(K16),"-") -> 0.11764706
C17: 1033 | D17: =ROUND(Summary!D17,1) -> 0 | E17: =ROUND(Summary!E17,1) -> 0 | F17: =ROUND(Summary!F17,1) -> 0 | G17: =ROUND(Summary!G17,1) -> 0 | H17: =ROUND(Summary!H17,1) -> 0 | I17: =ROUND(Summary!I17,1) -> 0 | J17: =ROUND(Summary!J17,1) -> 0 | K17: =ROUND(Summary!K17,1) -> 0 | ... T17: =ROUND(Summary!T17,1) -> 0 | U17: =SUM(D17:T17) -> 0 | W17: =M17-D17 -> 0 | X17: =N17-E17 -> 0 | Y17: =O17-F17 -> 0 | Z17: =P17-G17 -> 0 | AA17: =IFERROR((M17-D17)/ABS(D17),"-") -> - | AB17: =IFERROR((N17-E17)/ABS(E17),"-") -> - | AC17: =IFERROR((O17-F17)/ABS(F17),"-") -> - | AD17: =IFERROR((P17-G17)/ABS(G17),"-") -> - | AF17: =Q17-H17 -> 0 | AG17: =R17-I17 -> 0 | AH17: =S17-J17 -> 0 | AI17: =T17-K17 -> 0 | AJ17: =IFERROR((Q17-H17)/ABS(H17),"-") -> - | AK17: =IFERROR((R17-I17)/ABS(I17),"-") -> - | AL17: =IFERROR((S17-J17)/ABS(J17),"-") -> - | AM17: =IFERROR((T17-K17)/ABS(K17),"-") -> -
B18: Land at Stairbridge Lane (South of Bolney Grange), Bolney | C18: 1034 | D18: =ROUND(Summary!D18,1) -> 0.3 | E18: =ROUND(Summary!E18,1) -> 0 | F18: =ROUND(Summary!F18,1) -> 0 | G18: =ROUND(Summary!G18,1) -> 1.6 | H18: =ROUND(Summary!H18,1) -> 1.6 | I18: =ROUND(Summary!I18,1) -> 0 | J18: =ROUND(Summary!J18,1) -> 0 | K18: =ROUND(Summary!K18,1) -> 0.1 | ... T18: =ROUND(Summary!T18,1) -> 0.2 | U18: =SUM(D18:T18) -> 6.4 | W18: =M18-D18 -> -0.1 | X18: =N18-E18 -> 0 | Y18: =O18-F18 -> 0 | Z18: =P18-G18 -> -0.4 | AA18: =IFERROR((M18-D18)/ABS(D18),"-") -> -0.33333333 | AB18: =IFERROR((N18-E18)/ABS(E18),"-") -> - | AC18: =IFERROR((O18-F18)/ABS(F18),"-") -> - | AD18: =IFERROR((P18-G18)/ABS(G18),"-") -> -0.25 | AF18: =Q18-H18 -> -0.4 | AG18: =R18-I18 -> 0 | AH18: =S18-J18 -> 0 | AI18: =T18-K18 -> 0.1 | AJ18: =IFERROR((Q18-H18)/ABS(H18),"-") -> -0.25 | AK18: =IFERROR((R18-I18)/ABS(I18),"-") -> - | AL18: =IFERROR((S18-J18)/ABS(J18),"-") -> - | AM18: =IFERROR((T18-K18)/ABS(K18),"-") -> 1
C19: 1035 | D19: =ROUND(Summary!D19,1) -> 1.2 | E19: =ROUND(Summary!E19,1) -> 0 | F19: =ROUND(Summary!F19,1) -> 0 | G19: =ROUND(Summary!G19,1) -> 3.5 | H19: =ROUND(Summary!H19,1) -> 1.4 | I19: =ROUND(Summary!I19,1) -> 0 | J19: =ROUND(Summary!J19,1) -> 0 | K19: =ROUND(Summary!K19,1) -> 0.9 | ... T19: =ROUND(Summary!T19,1) -> 0.9 | U19: =SUM(D19:T19) -> 13.9 | W19: =M19-D19 -> -0.6 | X19: =N19-E19 -> 0 | Y19: =O19-F19 -> 0 | Z19: =P19-G19 -> 0.4 | AA19: =IFERROR((M19-D19)/ABS(D19),"-") -> -0.5 | AB19: =IFERROR((N19-E19)/ABS(E19),"-") -> - | AC19: =IFERROR((O19-F19)/ABS(F19),"-") -> - | AD19: =IFERROR((P19-G19)/ABS(G19),"-") -> 0.11428571 | AF19: =Q19-H19 -> 0.1 | AG19: =R19-I19 -> 0 | AH19: =S19-J19 -> 0 | AI19: =T19-K19 -> 0 | AJ19: =IFERROR((Q19-H19)/ABS(H19),"-") -> 0.071428571 | AK19: =IFERROR((R19-I19)/ABS(I19),"-") -> - | AL19: =IFERROR((S19-J19)/ABS(J19),"-") -> - | AM19: =IFERROR((T19-K19)/ABS(K19),"-") -> 0
C20: 1036 | D20: =ROUND(Summary!D20,1) -> 2.8 | E20: =ROUND(Summary!E20,1) -> 0 | F20: =ROUND(Summary!F20,1) -> 0 | G20: =ROUND(Summary!G20,1) -> 0.4 | H20: =ROUND(Summary!H20,1) -> 11.5 | I20: =ROUND(Summary!I20,1) -> 0 | J20: =ROUND(Summary!J20,1) -> 0 | K20: =ROUND(Summary!K20,1) -> 0 | ... T20: =ROUND(Summary!T20,1) -> 0.3 | U20: =SUM(D20:T20) -> 18.6 | W20: =M20-D20 -> -2.5 | X20: =N20-E20 -> 0 | Y20: =O20-F20 -> 0 | Z20: =P20-G20 -> -0.3 | AA20: =IFERROR((M20-D20)/ABS(D20),"-") -> -0.89285714 | AB20: =IFERROR((N20-E20)/ABS(E20),"-") -> - | AC20: =IFERROR((O20-F20)/ABS(F20),"-") -> - | AD20: =IFERROR((P20-G20)/ABS(G20),"-") -> -0.75 | AF20: =Q20-H20 -> -8.3 | AG20: =R20-I20 -> 0 | AH20: =S20-J20 -> 0 | AI20: =T20-K20 -> 0.3 | AJ20: =IFERROR((Q20-H20)/ABS(H20),"-") -> -0.72173913 | AK20: =IFERROR((R20-I20)/ABS(I20),"-") -> - | AL20: =IFERROR((S20-J20)/ABS(J20),"-") -> - | AM20: =IFERROR((T20-K20)/ABS(K20),"-") -> -
C21: 1037 | D21: =ROUND(Summary!D21,1) -> 0 | E21: =ROUND(Summary!E21,1) -> 0 | F21: =ROUND(Summary!F21,1) -> 0 | G21: =ROUND(Summary!G21,1) -> 0 | H21: =ROUND(Summary!H21,1) -> 0 | I21: =ROUND(Summary!I21,1) -> 0 | J21: =ROUND(Summary!J21,1) -> 0 | K21: =ROUND(Summary!K21,1) -> 0 | ... T21: =ROUND(Summary!T21,1) -> 0 | U21: =SUM(D21:T21) -> 0 | W21: =M21-D21 -> 0 | X21: =N21-E21 -> 0 | Y21: =O21-F21 -> 0 | Z21: =P21-G21 -> 0 | AA21: =IFERROR((M21-D21)/ABS(D21),"-") -> - | AB21: =IFERROR((N21-E21)/ABS(E21),"-") -> - | AC21: =IFERROR((O21-F21)/ABS(F21),"-") -> - | AD21: =IFERROR((P21-G21)/ABS(G21),"-") -> - | AF21: =Q21-H21 -> 0 | AG21: =R21-I21 -> 0 | AH21: =S21-J21 -> 0 | AI21: =T21-K21 -> 0 | AJ21: =IFERROR((Q21-H21)/ABS(H21),"-") -> - | AK21: =IFERROR((R21-I21)/ABS(I21),"-") -> - | AL21: =IFERROR((S21-J21)/ABS(J21),"-") -> - | AM21: =IFERROR((T21-K21)/ABS(K21),"-") -> -
C22: 1038 | D22: =ROUND(Summary!D22,1) -> 0 | E22: =ROUND(Summary!E22,1) -> 0 | F22: =ROUND(Summary!F22,1) -> 0 | G22: =ROUND(Summary!G22,1) -> 0 | H22: =ROUND(Summary!H22,1) -> 0 | I22: =ROUND(Summary!I22,1) -> 0 | J22: =ROUND(Summary!J22,1) -> 0 | K22: =ROUND(Summary!K22,1) -> 0 | ... T22: =ROUND(Summary!T22,1) -> 0 | U22: =SUM(D22:T22) -> 0 | W22: =M22-D22 -> 0 | X22: =N22-E22 -> 0 | Y22: =O22-F22 -> 0 | Z22: =P22-G22 -> 0 | AA22: =IFERROR((M22-D22)/ABS(D22),"-") -> - | AB22: =IFERROR((N22-E22)/ABS(E22),"-") -> - | AC22: =IFERROR((O22-F22)/ABS(F22),"-") -> - | AD22: =IFERROR((P22-G22)/ABS(G22),"-") -> - | AF22: =Q22-H22 -> 0 | AG22: =R22-I22 -> 0 | AH22: =S22-J22 -> 0 | AI22: =T22-K22 -> 0 | AJ22: =IFERROR((Q22-H22)/ABS(H22),"-") -> - | AK22: =IFERROR((R22-I22)/ABS(I22),"-") -> - | AL22: =IFERROR((S22-J22)/ABS(J22),"-") -> - | AM22: =IFERROR((T22-K22)/ABS(K22),"-") -> -
C23: 1039 | D23: =ROUND(Summary!D23,1) -> 0 | E23: =ROUND(Summary!E23,1) -> 0 | F23: =ROUND(Summary!F23,1) -> 0 | G23: =ROUND(Summary!G23,1) -> 0 | H23: =ROUND(Summary!H23,1) -> 0 | I23: =ROUND(Summary!I23,1) -> 0 | J23: =ROUND(Summary!J23,1) -> 0 | K23: =ROUND(Summary!K23,1) -> 0 | ... T23: =ROUND(Summary!T23,1) -> 0 | U23: =SUM(D23:T23) -> 0 | W23: =M23-D23 -> 0 | X23: =N23-E23 -> 0 | Y23: =O23-F23 -> 0 | Z23: =P23-G23 -> 0 | AA23: =IFERROR((M23-D23)/ABS(D23),"-") -> - | AB23: =IFERROR((N23-E23)/ABS(E23),"-") -> - | AC23: =IFERROR((O23-F23)/ABS(F23),"-") -> - | AD23: =IFERROR((P23-G23)/ABS(G23),"-") -> - | AF23: =Q23-H23 -> 0 | AG23: =R23-I23 -> 0 | AH23: =S23-J23 -> 0 | AI23: =T23-K23 -> 0 | AJ23: =IFERROR((Q23-H23)/ABS(H23),"-") -> - | AK23: =IFERROR((R23-I23)/ABS(I23),"-") -> - | AL23: =IFERROR((S23-J23)/ABS(J23),"-") -> - | AM23: =IFERROR((T23-K23)/ABS(K23),"-") -> -
C24: 1040 | D24: =ROUND(Summary!D24,1) -> 0 | E24: =ROUND(Summary!E24,1) -> 0 | F24: =ROUND(Summary!F24,1) -> 0 | G24: =ROUND(Summary!G24,1) -> 0 | H24: =ROUND(Summary!H24,1) -> 0 | I24: =ROUND(Summary!I24,1) -> 0 | J24: =ROUND(Summary!J24,1) -> 0 | K24: =ROUND(Summary!K24,1) -> 0 | ... T24: =ROUND(Summary!T24,1) -> 0 | U24: =SUM(D24:T24) -> 0 | W24: =M24-D24 -> 0 | X24: =N24-E24 -> 0 | Y24: =O24-F24 -> 0 | Z24: =P24-G24 -> 0 | AA24: =IFERROR((M24-D24)/ABS(D24),"-") -> - | AB24: =IFERROR((N24-E24)/ABS(E24),"-") -> - | AC24: =IFERROR((O24-F24)/ABS(F24),"-") -> - | AD24: =IFERROR((P24-G24)/ABS(G24),"-") -> - | AF24: =Q24-H24 -> 0 | AG24: =R24-I24 -> 0 | AH24: =S24-J24 -> 0 | AI24: =T24-K24 -> 0 | AJ24: =IFERROR((Q24-H24)/ABS(H24),"-") -> - | AK24: =IFERROR((R24-I24)/ABS(I24),"-") -> - | AL24: =IFERROR((S24-J24)/ABS(J24),"-") -> - | AM24: =IFERROR((T24-K24)/ABS(K24),"-") -> -
B25: Land to the North of Old Wickham Lane | C25: 1041 | D25: =ROUND(Summary!D25,1) -> 0 | E25: =ROUND(Summary!E25,1) -> 0 | F25: =ROUND(Summary!F25,1) -> 0 | G25: =ROUND(Summary!G25,1) -> 0 | H25: =ROUND(Summary!H25,1) -> 0 | I25: =ROUND(Summary!I25,1) -> 0 | J25: =ROUND(Summary!J25,1) -> 0 | K25: =ROUND(Summary!K25,1) -> 0 | ... T25: =ROUND(Summary!T25,1) -> 0 | U25: =SUM(D25:T25) -> 0 | W25: =M25-D25 -> 0 | X25: =N25-E25 -> 0 | Y25: =O25-F25 -> 0 | Z25: =P25-G25 -> 0 | AA25: =IFERROR((M25-D25)/ABS(D25),"-") -> - | AB25: =IFERROR((N25-E25)/ABS(E25),"-") -> - | AC25: =IFERROR((O25-F25)/ABS(F25),"-") -> - | AD25: =IFERROR((P25-G25)/ABS(G25),"-") -> - | AF25: =Q25-H25 -> 0 | AG25: =R25-I25 -> 0 | AH25: =S25-J25 -> 0 | AI25: =T25-K25 -> 0 | AJ25: =IFERROR((Q25-H25)/ABS(H25),"-") -> - | AK25: =IFERROR((R25-I25)/ABS(I25),"-") -> - | AL25: =IFERROR((S25-J25)/ABS(J25),"-") -> - | AM25: =IFERROR((T25-K25)/ABS(K25),"-") -> -
C26: 1043 | D26: =ROUND(Summary!D26,1) -> 0 | E26: =ROUND(Summary!E26,1) -> 0 | F26: =ROUND(Summary!F26,1) -> 0 | G26: =ROUND(Summary!G26,1) -> 0 | H26: =ROUND(Summary!H26,1) -> 0 | I26: =ROUND(Summary!I26,1) -> 0 | J26: =ROUND(Summary!J26,1) -> 0 | K26: =ROUND(Summary!K26,1) -> 0 | ... T26: =ROUND(Summary!T26,1) -> 0 | U26: =SUM(D26:T26) -> 0 | W26: =M26-D26 -> 0 | X26: =N26-E26 -> 0 | Y26: =O26-F26 -> 0 | Z26: =P26-G26 -> 0 | AA26: =IFERROR((M26-D26)/ABS(D26),"-") -> - | AB26: =IFERROR((N26-E26)/ABS(E26),"-") -> - | AC26: =IFERROR((O26-F26)/ABS(F26),"-") -> - | AD26: =IFERROR((P26-G26)/ABS(G26),"-") -> - | AF26: =Q26-H26 -> 0 | AG26: =R26-I26 -> 0 | AH26: =S26-J26 -> 0 | AI26: =T26-K26 -> 0 | AJ26: =IFERROR((Q26-H26)/ABS(H26),"-") -> - | AK26: =IFERROR((R26-I26)/ABS(I26),"-") -> - | AL26: =IFERROR((S26-J26)/ABS(J26),"-") -> - | AM26: =IFERROR((T26-K26)/ABS(K26),"-") -> -
B27: Land to the north of Lyoth Lane | C27: 1044 | D27: =ROUND(Summary!D27,1) -> 0 | E27: =ROUND(Summary!E27,1) -> 0 | F27: =ROUND(Summary!F27,1) -> 0 | G27: =ROUND(Summary!G27,1) -> 0 | H27: =ROUND(Summary!H27,1) -> 0 | I27: =ROUND(Summary!I27,1) -> 0 | J27: =ROUND(Summary!J27,1) -> 0 | K27: =ROUND(Summary!K27,1) -> 0 | ... T27: =ROUND(Summary!T27,1) -> 0 | U27: =SUM(D27:T27) -> 0 | W27: =M27-D27 -> 0 | X27: =N27-E27 -> 0 | Y27: =O27-F27 -> 0 | Z27: =P27-G27 -> 0 | AA27: =IFERROR((M27-D27)/ABS(D27),"-") -> - | AB27: =IFERROR((N27-E27)/ABS(E27),"-") -> - | AC27: =IFERROR((O27-F27)/ABS(F27),"-") -> - | AD27: =IFERROR((P27-G27)/ABS(G27),"-") -> - | AF27: =Q27-H27 -> 0 | AG27: =R27-I27 -> 0 | AH27: =S27-J27 -> 0 | AI27: =T27-K27 -> 0 | AJ27: =IFERROR((Q27-H27)/ABS(H27),"-") -> - | AK27: =IFERROR((R27-I27)/ABS(I27),"-") -> - | AL27: =IFERROR((S27-J27)/ABS(J27),"-") -> - | AM27: =IFERROR((T27-K27)/ABS(K27),"-") -> -
C28: 1049 | D28: =ROUND(Summary!D28,1) -> 0 | E28: =ROUND(Summary!E28,1) -> 9.1 | F28: =ROUND(Summary!F28,1) -> 18.1 | G28: =ROUND(Summary!G28,1) -> 0 | H28: =ROUND(Summary!H28,1) -> 0 | I28: =ROUND(Summary!I28,1) -> 22.6 | J28: =ROUND(Summary!J28,1) -> 3.2 | K28: =ROUND(Summary!K28,1) -> 0 | ... T28: =ROUND(Summary!T28,1) -> 0 | U28: =SUM(D28:T28) -> 138.6 | W28: =M28-D28 -> 0 | X28: =N28-E28 -> 12.7 | Y28: =O28-F28 -> 9.2 | Z28: =P28-G28 -> 0 | AA28: =IFERROR((M28-D28)/ABS(D28),"-") -> - | AB28: =IFERROR((N28-E28)/ABS(E28),"-") -> 1.3956044 | AC28: =IFERROR((O28-F28)/ABS(F28),"-") -> 0.50828729 | AD28: =IFERROR((P28-G28)/ABS(G28),"-") -> - | AF28: =Q28-H28 -> 0 | AG28: =R28-I28 -> 9.4 | AH28: =S28-J28 -> 1.3 | AI28: =T28-K28 -> 0 | AJ28: =IFERROR((Q28-H28)/ABS(H28),"-") -> - | AK28: =IFERROR((R28-I28)/ABS(I28),"-") -> 0.4159292 | AL28: =IFERROR((S28-J28)/ABS(J28),"-") -> 0.40625 | AM28: =IFERROR((T28-K28)/ABS(K28),"-") -> -
B29: Land west of Ockley Lane | C29: 1050 | D29: =ROUND(Summary!D29,1) -> 0 | E29: =ROUND(Summary!E29,1) -> 8.5 | F29: =ROUND(Summary!F29,1) -> 52.8 | G29: =ROUND(Summary!G29,1) -> 0 | H29: =ROUND(Summary!H29,1) -> 0 | I29: =ROUND(Summary!I29,1) -> 78 | J29: =ROUND(Summary!J29,1) -> 28 | K29: =ROUND(Summary!K29,1) -> 0 | ... T29: =ROUND(Summary!T29,1) -> 0 | U29: =SUM(D29:T29) -> 338.7 | W29: =M29-D29 -> 0 | X29: =N29-E29 -> 18.8 | Y29: =O29-F29 -> -17.6 | Z29: =P29-G29 -> 0 | AA29: =IFERROR((M29-D29)/ABS(D29),"-") -> - | AB29: =IFERROR((N29-E29)/ABS(E29),"-") -> 2.2117647 | AC29: =IFERROR((O29-F29)/ABS(F29),"-") -> -0.33333333 | AD29: =IFERROR((P29-G29)/ABS(G29),"-") -> - | AF29: =Q29-H29 -> 0 | AG29: =R29-I29 -> 2.1 | AH29: =S29-J29 -> 0.8 | AI29: =T29-K29 -> 0 | AJ29: =IFERROR((Q29-H29)/ABS(H29),"-") -> - | AK29: =IFERROR((R29-I29)/ABS(I29),"-") -> 0.026923077 | AL29: =IFERROR((S29-J29)/ABS(J29),"-") -> 0.028571429 | AM29: =IFERROR((T29-K29)/ABS(K29),"-") -> -
C30: 1051 | D30: =ROUND(Summary!D30,1) -> 0 | E30: =ROUND(Summary!E30,1) -> 5.5 | F30: =ROUND(Summary!F30,1) -> 60 | G30: =ROUND(Summary!G30,1) -> 0 | H30: =ROUND(Summary!H30,1) -> 0 | I30: =ROUND(Summary!I30,1) -> 49.5 | J30: =ROUND(Summary!J30,1) -> 38.5 | K30: =ROUND(Summary!K30,1) -> 0 | ... T30: =ROUND(Summary!T30,1) -> 0 | U30: =SUM(D30:T30) -> 303.1 | W30: =M30-D30 -> 0 | X30: =N30-E30 -> -0.1 | Y30: =O30-F30 -> 0.1 | Z30: =P30-G30 -> 0 | AA30: =IFERROR((M30-D30)/ABS(D30),"-") -> - | AB30: =IFERROR((N30-E30)/ABS(E30),"-") -> -0.018181818 | AC30: =IFERROR((O30-F30)/ABS(F30),"-") -> 0.0016666667 | AD30: =IFERROR((P30-G30)/ABS(G30),"-") -> - | AF30: =Q30-H30 -> 0 | AG30: =R30-I30 -> -4 | AH30: =S30-J30 -> 0.1 | AI30: =T30-K30 -> 0 | AJ30: =IFERROR((Q30-H30)/ABS(H30),"-") -> - | AK30: =IFERROR((R30-I30)/ABS(I30),"-") -> -0.080808081 | AL30: =IFERROR((S30-J30)/ABS(J30),"-") -> 0.0025974026 | AM30: =IFERROR((T30-K30)/ABS(K30),"-") -> -
C31: 1052 | D31: =ROUND(Summary!D31,1) -> 0 | E31: =ROUND(Summary!E31,1) -> 1 | F31: =ROUND(Summary!F31,1) -> 1.9 | G31: =ROUND(Summary!G31,1) -> 0 | H31: =ROUND(Summary!H31,1) -> 0 | I31: =ROUND(Summary!I31,1) -> 3.4 | J31: =ROUND(Summary!J31,1) -> 0.4 | K31: =ROUND(Summary!K31,1) -> 0 | ... T31: =ROUND(Summary!T31,1) -> 0 | U31: =SUM(D31:T31) -> 34.7 | W31: =M31-D31 -> 0 | X31: =N31-E31 -> -0.2 | Y31: =O31-F31 -> 3.7 | Z31: =P31-G31 -> 0 | AA31: =IFERROR((M31-D31)/ABS(D31),"-") -> - | AB31: =IFERROR((N31-E31)/ABS(E31),"-") -> -0.2 | AC31: =IFERROR((O31-F31)/ABS(F31),"-") -> 1.9473684 | AD31: =IFERROR((P31-G31)/ABS(G31),"-") -> - | AF31: =Q31-H31 -> 0 | AG31: =R31-I31 -> 17.8 | AH31: =S31-J31 -> 0 | AI31: =T31-K31 -> 0 | AJ31: =IFERROR((Q31-H31)/ABS(H31),"-") -> - | AK31: =IFERROR((R31-I31)/ABS(I31),"-") -> 5.2352941 | AL31: =IFERROR((S31-J31)/ABS(J31),"-") -> 0 | AM31: =IFERROR((T31-K31)/ABS(K31),"-") -> -
B32: Land north east of Hurstpierpoint | C32: 1053 | D32: =ROUND(Summary!D32,1) -> 0 | E32: =ROUND(Summary!E32,1) -> 0 | F32: =ROUND(Summary!F32,1) -> 0 | G32: =ROUND(Summary!G32,1) -> 0 | H32: =ROUND(Summary!H32,1) -> 0 | I32: =ROUND(Summary!I32,1) -> 0 | J32: =ROUND(Summary!J32,1) -> 0 | K32: =ROUND(Summary!K32,1) -> 0 | ... T32: =ROUND(Summary!T32,1) -> 0 | U32: =SUM(D32:T32) -> 0 | W32: =M32-D32 -> 0 | X32: =N32-E32 -> 0 | Y32: =O32-F32 -> 0 | Z32: =P32-G32 -> 0 | AA32: =IFERROR((M32-D32)/ABS(D32),"-") -> - | AB32: =IFERROR((N32-E32)/ABS(E32),"-") -> - | AC32: =IFERROR((O32-F32)/ABS(F32),"-") -> - | AD32: =IFERROR((P32-G32)/ABS(G32),"-") -> - | AF32: =Q32-H32 -> 0 | AG32: =R32-I32 -> 0 | AH32: =S32-J32 -> 0 | AI32: =T32-K32 -> 0 | AJ32: =IFERROR((Q32-H32)/ABS(H32),"-") -> - | AK32: =IFERROR((R32-I32)/ABS(I32),"-") -> - | AL32: =IFERROR((S32-J32)/ABS(J32),"-") -> - | AM32: =IFERROR((T32-K32)/ABS(K32),"-") -> -
B33: Land east and west of Malthouse Lane | C33: 1054 | D33: =ROUND(Summary!D33,1) -> 1.3 | E33: =ROUND(Summary!E33,1) -> 0 | F33: =ROUND(Summary!F33,1) -> 0 | G33: =ROUND(Summary!G33,1) -> 12.3 | H33: =ROUND(Summary!H33,1) -> 2.4 | I33: =ROUND(Summary!I33,1) -> 0 | J33: =ROUND(Summary!J33,1) -> 0 | K33: =ROUND(Summary!K33,1) -> 2.1 | ... T33: =ROUND(Summary!T33,1) -> 3 | U33: =SUM(D33:T33) -> 38.7 | W33: =M33-D33 -> 0.7 | X33: =N33-E33 -> 0 | Y33: =O33-F33 -> 0 | Z33: =P33-G33 -> 0.5 | AA33: =IFERROR((M33-D33)/ABS(D33),"-") -> 0.53846154 | AB33: =IFERROR((N33-E33)/ABS(E33),"-") -> - | AC33: =IFERROR((O33-F33)/ABS(F33),"-") -> - | AD33: =IFERROR((P33-G33)/ABS(G33),"-") -> 0.040650407 | AF33: =Q33-H33 -> 0.4 | AG33: =R33-I33 -> 0 | AH33: =S33-J33 -> 0 | AI33: =T33-K33 -> 0.9 | AJ33: =IFERROR((Q33-H33)/ABS(H33),"-") -> 0.16666667 | AK33: =IFERROR((R33-I33)/ABS(I33),"-") -> - | AL33: =IFERROR((S33-J33)/ABS(J33),"-") -> - | AM33: =IFERROR((T33-K33)/ABS(K33),"-") -> 0.42857143
C34: 1055 | D34: =ROUND(Summary!D34,1) -> 0 | E34: =ROUND(Summary!E34,1) -> 0 | F34: =ROUND(Summary!F34,1) -> 0 | G34: =ROUND(Summary!G34,1) -> 0 | H34: =ROUND(Summary!H34,1) -> 0 | I34: =ROUND(Summary!I34,1) -> 0 | J34: =ROUND(Summary!J34,1) -> 0 | K34: =ROUND(Summary!K34,1) -> 0 | ... T34: =ROUND(Summary!T34,1) -> 0 | U34: =SUM(D34:T34) -> 0 | W34: =M34-D34 -> 0 | X34: =N34-E34 -> 0 | Y34: =O34-F34 -> 0 | Z34: =P34-G34 -> 0 | AA34: =IFERROR((M34-D34)/ABS(D34),"-") -> - | AB34: =IFERROR((N34-E34)/ABS(E34),"-") -> - | AC34: =IFERROR((O34-F34)/ABS(F34),"-") -> - | AD34: =IFERROR((P34-G34)/ABS(G34),"-") -> - | AF34: =Q34-H34 -> 0 | AG34: =R34-I34 -> 0 | AH34: =S34-J34 -> 0 | AI34: =T34-K34 -> 0 | AJ34: =IFERROR((Q34-H34)/ABS(H34),"-") -> - | AK34: =IFERROR((R34-I34)/ABS(I34),"-") -> - | AL34: =IFERROR((S34-J34)/ABS(J34),"-") -> - | AM34: =IFERROR((T34-K34)/ABS(K34),"-") -> -
C35: 1056 | D35: =ROUND(Summary!D35,1) -> 0 | E35: =ROUND(Summary!E35,1) -> 0 | F35: =ROUND(Summary!F35,1) -> 0 | G35: =ROUND(Summary!G35,1) -> 0 | H35: =ROUND(Summary!H35,1) -> 0 | I35: =ROUND(Summary!I35,1) -> 0 | J35: =ROUND(Summary!J35,1) -> 0 | K35: =ROUND(Summary!K35,1) -> 0 | ... T35: =ROUND(Summary!T35,1) -> 0 | U35: =SUM(D35:T35) -> 0 | W35: =M35-D35 -> 0 | X35: =N35-E35 -> 0 | Y35: =O35-F35 -> 0 | Z35: =P35-G35 -> 0 | AA35: =IFERROR((M35-D35)/ABS(D35),"-") -> - | AB35: =IFERROR((N35-E35)/ABS(E35),"-") -> - | AC35: =IFERROR((O35-F35)/ABS(F35),"-") -> - | AD35: =IFERROR((P35-G35)/ABS(G35),"-") -> - | AF35: =Q35-H35 -> 0 | AG35: =R35-I35 -> 0 | AH35: =S35-J35 -> 0 | AI35: =T35-K35 -> 0 | AJ35: =IFERROR((Q35-H35)/ABS(H35),"-") -> - | AK35: =IFERROR((R35-I35)/ABS(I35),"-") -> - | AL35: =IFERROR((S35-J35)/ABS(J35),"-") -> - | AM35: =IFERROR((T35-K35)/ABS(K35),"-") -> -
C36: 1057 | D36: =ROUND(Summary!D36,1) -> 0 | E36: =ROUND(Summary!E36,1) -> 0 | F36: =ROUND(Summary!F36,1) -> 0 | G36: =ROUND(Summary!G36,1) -> 0 | H36: =ROUND(Summary!H36,1) -> 0 | I36: =ROUND(Summary!I36,1) -> 0 | J36: =ROUND(Summary!J36,1) -> 0 | K36: =ROUND(Summary!K36,1) -> 0 | ... T36: =ROUND(Summary!T36,1) -> 0 | U36: =SUM(D36:T36) -> 0 | W36: =M36-D36 -> 0 | X36: =N36-E36 -> 0 | Y36: =O36-F36 -> 0 | Z36: =P36-G36 -> 0 | AA36: =IFERROR((M36-D36)/ABS(D36),"-") -> - | AB36: =IFERROR((N36-E36)/ABS(E36),"-") -> - | AC36: =IFERROR((O36-F36)/ABS(F36),"-") -> - | AD36: =IFERROR((P36-G36)/ABS(G36),"-") -> - | AF36: =Q36-H36 -> 0 | AG36: =R36-I36 -> 0 | AH36: =S36-J36 -> 0 | AI36: =T36-K36 -> 0 | AJ36: =IFERROR((Q36-H36)/ABS(H36),"-") -> - | AK36: =IFERROR((R36-I36)/ABS(I36),"-") -> - | AL36: =IFERROR((S36-J36)/ABS(J36),"-") -> - | AM36: =IFERROR((T36-K36)/ABS(K36),"-") -> -
B37: Land at North Colwell Farm, Lewes Road | C37: 1058 | D37: =ROUND(Summary!D37,1) -> 0 | E37: =ROUND(Summary!E37,1) -> 0 | F37: =ROUND(Summary!F37,1) -> 0 | G37: =ROUND(Summary!G37,1) -> 0 | H37: =ROUND(Summary!H37,1) -> 0 | I37: =ROUND(Summary!I37,1) -> 0 | J37: =ROUND(Summary!J37,1) -> 0 | K37: =ROUND(Summary!K37,1) -> 0 | ... T37: =ROUND(Summary!T37,1) -> 0 | U37: =SUM(D37:T37) -> 0 | W37: =M37-D37 -> 0 | X37: =N37-E37 -> 0 | Y37: =O37-F37 -> 0 | Z37: =P37-G37 -> 0 | AA37: =IFERROR((M37-D37)/ABS(D37),"-") -> - | AB37: =IFERROR((N37-E37)/ABS(E37),"-") -> - | AC37: =IFERROR((O37-F37)/ABS(F37),"-") -> - | AD37: =IFERROR((P37-G37)/ABS(G37),"-") -> - | AF37: =Q37-H37 -> 0 | AG37: =R37-I37 -> 0 | AH37: =S37-J37 -> 0 | AI37: =T37-K37 -> 0 | AJ37: =IFERROR((Q37-H37)/ABS(H37),"-") -> - | AK37: =IFERROR((R37-I37)/ABS(I37),"-") -> - | AL37: =IFERROR((S37-J37)/ABS(J37),"-") -> - | AM37: =IFERROR((T37-K37)/ABS(K37),"-") -> -
C38: 1061 | D38: =ROUND(Summary!D38,1) -> 0 | E38: =ROUND(Summary!E38,1) -> 3.3 | F38: =ROUND(Summary!F38,1) -> 2 | G38: =ROUND(Summary!G38,1) -> 0 | H38: =ROUND(Summary!H38,1) -> 0 | I38: =ROUND(Summary!I38,1) -> 3.1 | J38: =ROUND(Summary!J38,1) -> 1.4 | K38: =ROUND(Summary!K38,1) -> 0 | ... T38: =ROUND(Summary!T38,1) -> 0 | U38: =SUM(D38:T38) -> 24.9 | W38: =M38-D38 -> 0 | X38: =N38-E38 -> 2.2 | Y38: =O38-F38 -> 1.2 | Z38: =P38-G38 -> 0 | AA38: =IFERROR((M38-D38)/ABS(D38),"-") -> - | AB38: =IFERROR((N38-E38)/ABS(E38),"-") -> 0.66666667 | AC38: =IFERROR((O38-F38)/ABS(F38),"-") -> 0.6 | AD38: =IFERROR((P38-G38)/ABS(G38),"-") -> - | AF38: =Q38-H38 -> 0 | AG38: =R38-I38 -> 1.8 | AH38: =S38-J38 -> 0.1 | AI38: =T38-K38 -> 0 | AJ38: =IFERROR((Q38-H38)/ABS(H38),"-") -> - | AK38: =IFERROR((R38-I38)/ABS(I38),"-") -> 0.58064516 | AL38: =IFERROR((S38-J38)/ABS(J38),"-") -> 0.071428571 | AM38: =IFERROR((T38-K38)/ABS(K38),"-") -> -
C39: 1062 | D39: =ROUND(Summary!D39,1) -> 0 | E39: =ROUND(Summary!E39,1) -> 3.8 | F39: =ROUND(Summary!F39,1) -> 2.8 | G39: =ROUND(Summary!G39,1) -> 0 | H39: =ROUND(Summary!H39,1) -> 0 | I39: =ROUND(Summary!I39,1) -> 9.2 | J39: =ROUND(Summary!J39,1) -> 4 | K39: =ROUND(Summary!K39,1) -> 0 | ... T39: =ROUND(Summary!T39,1) -> 0 | U39: =SUM(D39:T39) -> 40.5 | W39: =M39-D39 -> 0 | X39: =N39-E39 -> 1.9 | Y39: =O39-F39 -> 1.3 | Z39: =P39-G39 -> 0 | AA39: =IFERROR((M39-D39)/ABS(D39),"-") -> - | AB39: =IFERROR((N39-E39)/ABS(E39),"-") -> 0.5 | AC39: =IFERROR((O39-F39)/ABS(F39),"-") -> 0.46428571 | AD39: =IFERROR((P39-G39)/ABS(G39),"-") -> - | AF39: =Q39-H39 -> 0 | AG39: =R39-I39 -> -4.3 | AH39: =S39-J39 -> 2 | AI39: =T39-K39 -> 0 | AJ39: =IFERROR((Q39-H39)/ABS(H39),"-") -> - | AK39: =IFERROR((R39-I39)/ABS(I39),"-") -> -0.4673913 | AL39: =IFERROR((S39-J39)/ABS(J39),"-") -> 0.5 | AM39: =IFERROR((T39-K39)/ABS(K39),"-") -> -
C40: 1063 | D40: =ROUND(Summary!D40,1) -> 0 | E40: =ROUND(Summary!E40,1) -> 5 | F40: =ROUND(Summary!F40,1) -> 2.8 | G40: =ROUND(Summary!G40,1) -> 0 | H40: =ROUND(Summary!H40,1) -> 0 | I40: =ROUND(Summary!I40,1) -> 3.9 | J40: =ROUND(Summary!J40,1) -> 4.5 | K40: =ROUND(Summary!K40,1) -> 0 | ... T40: =ROUND(Summary!T40,1) -> 0 | U40: =SUM(D40:T40) -> 41.8 | W40: =M40-D40 -> 0 | X40: =N40-E40 -> 3.1 | Y40: =O40-F40 -> 1.8 | Z40: =P40-G40 -> 0 | AA40: =IFERROR((M40-D40)/ABS(D40),"-") -> - | AB40: =IFERROR((N40-E40)/ABS(E40),"-") -> 0.62 | AC40: =IFERROR((O40-F40)/ABS(F40),"-") -> 0.64285714 | AD40: =IFERROR((P40-G40)/ABS(G40),"-") -> - | AF40: =Q40-H40 -> 0 | AG40: =R40-I40 -> 1.3 | AH40: =S40-J40 -> 3.2 | AI40: =T40-K40 -> 0 | AJ40: =IFERROR((Q40-H40)/ABS(H40),"-") -> - | AK40: =IFERROR((R40-I40)/ABS(I40),"-") -> 0.33333333 | AL40: =IFERROR((S40-J40)/ABS(J40),"-") -> 0.71111111 | AM40: =IFERROR((T40-K40)/ABS(K40),"-") -> -
C41: 1064 | D41: =ROUND(Summary!D41,1) -> 0 | E41: =ROUND(Summary!E41,1) -> 7 | F41: =ROUND(Summary!F41,1) -> 5.2 | G41: =ROUND(Summary!G41,1) -> 0 | H41: =ROUND(Summary!H41,1) -> 0 | I41: =ROUND(Summary!I41,1) -> 2.7 | J41: =ROUND(Summary!J41,1) -> 5.7 | K41: =ROUND(Summary!K41,1) -> 0 | ... T41: =ROUND(Summary!T41,1) -> 0 | U41: =SUM(D41:T41) -> 44.8 | W41: =M41-D41 -> 0 | X41: =N41-E41 -> 0.8 | Y41: =O41-F41 -> 0.8 | Z41: =P41-G41 -> 0 | AA41: =IFERROR((M41-D41)/ABS(D41),"-") -> - | AB41: =IFERROR((N41-E41)/ABS(E41),"-") -> 0.11428571 | AC41: =IFERROR((O41-F41)/ABS(F41),"-") -> 0.15384615 | AD41: =IFERROR((P41-G41)/ABS(G41),"-") -> - | AF41: =Q41-H41 -> 0 | AG41: =R41-I41 -> 1.3 | AH41: =S41-J41 -> 0.7 | AI41: =T41-K41 -> 0 | AJ41: =IFERROR((Q41-H41)/ABS(H41),"-") -> - | AK41: =IFERROR((R41-I41)/ABS(I41),"-") -> 0.48148148 | AL41: =IFERROR((S41-J41)/ABS(J41),"-") -> 0.12280702 | AM41: =IFERROR((T41-K41)/ABS(K41),"-") -> -
C42: 1065 | D42: =ROUND(Summary!D42,1) -> 0 | E42: =ROUND(Summary!E42,1) -> 87 | F42: =ROUND(Summary!F42,1) -> 0 | G42: =ROUND(Summary!G42,1) -> 0 | H42: =ROUND(Summary!H42,1) -> 0 | I42: =ROUND(Summary!I42,1) -> 53.3 | J42: =ROUND(Summary!J42,1) -> 0 | K42: =ROUND(Summary!K42,1) -> 0 | ... T42: =ROUND(Summary!T42,1) -> 0 | U42: =SUM(D42:T42) -> 287.6 | W42: =M42-D42 -> 0 | X42: =N42-E42 -> 4 | Y42: =O42-F42 -> 0 | Z42: =P42-G42 -> 0 | AA42: =IFERROR((M42-D42)/ABS(D42),"-") -> - | AB42: =IFERROR((N42-E42)/ABS(E42),"-") -> 0.045977011 | AC42: =IFERROR((O42-F42)/ABS(F42),"-") -> - | AD42: =IFERROR((P42-G42)/ABS(G42),"-") -> - | AF42: =Q42-H42 -> 0 | AG42: =R42-I42 -> 3 | AH42: =S42-J42 -> 0 | AI42: =T42-K42 -> 0 | AJ42: =IFERROR((Q42-H42)/ABS(H42),"-") -> - | AK42: =IFERROR((R42-I42)/ABS(I42),"-") -> 0.056285178 | AL42: =IFERROR((S42-J42)/ABS(J42),"-") -> - | AM42: =IFERROR((T42-K42)/ABS(K42),"-") -> -
