Workbook

Sheet Summary
B2: Hurstpierpoint High Street - Select Link Analyis - Trip End Summary | AM2: MID SUSSEX LOCAL PLAN SCENARIO 7
B4: Project: | C4: Mid Sussex Local Plan Scenario 7 | H4: Owner/s: | I4: SC & RJ | AK4: #VALUE!
B5: ProjID: | C5: GB01T26D08 | H5: Date: | I5: 46303 | R5: FILTER here to remove Zone with 0 trips on High Street
B7: Local Plan Site | C7: Zone ID | D7: Reference Case BF | M7: SC7M5 BF | U7: 0 or not 0 FILTER | W7: ABS Difference | AA7: % Difference | AF7: ABS Difference | AJ7: % Difference
D8: AM | H8: PM | M8: AM | Q8: PM | W8: AM | AA8: AM | AF8: PM | AJ8: PM
D9: Eastbound | F9: Westbound | H9: Eastbound | J9: Westbound | M9: Eastbound | O9: Westbound | Q9: Eastbound | S9: Westbound | W9: Eastbound | Y9: Westbound | AA9: Eastbound | AC9: Westbound | AF9: Eastbound | AH9: Westbound | AJ9: Eastbound | AL9: Westbound
D10: Origin | E10: Desti' | F10: Origin | G10: Desti' | H10: Origin | I10: Desti' | J10: Origin | K10: Desti' | M10: Origin | N10: Desti' | O10: Origin | P10: Desti' | Q10: Origin | R10: Desti' | S10: Origin | T10: Desti' | W10: Origin | X10: Desti' | Y10: Origin | Z10: Desti' | AA10: Origin | AB10: Desti' | AC10: Origin | AD10: Desti' | AF10: Origin | AG10: Desti' | AH10: Origin | AI10: Desti' | AJ10: Origin | AK10: Desti' | AL10: Origin | AM10: Desti'
C11: Total | D11: =SUM(D12:D865) -> 399.84149 | E11: =SUM(E12:E865) -> 399.84149 | F11: =SUM(F12:F865) -> 377.08178 | G11: =SUM(G12:G865) -> 377.08178 | H11: =SUM(H12:H865) -> 632.31338 | I11: =SUM(I12:I865) -> 632.31338 | J11: =SUM(J12:J865) -> 232.29377 | K11: =SUM(K12:K865) -> 232.29377 | M11: =SUM(M12:M865) -> 463.84418 | N11: =SUM(N12:N865) -> 463.84418 | O11: =SUM(O12:O865) -> 464.53965 | P11: =SUM(P12:P865) -> 464.53965 | Q11: =SUM(Q12:Q865) -> 753.04042 | R11: =SUM(R12:R865) -> 753.04042 | S11: =SUM(S12:S865) -> 273.52302 | T11: =SUM(T12:T865) -> 273.52302 | U11: =SUM(D11:T11) -> 7192.9554 | W11: =M11-D11 -> 64.00269 | X11: =N11-E11 -> 64.00269 | Y11: =O11-F11 -> 87.45787 | Z11: =P11-G11 -> 87.45787 | AA11: =IFERROR(W11/D11,"-") -> 0.16007016 | AB11: =IFERROR(X11/E11,"-") -> 0.16007016 | AC11: =IFERROR(Y11/F11,"-") -> 0.23193343 | AD11: =IFERROR(Z11/G11,"-") -> 0.23193343 | AF11: =Q11-H11 -> 120.72704 | AG11: =R11-I11 -> 120.72704 | AH11: =S11-J11 -> 41.22925 | AI11: =T11-K11 -> 41.22925 | AJ11: =IFERROR(AF11/H11,"-") -> 0.19092912 | AK11: =IFERROR(AG11/I11,"-") -> 0.19092912 | AL11: =IFERROR(AH11/J11,"-") -> 0.17748754 | AM11: =IFERROR(AI11/K11,"-") -> 0.17748754
C12: 1026 | D12: 0 | E12: 60.27736 | F12: 48.05433 | G12: 0 | H12: 0 | I12: 39.50049 | J12: 62.14072 | K12: 0 | M12: 0 | N12: 23.81352 | O12: 59.02858 | P12: 0 | Q12: 0 | R12: 25.89548 | S12: 69.333 | T12: 0 | U12: =SUM(D12:T12) -> 388.04348 | W12: =M12-D12 -> 0 | X12: =N12-E12 -> -36.46384 | Y12: =O12-F12 -> 10.97425 | Z12: =P12-G12 -> 0 | AA12: =IFERROR((M12-D12)/ABS(D12),"-") -> - | AB12: =IFERROR((N12-E12)/ABS(E12),"-") -> -0.60493426 | AC12: =IFERROR((O12-F12)/ABS(F12),"-") -> 0.22837172 | AD12: =IFERROR((P12-G12)/ABS(G12),"-") -> - | AF12: =Q12-H12 -> 0 | AG12: =R12-I12 -> -13.60501 | AH12: =S12-J12 -> 7.19228 | AI12: =T12-K12 -> 0 | AJ12: =IFERROR((Q12-H12)/ABS(H12),"-") -> - | AK12: =IFERROR((R12-I12)/ABS(I12),"-") -> -0.34442636 | AL12: =IFERROR((S12-J12)/ABS(J12),"-") -> 0.11574182 | AM12: =IFERROR((T12-K12)/ABS(K12),"-") -> -
C13: 1028 | D13: 0 | E13: 2.60271 | F13: 35.94353 | G13: 0 | H13: 0 | I13: 19.13147 | J13: 1.74031 | K13: 0 | M13: 0 | N13: 3.46992 | O13: 20.00228 | P13: 0 | Q13: 0 | R13: 19.65509 | S13: 3.67319 | T13: 0 | U13: =SUM(D13:T13) -> 106.2185 | W13: =M13-D13 -> 0 | X13: =N13-E13 -> 0.86721 | Y13: =O13-F13 -> -15.94125 | Z13: =P13-G13 -> 0 | AA13: =IFERROR((M13-D13)/ABS(D13),"-") -> - | AB13: =IFERROR((N13-E13)/ABS(E13),"-") -> 0.33319502 | AC13: =IFERROR((O13-F13)/ABS(F13),"-") -> -0.44350819 | AD13: =IFERROR((P13-G13)/ABS(G13),"-") -> - | AF13: =Q13-H13 -> 0 | AG13: =R13-I13 -> 0.52362 | AH13: =S13-J13 -> 1.93288 | AI13: =T13-K13 -> 0 | AJ13: =IFERROR((Q13-H13)/ABS(H13),"-") -> - | AK13: =IFERROR((R13-I13)/ABS(I13),"-") -> 0.027369564 | AL13: =IFERROR((S13-J13)/ABS(J13),"-") -> 1.1106527 | AM13: =IFERROR((T13-K13)/ABS(K13),"-") -> -
B14: Land east of College Lane | C14: 1029 | D14: 0 | E14: 69.75212 | F14: 70.25471 | G14: 0 | H14: 0 | I14: 188.97737 | J14: 47.62388 | K14: 0 | M14: 0 | N14: 89.76831 | O14: 147.86472 | P14: 0 | Q14: 0 | R14: 214.50788 | S14: 62.71229 | T14: 0 | U14: =SUM(D14:T14) -> 891.46128 | W14: =M14-D14 -> 0 | X14: =N14-E14 -> 20.01619 | Y14: =O14-F14 -> 77.61001 | Z14: =P14-G14 -> 0 | AA14: =IFERROR((M14-D14)/ABS(D14),"-") -> - | AB14: =IFERROR((N14-E14)/ABS(E14),"-") -> 0.28696174 | AC14: =IFERROR((O14-F14)/ABS(F14),"-") -> 1.1046948 | AD14: =IFERROR((P14-G14)/ABS(G14),"-") -> - | AF14: =Q14-H14 -> 0 | AG14: =R14-I14 -> 25.53051 | AH14: =S14-J14 -> 15.08841 | AI14: =T14-K14 -> 0 | AJ14: =IFERROR((Q14-H14)/ABS(H14),"-") -> - | AK14: =IFERROR((R14-I14)/ABS(I14),"-") -> 0.13509824 | AL14: =IFERROR((S14-J14)/ABS(J14),"-") -> 0.31682446 | AM14: =IFERROR((T14-K14)/ABS(K14),"-") -> -
B15: Land north of Willow Way and Talbot Mead, Cuckfield Road | C15: 1030 | D15: 97.41066 | E15: 0 | F15: 0 | G15: 13.63749 | H15: 30.91713 | I15: 0 | J15: 0 | K15: 21.09812 | M15: 91.61812 | N15: 0 | O15: 0 | P15: 16.37921 | Q15: 32.49524 | R15: 0 | S15: 0 | T15: 24.52288 | U15: =SUM(D15:T15) -> 328.07885 | W15: =M15-D15 -> -5.79254 | X15: =N15-E15 -> 0 | Y15: =O15-F15 -> 0 | Z15: =P15-G15 -> 2.74172 | AA15: =IFERROR((M15-D15)/ABS(D15),"-") -> -0.059465155 | AB15: =IFERROR((N15-E15)/ABS(E15),"-") -> - | AC15: =IFERROR((O15-F15)/ABS(F15),"-") -> - | AD15: =IFERROR((P15-G15)/ABS(G15),"-") -> 0.20104286 | AF15: =Q15-H15 -> 1.57811 | AG15: =R15-I15 -> 0 | AH15: =S15-J15 -> 0 | AI15: =T15-K15 -> 3.42476 | AJ15: =IFERROR((Q15-H15)/ABS(H15),"-") -> 0.051043224 | AK15: =IFERROR((R15-I15)/ABS(I15),"-") -> - | AL15: =IFERROR((S15-J15)/ABS(J15),"-") -> - | AM15: =IFERROR((T15-K15)/ABS(K15),"-") -> 0.16232536
C16: 1031 | D16: 21.10559 | E16: 0 | F16: 0 | G16: 3.18113 | H16: 2.98484 | I16: 0 | J16: 0 | K16: 6.77555 | M16: 20.3011 | N16: 0 | O16: 0 | P16: 3.35668 | Q16: 2.99873 | R16: 0 | S16: 0 | T16: 7.59816 | U16: =SUM(D16:T16) -> 68.30178 | W16: =M16-D16 -> -0.80449 | X16: =N16-E16 -> 0 | Y16: =O16-F16 -> 0 | Z16: =P16-G16 -> 0.17555 | AA16: =IFERROR((M16-D16)/ABS(D16),"-") -> -0.03811739 | AB16: =IFERROR((N16-E16)/ABS(E16),"-") -> - | AC16: =IFERROR((O16-F16)/ABS(F16),"-") -> - | AD16: =IFERROR((P16-G16)/ABS(G16),"-") -> 0.055184793 | AF16: =Q16-H16 -> 0.01389 | AG16: =R16-I16 -> 0 | AH16: =S16-J16 -> 0 | AI16: =T16-K16 -> 0.82261 | AJ16: =IFERROR((Q16-H16)/ABS(H16),"-") -> 0.0046535158 | AK16: =IFERROR((R16-I16)/ABS(I16),"-") -> - | AL16: =IFERROR((S16-J16)/ABS(J16),"-") -> - | AM16: =IFERROR((T16-K16)/ABS(K16),"-") -> 0.12140859
C17: 1033 | D17: 0 | E17: 0 | F17: 0 | G17: 0 | H17: 0 | I17: 0 | J17: 0 | K17: 0 | M17: 0 | N17: 0 | O17: 0 | P17: 0 | Q17: 0 | R17: 0 | S17: 0 | T17: 0 | U17: =SUM(D17:T17) -> 0 | W17: =M17-D17 -> 0 | X17: =N17-E17 -> 0 | Y17: =O17-F17 -> 0 | Z17: =P17-G17 -> 0 | AA17: =IFERROR((M17-D17)/ABS(D17),"-") -> - | AB17: =IFERROR((N17-E17)/ABS(E17),"-") -> - | AC17: =IFERROR((O17-F17)/ABS(F17),"-") -> - | AD17: =IFERROR((P17-G17)/ABS(G17),"-") -> - | AF17: =Q17-H17 -> 0 | AG17: =R17-I17 -> 0 | AH17: =S17-J17 -> 0 | AI17: =T17-K17 -> 0 | AJ17: =IFERROR((Q17-H17)/ABS(H17),"-") -> - | AK17: =IFERROR((R17-I17)/ABS(I17),"-") -> - | AL17: =IFERROR((S17-J17)/ABS(J17),"-") -> - | AM17: =IFERROR((T17-K17)/ABS(K17),"-") -> -
B18: Land at Stairbridge Lane (South of Bolney Grange), Bolney | C18: 1034 | D18: 0.302 | E18: 0 | F18: 0 | G18: 1.64266 | H18: 1.59438 | I18: 0 | J18: 0 | K18: 0.11904 | M18: 0.24267 | N18: 0 | O18: 0 | P18: 1.18293 | Q18: 1.15958 | R18: 0 | S18: 0 | T18: 0.19372 | U18: =SUM(D18:T18) -> 6.43698 | W18: =M18-D18 -> -0.05933 | X18: =N18-E18 -> 0 | Y18: =O18-F18 -> 0 | Z18: =P18-G18 -> -0.45973 | AA18: =IFERROR((M18-D18)/ABS(D18),"-") -> -0.19645695 | AB18: =IFERROR((N18-E18)/ABS(E18),"-") -> - | AC18: =IFERROR((O18-F18)/ABS(F18),"-") -> - | AD18: =IFERROR((P18-G18)/ABS(G18),"-") -> -0.27986924 | AF18: =Q18-H18 -> -0.4348 | AG18: =R18-I18 -> 0 | AH18: =S18-J18 -> 0 | AI18: =T18-K18 -> 0.07468 | AJ18: =IFERROR((Q18-H18)/ABS(H18),"-") -> -0.27270789 | AK18: =IFERROR((R18-I18)/ABS(I18),"-") -> - | AL18: =IFERROR((S18-J18)/ABS(J18),"-") -> - | AM18: =IFERROR((T18-K18)/ABS(K18),"-") -> 0.62735215
C19: 1035 | D19: 1.1781 | E19: 0 | F19: 0 | G19: 3.49919 | H19: 1.44563 | I19: 0 | J19: 0 | K19: 0.91569 | M19: 0.57914 | N19: 0 | O19: 0 | P19: 3.94902 | Q19: 1.45317 | R19: 0 | S19: 0 | T19: 0.91901 | U19: =SUM(D19:T19) -> 13.93895 | W19: =M19-D19 -> -0.59896 | X19: =N19-E19 -> 0 | Y19: =O19-F19 -> 0 | Z19: =P19-G19 -> 0.44983 | AA19: =IFERROR((M19-D19)/ABS(D19),"-") -> -0.50841185 | AB19: =IFERROR((N19-E19)/ABS(E19),"-") -> - | AC19: =IFERROR((O19-F19)/ABS(F19),"-") -> - | AD19: =IFERROR((P19-G19)/ABS(G19),"-") -> 0.12855261 | AF19: =Q19-H19 -> 0.00754 | AG19: =R19-I19 -> 0 | AH19: =S19-J19 -> 0 | AI19: =T19-K19 -> 0.00332 | AJ19: =IFERROR((Q19-H19)/ABS(H19),"-") -> 0.0052157191 | AK19: =IFERROR((R19-I19)/ABS(I19),"-") -> - | AL19: =IFERROR((S19-J19)/ABS(J19),"-") -> - | AM19: =IFERROR((T19-K19)/ABS(K19),"-") -> 0.0036256812
C20: 1036 | D20: 2.81382 | E20: 0 | F20: 0 | G20: 0.3851 | H20: 11.46419 | I20: 0 | J20: 0 | K20: 0.04663 | M20: 0.29384 | N20: 0 | O20: 0 | P20: 0.14371 | Q20: 3.19706 | R20: 0 | S20: 0 | T20: 0.26148 | U20: =SUM(D20:T20) -> 18.60583 | W20: =M20-D20 -> -2.51998 | X20: =N20-E20 -> 0 | Y20: =O20-F20 -> 0 | Z20: =P20-G20 -> -0.24139 | AA20: =IFERROR((M20-D20)/ABS(D20),"-") -> -0.89557257 | AB20: =IFERROR((N20-E20)/ABS(E20),"-") -> - | AC20: =IFERROR((O20-F20)/ABS(F20),"-") -> - | AD20: =IFERROR((P20-G20)/ABS(G20),"-") -> -0.6268242 | AF20: =Q20-H20 -> -8.26713 | AG20: =R20-I20 -> 0 | AH20: =S20-J20 -> 0 | AI20: =T20-K20 -> 0.21485 | AJ20: =IFERROR((Q20-H20)/ABS(H20),"-") -> -0.72112639 | AK20: =IFERROR((R20-I20)/ABS(I20),"-") -> - | AL20: =IFERROR((S20-J20)/ABS(J20),"-") -> - | AM20: =IFERROR((T20-K20)/ABS(K20),"-") -> 4.6075488
C21: 1037 | D21: 0 | E21: 0 | F21: 0 | G21: 0 | H21: 0.00229 | I21: 0 | J21: 0 | K21: 0 | M21: 0 | N21: 0 | O21: 0 | P21: 0 | Q21: 0.00174 | R21: 0 | S21: 0 | T21: 0 | U21: =SUM(D21:T21) -> 0.00403 | W21: =M21-D21 -> 0 | X21: =N21-E21 -> 0 | Y21: =O21-F21 -> 0 | Z21: =P21-G21 -> 0 | AA21: =IFERROR((M21-D21)/ABS(D21),"-") -> - | AB21: =IFERROR((N21-E21)/ABS(E21),"-") -> - | AC21: =IFERROR((O21-F21)/ABS(F21),"-") -> - | AD21: =IFERROR((P21-G21)/ABS(G21),"-") -> - | AF21: =Q21-H21 -> -0.00055 | AG21: =R21-I21 -> 0 | AH21: =S21-J21 -> 0 | AI21: =T21-K21 -> 0 | AJ21: =IFERROR((Q21-H21)/ABS(H21),"-") -> -0.24017467 | AK21: =IFERROR((R21-I21)/ABS(I21),"-") -> - | AL21: =IFERROR((S21-J21)/ABS(J21),"-") -> - | AM21: =IFERROR((T21-K21)/ABS(K21),"-") -> -
C22: 1038 | D22: 0.00054 | E22: 0 | F22: 0 | G22: 0.00015 | H22: 0.00015 | I22: 0 | J22: 0 | K22: 0 | M22: 0 | N22: 0 | O22: 0 | P22: 0.00043 | Q22: 0 | R22: 0 | S22: 0 | T22: 0 | U22: =SUM(D22:T22) -> 0.00127 | W22: =M22-D22 -> -0.00054 | X22: =N22-E22 -> 0 | Y22: =O22-F22 -> 0 | Z22: =P22-G22 -> 0.00028 | AA22: =IFERROR((M22-D22)/ABS(D22),"-") -> -1 | AB22: =IFERROR((N22-E22)/ABS(E22),"-") -> - | AC22: =IFERROR((O22-F22)/ABS(F22),"-") -> - | AD22: =IFERROR((P22-G22)/ABS(G22),"-") -> 1.8666667 | AF22: =Q22-H22 -> -0.00015 | AG22: =R22-I22 -> 0 | AH22: =S22-J22 -> 0 | AI22: =T22-K22 -> 0 | AJ22: =IFERROR((Q22-H22)/ABS(H22),"-") -> -1 | AK22: =IFERROR((R22-I22)/ABS(I22),"-") -> - | AL22: =IFERROR((S22-J22)/ABS(J22),"-") -> - | AM22: =IFERROR((T22-K22)/ABS(K22),"-") -> -
C23: 1039 | D23: 0 | E23: 0 | F23: 0 | G23: 0 | H23: 0 | I23: 0 | J23: 0 | K23: 0 | M23: 0 | N23: 0 | O23: 0 | P23: 0 | Q23: 0 | R23: 0 | S23: 0 | T23: 0 | U23: =SUM(D23:T23) -> 0 | W23: =M23-D23 -> 0 | X23: =N23-E23 -> 0 | Y23: =O23-F23 -> 0 | Z23: =P23-G23 -> 0 | AA23: =IFERROR((M23-D23)/ABS(D23),"-") -> - | AB23: =IFERROR((N23-E23)/ABS(E23),"-") -> - | AC23: =IFERROR((O23-F23)/ABS(F23),"-") -> - | AD23: =IFERROR((P23-G23)/ABS(G23),"-") -> - | AF23: =Q23-H23 -> 0 | AG23: =R23-I23 -> 0 | AH23: =S23-J23 -> 0 | AI23: =T23-K23 -> 0 | AJ23: =IFERROR((Q23-H23)/ABS(H23),"-") -> - | AK23: =IFERROR((R23-I23)/ABS(I23),"-") -> - | AL23: =IFERROR((S23-J23)/ABS(J23),"-") -> - | AM23: =IFERROR((T23-K23)/ABS(K23),"-") -> -
C24: 1040 | D24: 0 | E24: 0 | F24: 0 | G24: 0 | H24: 0 | I24: 0 | J24: 0 | K24: 0 | M24: 0 | N24: 0 | O24: 0 | P24: 0 | Q24: 0 | R24: 0 | S24: 0 | T24: 0 | U24: =SUM(D24:T24) -> 0 | W24: =M24-D24 -> 0 | X24: =N24-E24 -> 0 | Y24: =O24-F24 -> 0 | Z24: =P24-G24 -> 0 | AA24: =IFERROR((M24-D24)/ABS(D24),"-") -> - | AB24: =IFERROR((N24-E24)/ABS(E24),"-") -> - | AC24: =IFERROR((O24-F24)/ABS(F24),"-") -> - | AD24: =IFERROR((P24-G24)/ABS(G24),"-") -> - | AF24: =Q24-H24 -> 0 | AG24: =R24-I24 -> 0 | AH24: =S24-J24 -> 0 | AI24: =T24-K24 -> 0 | AJ24: =IFERROR((Q24-H24)/ABS(H24),"-") -> - | AK24: =IFERROR((R24-I24)/ABS(I24),"-") -> - | AL24: =IFERROR((S24-J24)/ABS(J24),"-") -> - | AM24: =IFERROR((T24-K24)/ABS(K24),"-") -> -
B25: Land to the North of Old Wickham Lane | C25: 1041 | D25: 0 | E25: 0 | F25: 0 | G25: 0 | H25: 0 | I25: 0 | J25: 0 | K25: 0 | M25: 0 | N25: 0 | O25: 0 | P25: 0 | Q25: 0 | R25: 0 | S25: 0 | T25: 0 | U25: =SUM(D25:T25) -> 0 | W25: =M25-D25 -> 0 | X25: =N25-E25 -> 0 | Y25: =O25-F25 -> 0 | Z25: =P25-G25 -> 0 | AA25: =IFERROR((M25-D25)/ABS(D25),"-") -> - | AB25: =IFERROR((N25-E25)/ABS(E25),"-") -> - | AC25: =IFERROR((O25-F25)/ABS(F25),"-") -> - | AD25: =IFERROR((P25-G25)/ABS(G25),"-") -> - | AF25: =Q25-H25 -> 0 | AG25: =R25-I25 -> 0 | AH25: =S25-J25 -> 0 | AI25: =T25-K25 -> 0 | AJ25: =IFERROR((Q25-H25)/ABS(H25),"-") -> - | AK25: =IFERROR((R25-I25)/ABS(I25),"-") -> - | AL25: =IFERROR((S25-J25)/ABS(J25),"-") -> - | AM25: =IFERROR((T25-K25)/ABS(K25),"-") -> -
C26: 1043 | D26: 0 | E26: 0 | F26: 0 | G26: 0 | H26: 0 | I26: 0 | J26: 0 | K26: 0 | M26: 0 | N26: 0 | O26: 0 | P26: 0 | Q26: 0 | R26: 0 | S26: 0 | T26: 0 | U26: =SUM(D26:T26) -> 0 | W26: =M26-D26 -> 0 | X26: =N26-E26 -> 0 | Y26: =O26-F26 -> 0 | Z26: =P26-G26 -> 0 | AA26: =IFERROR((M26-D26)/ABS(D26),"-") -> - | AB26: =IFERROR((N26-E26)/ABS(E26),"-") -> - | AC26: =IFERROR((O26-F26)/ABS(F26),"-") -> - | AD26: =IFERROR((P26-G26)/ABS(G26),"-") -> - | AF26: =Q26-H26 -> 0 | AG26: =R26-I26 -> 0 | AH26: =S26-J26 -> 0 | AI26: =T26-K26 -> 0 | AJ26: =IFERROR((Q26-H26)/ABS(H26),"-") -> - | AK26: =IFERROR((R26-I26)/ABS(I26),"-") -> - | AL26: =IFERROR((S26-J26)/ABS(J26),"-") -> - | AM26: =IFERROR((T26-K26)/ABS(K26),"-") -> -
B27: Land to the north of Lyoth Lane | C27: 1044 | D27: 0 | E27: 0 | F27: 0 | G27: 0 | H27: 0 | I27: 0 | J27: 0 | K27: 0 | M27: 0 | N27: 0 | O27: 0 | P27: 0 | Q27: 0 | R27: 0 | S27: 0 | T27: 0 | U27: =SUM(D27:T27) -> 0 | W27: =M27-D27 -> 0 | X27: =N27-E27 -> 0 | Y27: =O27-F27 -> 0 | Z27: =P27-G27 -> 0 | AA27: =IFERROR((M27-D27)/ABS(D27),"-") -> - | AB27: =IFERROR((N27-E27)/ABS(E27),"-") -> - | AC27: =IFERROR((O27-F27)/ABS(F27),"-") -> - | AD27: =IFERROR((P27-G27)/ABS(G27),"-") -> - | AF27: =Q27-H27 -> 0 | AG27: =R27-I27 -> 0 | AH27: =S27-J27 -> 0 | AI27: =T27-K27 -> 0 | AJ27: =IFERROR((Q27-H27)/ABS(H27),"-") -> - | AK27: =IFERROR((R27-I27)/ABS(I27),"-") -> - | AL27: =IFERROR((S27-J27)/ABS(J27),"-") -> - | AM27: =IFERROR((T27-K27)/ABS(K27),"-") -> -
C28: 1049 | D28: 0 | E28: 9.14096 | F28: 18.13327 | G28: 0 | H28: 0 | I28: 22.61419 | J28: 3.24304 | K28: 0 | M28: 0 | N28: 21.79043 | O28: 27.34518 | P28: 0 | Q28: 0 | R28: 32.03817 | S28: 4.45726 | T28: 0 | U28: =SUM(D28:T28) -> 138.7625 | W28: =M28-D28 -> 0 | X28: =N28-E28 -> 12.64947 | Y28: =O28-F28 -> 9.21191 | Z28: =P28-G28 -> 0 | AA28: =IFERROR((M28-D28)/ABS(D28),"-") -> - | AB28: =IFERROR((N28-E28)/ABS(E28),"-") -> 1.3838229 | AC28: =IFERROR((O28-F28)/ABS(F28),"-") -> 0.50801152 | AD28: =IFERROR((P28-G28)/ABS(G28),"-") -> - | AF28: =Q28-H28 -> 0 | AG28: =R28-I28 -> 9.42398 | AH28: =S28-J28 -> 1.21422 | AI28: =T28-K28 -> 0 | AJ28: =IFERROR((Q28-H28)/ABS(H28),"-") -> - | AK28: =IFERROR((R28-I28)/ABS(I28),"-") -> 0.41672861 | AL28: =IFERROR((S28-J28)/ABS(J28),"-") -> 0.37440796 | AM28: =IFERROR((T28-K28)/ABS(K28),"-") -> -
B29: Land west of Ockley Lane | C29: 1050 | D29: 0 | E29: 8.47772 | F29: 52.80919 | G29: 0 | H29: 0 | I29: 78.03228 | J29: 28.02053 | K29: 0 | M29: 0 | N29: 27.34177 | O29: 35.21623 | P29: 0 | Q29: 0 | R29: 80.05357 | S29: 28.79172 | T29: 0 | U29: =SUM(D29:T29) -> 338.74301 | W29: =M29-D29 -> 0 | X29: =N29-E29 -> 18.86405 | Y29: =O29-F29 -> -17.59296 | Z29: =P29-G29 -> 0 | AA29: =IFERROR((M29-D29)/ABS(D29),"-") -> - | AB29: =IFERROR((N29-E29)/ABS(E29),"-") -> 2.2251325 | AC29: =IFERROR((O29-F29)/ABS(F29),"-") -> -0.33314202 | AD29: =IFERROR((P29-G29)/ABS(G29),"-") -> - | AF29: =Q29-H29 -> 0 | AG29: =R29-I29 -> 2.02129 | AH29: =S29-J29 -> 0.77119 | AI29: =T29-K29 -> 0 | AJ29: =IFERROR((Q29-H29)/ABS(H29),"-") -> - | AK29: =IFERROR((R29-I29)/ABS(I29),"-") -> 0.025903254 | AL29: =IFERROR((S29-J29)/ABS(J29),"-") -> 0.02752232 | AM29: =IFERROR((T29-K29)/ABS(K29),"-") -> -
C30: 1051 | D30: 0 | E30: 5.51958 | F30: 60.02397 | G30: 0 | H30: 0 | I30: 49.49262 | J30: 38.49459 | K30: 0 | M30: 0 | N30: 5.41414 | O30: 60.11356 | P30: 0 | Q30: 0 | R30: 45.54967 | S30: 38.58686 | T30: 0 | U30: =SUM(D30:T30) -> 303.19499 | W30: =M30-D30 -> 0 | X30: =N30-E30 -> -0.10544 | Y30: =O30-F30 -> 0.08959 | Z30: =P30-G30 -> 0 | AA30: =IFERROR((M30-D30)/ABS(D30),"-") -> - | AB30: =IFERROR((N30-E30)/ABS(E30),"-") -> -0.019102903 | AC30: =IFERROR((O30-F30)/ABS(F30),"-") -> 0.0014925704 | AD30: =IFERROR((P30-G30)/ABS(G30),"-") -> - | AF30: =Q30-H30 -> 0 | AG30: =R30-I30 -> -3.94295 | AH30: =S30-J30 -> 0.09227 | AI30: =T30-K30 -> 0 | AJ30: =IFERROR((Q30-H30)/ABS(H30),"-") -> - | AK30: =IFERROR((R30-I30)/ABS(I30),"-") -> -0.079667433 | AL30: =IFERROR((S30-J30)/ABS(J30),"-") -> 0.0023969602 | AM30: =IFERROR((T30-K30)/ABS(K30),"-") -> -
C31: 1052 | D31: 0 | E31: 0.96172 | F31: 1.86017 | G31: 0 | H31: 0 | I31: 3.44991 | J31: 0.42572 | K31: 0 | M31: 0 | N31: 0.84785 | O31: 5.63258 | P31: 0 | Q31: 0 | R31: 21.18691 | S31: 0.42556 | T31: 0 | U31: =SUM(D31:T31) -> 34.79042 | W31: =M31-D31 -> 0 | X31: =N31-E31 -> -0.11387 | Y31: =O31-F31 -> 3.77241 | Z31: =P31-G31 -> 0 | AA31: =IFERROR((M31-D31)/ABS(D31),"-") -> - | AB31: =IFERROR((N31-E31)/ABS(E31),"-") -> -0.11840245 | AC31: =IFERROR((O31-F31)/ABS(F31),"-") -> 2.0279921 | AD31: =IFERROR((P31-G31)/ABS(G31),"-") -> - | AF31: =Q31-H31 -> 0 | AG31: =R31-I31 -> 17.737 | AH31: =S31-J31 -> -0.00016 | AI31: =T31-K31 -> 0 | AJ31: =IFERROR((Q31-H31)/ABS(H31),"-") -> - | AK31: =IFERROR((R31-I31)/ABS(I31),"-") -> 5.1412935 | AL31: =IFERROR((S31-J31)/ABS(J31),"-") -> -0.00037583388 | AM31: =IFERROR((T31-K31)/ABS(K31),"-") -> -
B32: Land north east of Hurstpierpoint | C32: 1053 | D32: 0 | E32: 0.00025 | F32: 0 | G32: 0.00037 | H32: 0 | I32: 0 | J32: 0 | K32: 5e-05 | M32: 0 | N32: 0.00023 | O32: 0 | P32: 0.00032 | Q32: 0 | R32: 0 | S32: 0 | T32: 5e-05 | U32: =SUM(D32:T32) -> 0.00127 | W32: =M32-D32 -> 0 | X32: =N32-E32 -> -2e-05 | Y32: =O32-F32 -> 0 | Z32: =P32-G32 -> -5e-05 | AA32: =IFERROR((M32-D32)/ABS(D32),"-") -> - | AB32: =IFERROR((N32-E32)/ABS(E32),"-") -> -0.08 | AC32: =IFERROR((O32-F32)/ABS(F32),"-") -> - | AD32: =IFERROR((P32-G32)/ABS(G32),"-") -> -0.13513514 | AF32: =Q32-H32 -> 0 | AG32: =R32-I32 -> 0 | AH32: =S32-J32 -> 0 | AI32: =T32-K32 -> 0 | AJ32: =IFERROR((Q32-H32)/ABS(H32),"-") -> - | AK32: =IFERROR((R32-I32)/ABS(I32),"-") -> - | AL32: =IFERROR((S32-J32)/ABS(J32),"-") -> - | AM32: =IFERROR((T32-K32)/ABS(K32),"-") -> -1.3552527e-16
B33: Land east and west of Malthouse Lane | C33: 1054 | D33: 1.32757 | E33: 0 | F33: 0 | G33: 12.29254 | H33: 2.35767 | I33: 0 | J33: 0 | K33: 2.05256 | M33: 2.02803 | N33: 0 | O33: 0 | P33: 12.81843 | Q33: 2.82293 | R33: 0 | S33: 0 | T33: 3.02853 | U33: =SUM(D33:T33) -> 38.72826 | W33: =M33-D33 -> 0.70046 | X33: =N33-E33 -> 0 | Y33: =O33-F33 -> 0 | Z33: =P33-G33 -> 0.52589 | AA33: =IFERROR((M33-D33)/ABS(D33),"-") -> 0.52762566 | AB33: =IFERROR((N33-E33)/ABS(E33),"-") -> - | AC33: =IFERROR((O33-F33)/ABS(F33),"-") -> - | AD33: =IFERROR((P33-G33)/ABS(G33),"-") -> 0.042781232 | AF33: =Q33-H33 -> 0.46526 | AG33: =R33-I33 -> 0 | AH33: =S33-J33 -> 0 | AI33: =T33-K33 -> 0.97597 | AJ33: =IFERROR((Q33-H33)/ABS(H33),"-") -> 0.1973389 | AK33: =IFERROR((R33-I33)/ABS(I33),"-") -> - | AL33: =IFERROR((S33-J33)/ABS(J33),"-") -> - | AM33: =IFERROR((T33-K33)/ABS(K33),"-") -> 0.47548915
C34: 1055 | D34: 0 | E34: 0 | F34: 0 | G34: 0 | H34: 0 | I34: 0 | J34: 0 | K34: 0 | M34: 0 | N34: 0 | O34: 0 | P34: 0 | Q34: 0 | R34: 0 | S34: 0 | T34: 0 | U34: =SUM(D34:T34) -> 0 | W34: =M34-D34 -> 0 | X34: =N34-E34 -> 0 | Y34: =O34-F34 -> 0 | Z34: =P34-G34 -> 0 | AA34: =IFERROR((M34-D34)/ABS(D34),"-") -> - | AB34: =IFERROR((N34-E34)/ABS(E34),"-") -> - | AC34: =IFERROR((O34-F34)/ABS(F34),"-") -> - | AD34: =IFERROR((P34-G34)/ABS(G34),"-") -> - | AF34: =Q34-H34 -> 0 | AG34: =R34-I34 -> 0 | AH34: =S34-J34 -> 0 | AI34: =T34-K34 -> 0 | AJ34: =IFERROR((Q34-H34)/ABS(H34),"-") -> - | AK34: =IFERROR((R34-I34)/ABS(I34),"-") -> - | AL34: =IFERROR((S34-J34)/ABS(J34),"-") -> - | AM34: =IFERROR((T34-K34)/ABS(K34),"-") -> -
C35: 1056 | D35: 0 | E35: 0 | F35: 0 | G35: 0 | H35: 0 | I35: 0 | J35: 0 | K35: 0 | M35: 0 | N35: 0 | O35: 0 | P35: 0 | Q35: 0 | R35: 0 | S35: 0 | T35: 0 | U35: =SUM(D35:T35) -> 0 | W35: =M35-D35 -> 0 | X35: =N35-E35 -> 0 | Y35: =O35-F35 -> 0 | Z35: =P35-G35 -> 0 | AA35: =IFERROR((M35-D35)/ABS(D35),"-") -> - | AB35: =IFERROR((N35-E35)/ABS(E35),"-") -> - | AC35: =IFERROR((O35-F35)/ABS(F35),"-") -> - | AD35: =IFERROR((P35-G35)/ABS(G35),"-") -> - | AF35: =Q35-H35 -> 0 | AG35: =R35-I35 -> 0 | AH35: =S35-J35 -> 0 | AI35: =T35-K35 -> 0 | AJ35: =IFERROR((Q35-H35)/ABS(H35),"-") -> - | AK35: =IFERROR((R35-I35)/ABS(I35),"-") -> - | AL35: =IFERROR((S35-J35)/ABS(J35),"-") -> - | AM35: =IFERROR((T35-K35)/ABS(K35),"-") -> -
C36: 1057 | D36: 0 | E36: 0 | F36: 0 | G36: 0 | H36: 0 | I36: 0 | J36: 0 | K36: 0 | M36: 0 | N36: 0 | O36: 0 | P36: 0 | Q36: 0 | R36: 0 | S36: 0 | T36: 0 | U36: =SUM(D36:T36) -> 0 | W36: =M36-D36 -> 0 | X36: =N36-E36 -> 0 | Y36: =O36-F36 -> 0 | Z36: =P36-G36 -> 0 | AA36: =IFERROR((M36-D36)/ABS(D36),"-") -> - | AB36: =IFERROR((N36-E36)/ABS(E36),"-") -> - | AC36: =IFERROR((O36-F36)/ABS(F36),"-") -> - | AD36: =IFERROR((P36-G36)/ABS(G36),"-") -> - | AF36: =Q36-H36 -> 0 | AG36: =R36-I36 -> 0 | AH36: =S36-J36 -> 0 | AI36: =T36-K36 -> 0 | AJ36: =IFERROR((Q36-H36)/ABS(H36),"-") -> - | AK36: =IFERROR((R36-I36)/ABS(I36),"-") -> - | AL36: =IFERROR((S36-J36)/ABS(J36),"-") -> - | AM36: =IFERROR((T36-K36)/ABS(K36),"-") -> -
B37: Land at North Colwell Farm, Lewes Road | C37: 1058 | D37: 0 | E37: 4e-05 | F37: 2e-05 | G37: 0 | H37: 0 | I37: 0 | J37: 0 | K37: 0 | M37: 0 | N37: 3e-05 | O37: 2e-05 | P37: 0 | Q37: 0 | R37: 0 | S37: 0 | T37: 0 | U37: =SUM(D37:T37) -> 0.00011 | W37: =M37-D37 -> 0 | X37: =N37-E37 -> -1e-05 | Y37: =O37-F37 -> 0 | Z37: =P37-G37 -> 0 | AA37: =IFERROR((M37-D37)/ABS(D37),"-") -> - | AB37: =IFERROR((N37-E37)/ABS(E37),"-") -> -0.25 | AC37: =IFERROR((O37-F37)/ABS(F37),"-") -> 0 | AD37: =IFERROR((P37-G37)/ABS(G37),"-") -> - | AF37: =Q37-H37 -> 0 | AG37: =R37-I37 -> 0 | AH37: =S37-J37 -> 0 | AI37: =T37-K37 -> 0 | AJ37: =IFERROR((Q37-H37)/ABS(H37),"-") -> - | AK37: =IFERROR((R37-I37)/ABS(I37),"-") -> - | AL37: =IFERROR((S37-J37)/ABS(J37),"-") -> - | AM37: =IFERROR((T37-K37)/ABS(K37),"-") -> -
C38: 1061 | D38: 0 | E38: 3.31236 | F38: 2.0057 | G38: 0 | H38: 0 | I38: 3.09204 | J38: 1.44541 | K38: 0 | M38: 0 | N38: 5.46034 | O38: 3.224 | P38: 0 | Q38: 0 | R38: 4.89709 | S38: 1.51711 | T38: 0 | U38: =SUM(D38:T38) -> 24.95405 | W38: =M38-D38 -> 0 | X38: =N38-E38 -> 2.14798 | Y38: =O38-F38 -> 1.2183 | Z38: =P38-G38 -> 0 | AA38: =IFERROR((M38-D38)/ABS(D38),"-") -> - | AB38: =IFERROR((N38-E38)/ABS(E38),"-") -> 0.6484742 | AC38: =IFERROR((O38-F38)/ABS(F38),"-") -> 0.60741886 | AD38: =IFERROR((P38-G38)/ABS(G38),"-") -> - | AF38: =Q38-H38 -> 0 | AG38: =R38-I38 -> 1.80505 | AH38: =S38-J38 -> 0.0717 | AI38: =T38-K38 -> 0 | AJ38: =IFERROR((Q38-H38)/ABS(H38),"-") -> - | AK38: =IFERROR((R38-I38)/ABS(I38),"-") -> 0.58377317 | AL38: =IFERROR((S38-J38)/ABS(J38),"-") -> 0.049605302 | AM38: =IFERROR((T38-K38)/ABS(K38),"-") -> -
C39: 1062 | D39: 0 | E39: 3.76493 | F39: 2.76748 | G39: 0 | H39: 0 | I39: 9.23957 | J39: 4.01478 | K39: 0 | M39: 0 | N39: 5.74532 | O39: 4.05107 | P39: 0 | Q39: 0 | R39: 4.9419 | S39: 5.98026 | T39: 0 | U39: =SUM(D39:T39) -> 40.50531 | W39: =M39-D39 -> 0 | X39: =N39-E39 -> 1.98039 | Y39: =O39-F39 -> 1.28359 | Z39: =P39-G39 -> 0 | AA39: =IFERROR((M39-D39)/ABS(D39),"-") -> - | AB39: =IFERROR((N39-E39)/ABS(E39),"-") -> 0.52600978 | AC39: =IFERROR((O39-F39)/ABS(F39),"-") -> 0.46381184 | AD39: =IFERROR((P39-G39)/ABS(G39),"-") -> - | AF39: =Q39-H39 -> 0 | AG39: =R39-I39 -> -4.29767 | AH39: =S39-J39 -> 1.96548 | AI39: =T39-K39 -> 0 | AJ39: =IFERROR((Q39-H39)/ABS(H39),"-") -> - | AK39: =IFERROR((R39-I39)/ABS(I39),"-") -> -0.46513745 | AL39: =IFERROR((S39-J39)/ABS(J39),"-") -> 0.48956107 | AM39: =IFERROR((T39-K39)/ABS(K39),"-") -> -
C40: 1063 | D40: 0 | E40: 5.02685 | F40: 2.75169 | G40: 0 | H40: 0 | I40: 3.91755 | J40: 4.4693 | K40: 0 | M40: 0 | N40: 8.06441 | O40: 4.63577 | P40: 0 | Q40: 0 | R40: 5.15292 | S40: 7.73711 | T40: 0 | U40: =SUM(D40:T40) -> 41.7556 | W40: =M40-D40 -> 0 | X40: =N40-E40 -> 3.03756 | Y40: =O40-F40 -> 1.88408 | Z40: =P40-G40 -> 0 | AA40: =IFERROR((M40-D40)/ABS(D40),"-") -> - | AB40: =IFERROR((N40-E40)/ABS(E40),"-") -> 0.60426709 | AC40: =IFERROR((O40-F40)/ABS(F40),"-") -> 0.68469922 | AD40: =IFERROR((P40-G40)/ABS(G40),"-") -> - | AF40: =Q40-H40 -> 0 | AG40: =R40-I40 -> 1.23537 | AH40: =S40-J40 -> 3.26781 | AI40: =T40-K40 -> 0 | AJ40: =IFERROR((Q40-H40)/ABS(H40),"-") -> - | AK40: =IFERROR((R40-I40)/ABS(I40),"-") -> 0.3153425 | AL40: =IFERROR((S40-J40)/ABS(J40),"-") -> 0.73116819 | AM40: =IFERROR((T40-K40)/ABS(K40),"-") -> -
C41: 1064 | D41: 0 | E41: 6.99949 | F41: 5.22708 | G41: 0 | H41: 0 | I41: 2.71884 | J41: 5.6836 | K41: 0 | M41: 0 | N41: 7.80606 | O41: 5.96605 | P41: 0 | Q41: 0 | R41: 4.0448 | S41: 6.40449 | T41: 0 | U41: =SUM(D41:T41) -> 44.85041 | W41: =M41-D41 -> 0 | X41: =N41-E41 -> 0.80657 | Y41: =O41-F41 -> 0.73897 | Z41: =P41-G41 -> 0 | AA41: =IFERROR((M41-D41)/ABS(D41),"-") -> - | AB41: =IFERROR((N41-E41)/ABS(E41),"-") -> 0.11523268 | AC41: =IFERROR((O41-F41)/ABS(F41),"-") -> 0.14137339 | AD41: =IFERROR((P41-G41)/ABS(G41),"-") -> - | AF41: =Q41-H41 -> 0 | AG41: =R41-I41 -> 1.32596 | AH41: =S41-J41 -> 0.72089 | AI41: =T41-K41 -> 0 | AJ41: =IFERROR((Q41-H41)/ABS(H41),"-") -> - | AK41: =IFERROR((R41-I41)/ABS(I41),"-") -> 0.48769328 | AL41: =IFERROR((S41-J41)/ABS(J41),"-") -> 0.12683686 | AM41: =IFERROR((T41-K41)/ABS(K41),"-") -> -
C42: 1065 | D42: 0 | E42: 86.97561 | F42: 0.00245 | G42: 0 | H42: 0 | I42: 53.34996 | J42: 0.00791 | K42: 0 | M42: 0 | N42: 90.97081 | O42: 0.00217 | P42: 0 | Q42: 0 | R42: 56.26781 | S42: 0.0236 | T42: 0 | U42: =SUM(D42:T42) -> 287.60032 | W42: =M42-D42 -> 0 | X42: =N42-E42 -> 3.9952 | Y42: =O42-F42 -> -0.00028 | Z42: =P42-G42 -> 0 | AA42: =IFERROR((M42-D42)/ABS(D42),"-") -> - | AB42: =IFERROR((N42-E42)/ABS(E42),"-") -> 0.045934717 | AC42: =IFERROR((O42-F42)/ABS(F42),"-") -> -0.11428571 | AD42: =IFERROR((P42-G42)/ABS(G42),"-") -> - | AF42: =Q42-H42 -> 0 | AG42: =R42-I42 -> 2.91785 | AH42: =S42-J42 -> 0.01569 | AI42: =T42-K42 -> 0 | AJ42: =IFERROR((Q42-H42)/ABS(H42),"-") -> - | AK42: =IFERROR((R42-I42)/ABS(I42),"-") -> 0.054692637 | AL42: =IFERROR((S42-J42)/ABS(J42),"-") -> 1.9835651 | AM42: =IFERROR((T42-K42)/ABS(K42),"-") -> -
C43: 1066 | D43: 1e-05 | E43: 0 | F43: 0 | G43: 1e-05 | H43: 0.27099 | I43: 0 | J43: 0 | K43: 0 | M43: 0 | N43: 0 | O43: 0 | P43: 0 | Q43: 0.26233 | R43: 0 | S43: 0 | T43: 0 | U43: =SUM(D43:T43) -> 0.53334 | W43: =M43-D43 -> -1e-05 | X43: =N43-E43 -> 0 | Y43: =O43-F43 -> 0 | Z43: =P43-G43 -> -1e-05 | AA43: =IFERROR((M43-D43)/ABS(D43),"-") -> -1 | AB43: =IFERROR((N43-E43)/ABS(E43),"-") -> - | AC43: =IFERROR((O43-F43)/ABS(F43),"-") -> - | AD43: =IFERROR((P43-G43)/ABS(G43),"-") -> -1 | AF43: =Q43-H43 -> -0.00866 | AG43: =R43-I43 -> 0 | AH43: =S43-J43 -> 0 | AI43: =T43-K43 -> 0 | AJ43: =IFERROR((Q43-H43)/ABS(H43),"-") -> -0.031956899 | AK43: =IFERROR((R43-I43)/ABS(I43),"-") -> - | AL43: =IFERROR((S43-J43)/ABS(J43),"-") -> - | AM43: =IFERROR((T43-K43)/ABS(K43),"-") -> -
C44: 1067 | D44: 8e-05 | E44: 8e-05 | F44: 0 | G44: 0 | H44: 0.36508 | I44: 0 | J44: 0 | K44: 0 | M44: 0 | N44: 0 | O44: 0 | P44: 0 | Q44: 0.01116 | R44: 0 | S44: 0 | T44: 0 | U44: =SUM(D44:T44) -> 0.3764 | W44: =M44-D44 -> -8e-05 | X44: =N44-E44 -> -8e-05 | Y44: =O44-F44 -> 0 | Z44: =P44-G44 -> 0 | AA44: =IFERROR((M44-D44)/ABS(D44),"-") -> -1 | AB44: =IFERROR((N44-E44)/ABS(E44),"-") -> -1 | AC44: =IFERROR((O44-F44)/ABS(F44),"-") -> - | AD44: =IFERROR((P44-G44)/ABS(G44),"-") -> - | AF44: =Q44-H44 -> -0.35392 | AG44: =R44-I44 -> 0 | AH44: =S44-J44 -> 0 | AI44: =T44-K44 -> 0 | AJ44: =IFERROR((Q44-H44)/ABS(H44),"-") -> -0.96943136 | AK44: =IFERROR((R44-I44)/ABS(I44),"-") -> - | AL44: =IFERROR((S44-J44)/ABS(J44),"-") -> - | AM44: =IFERROR((T44-K44)/ABS(K44),"-") -> -
C45: 1068 | D45: 0 | E45: 2e-05 | F45: 0 | G45: 0 | H45: 0 | I45: 0 | J45: 0 | K45: 0 | M45: 0 | N45: 0 | O45: 0 | P45: 0 | Q45: 0 | R45: 0 | S45: 0 | T45: 0 | U45: =SUM(D45:T45) -> 2e-05 | W45: =M45-D45 -> 0 | X45: =N45-E45 -> -2e-05 | Y45: =O45-F45 -> 0 | Z45: =P45-G45 -> 0 | AA45: =IFERROR((M45-D45)/ABS(D45),"-") -> - | AB45: =IFERROR((N45-E45)/ABS(E45),"-") -> -1 | AC45: =IFERROR((O45-F45)/ABS(F45),"-") -> - | AD45: =IFERROR((P45-G45)/ABS(G45),"-") -> - | AF45: =Q45-H45 -> 0 | AG45: =R45-I45 -> 0 | AH45: =S45-J45 -> 0 | AI45: =T45-K45 -> 0 | AJ45: =IFERROR((Q45-H45)/ABS(H45),"-") -> - | AK45: =IFERROR((R45-I45)/ABS(I45),"-") -> - | AL45: =IFERROR((S45-J45)/ABS(J45),"-") -> - | AM45: =IFERROR((T45-K45)/ABS(K45),"-") -> -
C46: 1069 | D46: 0 | E46: 0.00029 | F46: 0 | G46: 0 | H46: 0 | I46: 0 | J46: 0 | K46: 0 | M46: 0 | N46: 0 | O46: 0 | P46: 0 | Q46: 0 | R46: 0 | S46: 0 | T46: 0 | U46: =SUM(D46:T46) -> 0.00029 | W46: =M46-D46 -> 0 | X46: =N46-E46 -> -0.00029 | Y46: =O46-F46 -> 0 | Z46: =P46-G46 -> 0 | AA46: =IFERROR((M46-D46)/ABS(D46),"-") -> - | AB46: =IFERROR((N46-E46)/ABS(E46),"-") -> -1 | AC46: =IFERROR((O46-F46)/ABS(F46),"-") -> - | AD46: =IFERROR((P46-G46)/ABS(G46),"-") -> - | AF46: =Q46-H46 -> 0 | AG46: =R46-I46 -> 0 | AH46: =S46-J46 -> 0 | AI46: =T46-K46 -> 0 | AJ46: =IFERROR((Q46-H46)/ABS(H46),"-") -> - | AK46: =IFERROR((R46-I46)/ABS(I46),"-") -> - | AL46: =IFERROR((S46-J46)/ABS(J46),"-") -> - | AM46: =IFERROR((T46-K46)/ABS(K46),"-") -> -
C47: 1070 | D47: 0 | E47: 0 | F47: 0 | G47: 0 | H47: 0 | I47: 0 | J47: 0 | K47: 0 | M47: 0 | N47: 0 | O47: 0 | P47: 0 | Q47: 0 | R47: 0 | S47: 0 | T47: 0 | U47: =SUM(D47:T47) -> 0 | W47: =M47-D47 -> 0 | X47: =N47-E47 -> 0 | Y47: =O47-F47 -> 0 | Z47: =P47-G47 -> 0 | AA47: =IFERROR((M47-D47)/ABS(D47),"-") -> - | AB47: =IFERROR((N47-E47)/ABS(E47),"-") -> - | AC47: =IFERROR((O47-F47)/ABS(F47),"-") -> - | AD47: =IFERROR((P47-G47)/ABS(G47),"-") -> - | AF47: =Q47-H47 -> 0 | AG47: =R47-I47 -> 0 | AH47: =S47-J47 -> 0 | AI47: =T47-K47 -> 0 | AJ47: =IFERROR((Q47-H47)/ABS(H47),"-") -> - | AK47: =IFERROR((R47-I47)/ABS(I47),"-") -> - | AL47: =IFERROR((S47-J47)/ABS(J47),"-") -> - | AM47: =IFERROR((T47-K47)/ABS(K47),"-") -> -
C48: 1071 | D48: 0 | E48: 0 | F48: 0 | G48: 0 | H48: 0 | I48: 0 | J48: 0 | K48: 0 | M48: 0 | N48: 0 | O48: 0 | P48: 0 | Q48: 0 | R48: 0 | S48: 0 | T48: 0 | U48: =SUM(D48:T48) -> 0 | W48: =M48-D48 -> 0 | X48: =N48-E48 -> 0 | Y48: =O48-F48 -> 0 | Z48: =P48-G48 -> 0 | AA48: =IFERROR((M48-D48)/ABS(D48),"-") -> - | AB48: =IFERROR((N48-E48)/ABS(E48),"-") -> - | AC48: =IFERROR((O48-F48)/ABS(F48),"-") -> - | AD48: =IFERROR((P48-G48)/ABS(G48),"-") -> - | AF48: =Q48-H48 -> 0 | AG48: =R48-I48 -> 0 | AH48: =S48-J48 -> 0 | AI48: =T48-K48 -> 0 | AJ48: =IFERROR((Q48-H48)/ABS(H48),"-") -> - | AK48: =IFERROR((R48-I48)/ABS(I48),"-") -> - | AL48: =IFERROR((S48-J48)/ABS(J48),"-") -> - | AM48: =IFERROR((T48-K48)/ABS(K48),"-") -> -
C49: 1072 | D49: 0 | E49: 0 | F49: 0 | G49: 0 | H49: 0 | I49: 0 | J49: 0 | K49: 0 | M49: 0 | N49: 0 | O49: 0 | P49: 0 | Q49: 0 | R49: 0 | S49: 0 | T49: 0 | U49: =SUM(D49:T49) -> 0 | W49: =M49-D49 -> 0 | X49: =N49-E49 -> 0 | Y49: =O49-F49 -> 0 | Z49: =P49-G49 -> 0 | AA49: =IFERROR((M49-D49)/ABS(D49),"-") -> - | AB49: =IFERROR((N49-E49)/ABS(E49),"-") -> - | AC49: =IFERROR((O49-F49)/ABS(F49),"-") -> - | AD49: =IFERROR((P49-G49)/ABS(G49),"-") -> - | AF49: =Q49-H49 -> 0 | AG49: =R49-I49 -> 0 | AH49: =S49-J49 -> 0 | AI49: =T49-K49 -> 0 | AJ49: =IFERROR((Q49-H49)/ABS(H49),"-") -> - | AK49: =IFERROR((R49-I49)/ABS(I49),"-") -> - | AL49: =IFERROR((S49-J49)/ABS(J49),"-") -> - | AM49: =IFERROR((T49-K49)/ABS(K49),"-") -> -
... C61: 1084 | D61: 0 | E61: 7e-05 | F61: 0.00021 | G61: 0 | H61: 0 | I61: 0.00046 | J61: 0 | K61: 0 | M61: 0 | N61: 0 | O61: 0.00019 | P61: 0 | Q61: 0 | R61: 0.00051 | S61: 4e-05 | T61: 0 | U61: =SUM(D61:T61) -> 0.00148 | W61: =M61-D61 -> 0 | X61: =N61-E61 -> -7e-05 | Y61: =O61-F61 -> -2e-05 | Z61: =P61-G61 -> 0 | AA61: =IFERROR((M61-D61)/ABS(D61),"-") -> - | AB61: =IFERROR((N61-E61)/ABS(E61),"-") -> -1 | AC61: =IFERROR((O61-F61)/ABS(F61),"-") -> -0.095238095 | AD61: =IFERROR((P61-G61)/ABS(G61),"-") -> - | AF61: =Q61-H61 -> 0 | AG61: =R61-I61 -> 5e-05 | AH61: =S61-J61 -> 4e-05 | AI61: =T61-K61 -> 0 | AJ61: =IFERROR((Q61-H61)/ABS(H61),"-") -> - | AK61: =IFERROR((R61-I61)/ABS(I61),"-") -> 0.10869565 | AL61: =IFERROR((S61-J61)/ABS(J61),"-") -> - | AM61: =IFERROR((T61-K61)/ABS(K61),"-") -> -
B62: Land at Hillbrow, Janes Lane, Burgess Hill | C62: 1085 | D62: 0 | E62: 0.00105 | F62: 0.00033 | G62: 0 | H62: 0 | I62: 0.09297 | J62: 0 | K62: 0 | M62: 0 | N62: 0.0016 | O62: 0.60526 | P62: 0 | Q62: 0 | R62: 0.00474 | S62: 0.00013 | T62: 0 | U62: =SUM(D62:T62) -> 0.70608 | W62: =M62-D62 -> 0 | X62: =N62-E62 -> 0.00055 | Y62: =O62-F62 -> 0.60493 | Z62: =P62-G62 -> 0 | AA62: =IFERROR((M62-D62)/ABS(D62),"-") -> - | AB62: =IFERROR((N62-E62)/ABS(E62),"-") -> 0.52380952 | AC62: =IFERROR((O62-F62)/ABS(F62),"-") -> 1833.1212 | AD62: =IFERROR((P62-G62)/ABS(G62),"-") -> - | AF62: =Q62-H62 -> 0 | AG62: =R62-I62 -> -0.08823 | AH62: =S62-J62 -> 0.00013 | AI62: =T62-K62 -> 0 | AJ62: =IFERROR((Q62-H62)/ABS(H62),"-") -> - | AK62: =IFERROR((R62-I62)/ABS(I62),"-") -> -0.94901581 | AL62: =IFERROR((S62-J62)/ABS(J62),"-") -> - | AM62: =IFERROR((T62-K62)/ABS(K62),"-") -> -
C63: 1086 | D63: 0 | E63: 0.00279 | F63: 0.00056 | G63: 0 | H63: 0 | I63: 1.72868 | J63: 0 | K63: 0 | M63: 0 | N63: 1.11381 | O63: 0.19912 | P63: 0 | Q63: 0 | R63: 2.22225 | S63: 0.00031 | T63: 0 | U63: =SUM(D63:T63) -> 5.26752 | W63: =M63-D63 -> 0 | X63: =N63-E63 -> 1.11102 | Y63: =O63-F63 -> 0.19856 | Z63: =P63-G63 -> 0 | AA63: =IFERROR((M63-D63)/ABS(D63),"-") -> - | AB63: =IFERROR((N63-E63)/ABS(E63),"-") -> 398.21505 | AC63: =IFERROR((O63-F63)/ABS(F63),"-") -> 354.57143 | AD63: =IFERROR((P63-G63)/ABS(G63),"-") -> - | AF63: =Q63-H63 -> 0 | AG63: =R63-I63 -> 0.49357 | AH63: =S63-J63 -> 0.00031 | AI63: =T63-K63 -> 0 | AJ63: =IFERROR((Q63-H63)/ABS(H63),"-") -> - | AK63: =IFERROR((R63-I63)/ABS(I63),"-") -> 0.28551843 | AL63: =IFERROR((S63-J63)/ABS(J63),"-") -> - | AM63: =IFERROR((T63-K63)/ABS(K63),"-") -> -
C64: 1087 | D64: 0 | E64: 2.97176 | F64: 2.76668 | G64: 0 | H64: 0 | I64: 7.18556 | J64: 0.00131 | K64: 0 | M64: 0 | N64: 6.07739 | O64: 3.96793 | P64: 0 | Q64: 0 | R64: 9.34362 | S64: 0.87413 | T64: 0 | U64: =SUM(D64:T64) -> 33.18838 | W64: =M64-D64 -> 0 | X64: =N64-E64 -> 3.10563 | Y64: =O64-F64 -> 1.20125 | Z64: =P64-G64 -> 0 | AA64: =IFERROR((M64-D64)/ABS(D64),"-") -> - | AB64: =IFERROR((N64-E64)/ABS(E64),"-") -> 1.0450474 | AC64: =IFERROR((O64-F64)/ABS(F64),"-") -> 0.43418465 | AD64: =IFERROR((P64-G64)/ABS(G64),"-") -> - | AF64: =Q64-H64 -> 0 | AG64: =R64-I64 -> 2.15806 | AH64: =S64-J64 -> 0.87282 | AI64: =T64-K64 -> 0 | AJ64: =IFERROR((Q64-H64)/ABS(H64),"-") -> - | AK64: =IFERROR((R64-I64)/ABS(I64),"-") -> 0.30033289 | AL64: =IFERROR((S64-J64)/ABS(J64),"-") -> 666.27481 | AM64: =IFERROR((T64-K64)/ABS(K64),"-") -> -
C65: 1088 | D65: 0 | E65: 2.71862 | F65: 0.38142 | G65: 0 | H65: 0 | I65: 7.67466 | J65: 0.00155 | K65: 0 | M65: 0 | N65: 7.86159 | O65: 2.33396 | P65: 0 | Q65: 0 | R65: 9.52104 | S65: 0.2188 | T65: 0 | U65: =SUM(D65:T65) -> 30.71164 | W65: =M65-D65 -> 0 | X65: =N65-E65 -> 5.14297 | Y65: =O65-F65 -> 1.95254 | Z65: =P65-G65 -> 0 | AA65: =IFERROR((M65-D65)/ABS(D65),"-") -> - | AB65: =IFERROR((N65-E65)/ABS(E65),"-") -> 1.8917576 | AC65: =IFERROR((O65-F65)/ABS(F65),"-") -> 5.1191338 | AD65: =IFERROR((P65-G65)/ABS(G65),"-") -> - | AF65: =Q65-H65 -> 0 | AG65: =R65-I65 -> 1.84638 | AH65: =S65-J65 -> 0.21725 | AI65: =T65-K65 -> 0 | AJ65: =IFERROR((Q65-H65)/ABS(H65),"-") -> - | AK65: =IFERROR((R65-I65)/ABS(I65),"-") -> 0.24058134 | AL65: =IFERROR((S65-J65)/ABS(J65),"-") -> 140.16129 | AM65: =IFERROR((T65-K65)/ABS(K65),"-") -> -
C66: 1089 | D66: 0 | E66: 0.93486 | F66: 0.42246 | G66: 0 | H66: 0 | I66: 0.57413 | J66: 0.60505 | K66: 0 | M66: 0 | N66: 1.25808 | O66: 1.40171 | P66: 0 | Q66: 0 | R66: 0.93722 | S66: 0.91161 | T66: 0 | U66: =SUM(D66:T66) -> 7.04512 | W66: =M66-D66 -> 0 | X66: =N66-E66 -> 0.32322 | Y66: =O66-F66 -> 0.97925 | Z66: =P66-G66 -> 0 | AA66: =IFERROR((M66-D66)/ABS(D66),"-") -> - | AB66: =IFERROR((N66-E66)/ABS(E66),"-") -> 0.34574161 | AC66: =IFERROR((O66-F66)/ABS(F66),"-") -> 2.3179709 | AD66: =IFERROR((P66-G66)/ABS(G66),"-") -> - | AF66: =Q66-H66 -> 0 | AG66: =R66-I66 -> 0.36309 | AH66: =S66-J66 -> 0.30656 | AI66: =T66-K66 -> 0 | AJ66: =IFERROR((Q66-H66)/ABS(H66),"-") -> - | AK66: =IFERROR((R66-I66)/ABS(I66),"-") -> 0.63241775 | AL66: =IFERROR((S66-J66)/ABS(J66),"-") -> 0.50666887 | AM66: =IFERROR((T66-K66)/ABS(K66),"-") -> -
C67: 1090 | D67: 0 | E67: 0.48045 | F67: 0.33024 | G67: 0 | H67: 0 | I67: 0.28381 | J67: 0.41985 | K67: 0 | M67: 0 | N67: 0.743 | O67: 0.49499 | P67: 0 | Q67: 0 | R67: 0.52908 | S67: 0.66796 | T67: 0 | U67: =SUM(D67:T67) -> 3.94938 | W67: =M67-D67 -> 0 | X67: =N67-E67 -> 0.26255 | Y67: =O67-F67 -> 0.16475 | Z67: =P67-G67 -> 0 | AA67: =IFERROR((M67-D67)/ABS(D67),"-") -> - | AB67: =IFERROR((N67-E67)/ABS(E67),"-") -> 0.54646685 | AC67: =IFERROR((O67-F67)/ABS(F67),"-") -> 0.4988796 | AD67: =IFERROR((P67-G67)/ABS(G67),"-") -> - | AF67: =Q67-H67 -> 0 | AG67: =R67-I67 -> 0.24527 | AH67: =S67-J67 -> 0.24811 | AI67: =T67-K67 -> 0 | AJ67: =IFERROR((Q67-H67)/ABS(H67),"-") -> - | AK67: =IFERROR((R67-I67)/ABS(I67),"-") -> 0.86420493 | AL67: =IFERROR((S67-J67)/ABS(J67),"-") -> 0.59094915 | AM67: =IFERROR((T67-K67)/ABS(K67),"-") -> -
C68: 1091 | D68: 0 | E68: 3.88344 | F68: 0.00132 | G68: 0 | H68: 0 | I68: 1.77046 | J68: 0.00069 | K68: 0 | M68: 0 | N68: 11.02322 | O68: 0.00156 | P68: 0 | Q68: 0 | R68: 6.27088 | S68: 0.00265 | T68: 0 | U68: =SUM(D68:T68) -> 22.95422 | W68: =M68-D68 -> 0 | X68: =N68-E68 -> 7.13978 | Y68: =O68-F68 -> 0.00024 | Z68: =P68-G68 -> 0 | AA68: =IFERROR((M68-D68)/ABS(D68),"-") -> - | AB68: =IFERROR((N68-E68)/ABS(E68),"-") -> 1.8385195 | AC68: =IFERROR((O68-F68)/ABS(F68),"-") -> 0.18181818 | AD68: =IFERROR((P68-G68)/ABS(G68),"-") -> - | AF68: =Q68-H68 -> 0 | AG68: =R68-I68 -> 4.50042 | AH68: =S68-J68 -> 0.00196 | AI68: =T68-K68 -> 0 | AJ68: =IFERROR((Q68-H68)/ABS(H68),"-") -> - | AK68: =IFERROR((R68-I68)/ABS(I68),"-") -> 2.5419495 | AL68: =IFERROR((S68-J68)/ABS(J68),"-") -> 2.8405797 | AM68: =IFERROR((T68-K68)/ABS(K68),"-") -> -
C69: 1092 | D69: 0 | E69: 0.29535 | F69: 0 | G69: 0 | H69: 0 | I69: 0.13377 | J69: 0 | K69: 0 | M69: 0 | N69: 0.40164 | O69: 0 | P69: 0 | Q69: 0 | R69: 0.54312 | S69: 0.00648 | T69: 0 | U69: =SUM(D69:T69) -> 1.38036 | W69: =M69-D69 -> 0 | X69: =N69-E69 -> 0.10629 | Y69: =O69-F69 -> 0 | Z69: =P69-G69 -> 0 | AA69: =IFERROR((M69-D69)/ABS(D69),"-") -> - | AB69: =IFERROR((N69-E69)/ABS(E69),"-") -> 0.35987811 | AC69: =IFERROR((O69-F69)/ABS(F69),"-") -> - | AD69: =IFERROR((P69-G69)/ABS(G69),"-") -> - | AF69: =Q69-H69 -> 0 | AG69: =R69-I69 -> 0.40935 | AH69: =S69-J69 -> 0.00648 | AI69: =T69-K69 -> 0 | AJ69: =IFERROR((Q69-H69)/ABS(H69),"-") -> - | AK69: =IFERROR((R69-I69)/ABS(I69),"-") -> 3.0601032 | AL69: =IFERROR((S69-J69)/ABS(J69),"-") -> - | AM69: =IFERROR((T69-K69)/ABS(K69),"-") -> -
C70: 1093 | D70: 0 | E70: 1.60971 | F70: 0 | G70: 0 | H70: 0 | I70: 0.58237 | J70: 0 | K70: 0 | M70: 0 | N70: 2.12488 | O70: 0 | P70: 0 | Q70: 0 | R70: 2.68042 | S70: 0.00502 | T70: 0 | U70: =SUM(D70:T70) -> 7.0024 | W70: =M70-D70 -> 0 | X70: =N70-E70 -> 0.51517 | Y70: =O70-F70 -> 0 | Z70: =P70-G70 -> 0 | AA70: =IFERROR((M70-D70)/ABS(D70),"-") -> - | AB70: =IFERROR((N70-E70)/ABS(E70),"-") -> 0.32003901 | AC70: =IFERROR((O70-F70)/ABS(F70),"-") -> - | AD70: =IFERROR((P70-G70)/ABS(G70),"-") -> - | AF70: =Q70-H70 -> 0 | AG70: =R70-I70 -> 2.09805 | AH70: =S70-J70 -> 0.00502 | AI70: =T70-K70 -> 0 | AJ70: =IFERROR((Q70-H70)/ABS(H70),"-") -> - | AK70: =IFERROR((R70-I70)/ABS(I70),"-") -> 3.6026066 | AL70: =IFERROR((S70-J70)/ABS(J70),"-") -> - | AM70: =IFERROR((T70-K70)/ABS(K70),"-") -> -
C71: 1094 | D71: 0 | E71: 0.01971 | F71: 0 | G71: 0 | H71: 0 | I71: 3.23949 | J71: 0 | K71: 0 | M71: 0 | N71: 0.06079 | O71: 0 | P71: 0 | Q71: 0 | R71: 10.17243 | S71: 0.00468 | T71: 0 | U71: =SUM(D71:T71) -> 13.4971 | W71: =M71-D71 -> 0 | X71: =N71-E71 -> 0.04108 | Y71: =O71-F71 -> 0 | Z71: =P71-G71 -> 0 | AA71: =IFERROR((M71-D71)/ABS(D71),"-") -> - | AB71: =IFERROR((N71-E71)/ABS(E71),"-") -> 2.0842212 | AC71: =IFERROR((O71-F71)/ABS(F71),"-") -> - | AD71: =IFERROR((P71-G71)/ABS(G71),"-") -> - | AF71: =Q71-H71 -> 0 | AG71: =R71-I71 -> 6.93294 | AH71: =S71-J71 -> 0.00468 | AI71: =T71-K71 -> 0 | AJ71: =IFERROR((Q71-H71)/ABS(H71),"-") -> - | AK71: =IFERROR((R71-I71)/ABS(I71),"-") -> 2.1401332 | AL71: =IFERROR((S71-J71)/ABS(J71),"-") -> - | AM71: =IFERROR((T71-K71)/ABS(K71),"-") -> -
C72: 1095 | D72: 0 | E72: 0 | F72: 0 | G72: 5e-05 | H72: 0 | I72: 9e-05 | J72: 0 | K72: 0 | M72: 0 | N72: 0 | O72: 0 | P72: 0.00049 | Q72: 0 | R72: 2e-05 | S72: 0.00054 | T72: 0 | U72: =SUM(D72:T72) -> 0.00119 | W72: =M72-D72 -> 0 | X72: =N72-E72 -> 0 | Y72: =O72-F72 -> 0 | Z72: =P72-G72 -> 0.00044 | AA72: =IFERROR((M72-D72)/ABS(D72),"-") -> - | AB72: =IFERROR((N72-E72)/ABS(E72),"-") -> - | AC72: =IFERROR((O72-F72)/ABS(F72),"-") -> - | AD72: =IFERROR((P72-G72)/ABS(G72),"-") -> 8.8 | AF72: =Q72-H72 -> 0 | AG72: =R72-I72 -> -7e-05 | AH72: =S72-J72 -> 0.00054 | AI72: =T72-K72 -> 0 | AJ72: =IFERROR((Q72-H72)/ABS(H72),"-") -> - | AK72: =IFERROR((R72-I72)/ABS(I72),"-") -> -0.77777778 | AL72: =IFERROR((S72-J72)/ABS(J72),"-") -> - | AM72: =IFERROR((T72-K72)/ABS(K72),"-") -> -
C73: 1096 | D73: 0 | E73: 0 | F73: 0 | G73: 0.00016 | H73: 0.70651 | I73: 0 | J73: 0 | K73: 0 | M73: 0 | N73: 0 | O73: 0 | P73: 0.00014 | Q73: 3e-05 | R73: 0 | S73: 0 | T73: 0 | U73: =SUM(D73:T73) -> 0.70684 | W73: =M73-D73 -> 0 | X73: =N73-E73 -> 0 | Y73: =O73-F73 -> 0 | Z73: =P73-G73 -> -2e-05 | AA73: =IFERROR((M73-D73)/ABS(D73),"-") -> - | AB73: =IFERROR((N73-E73)/ABS(E73),"-") -> - | AC73: =IFERROR((O73-F73)/ABS(F73),"-") -> - | AD73: =IFERROR((P73-G73)/ABS(G73),"-") -> -0.125 | AF73: =Q73-H73 -> -0.70648 | AG73: =R73-I73 -> 0 | AH73: =S73-J73 -> 0 | AI73: =T73-K73 -> 0 | AJ73: =IFERROR((Q73-H73)/ABS(H73),"-") -> -0.99995754 | AK73: =IFERROR((R73-I73)/ABS(I73),"-") -> - | AL73: =IFERROR((S73-J73)/ABS(J73),"-") -> - | AM73: =IFERROR((T73-K73)/ABS(K73),"-") -> -
C74: 1097 | D74: 2e-05 | E74: 0 | F74: 0 | G74: 2e-05 | H74: 1.05527 | I74: 0 | J74: 0 | K74: 0 | M74: 0 | N74: 0 | O74: 0 | P74: 2e-05 | Q74: 0.03317 | R74: 0 | S74: 0 | T74: 0 | U74: =SUM(D74:T74) -> 1.0885 | W74: =M74-D74 -> -2e-05 | X74: =N74-E74 -> 0 | Y74: =O74-F74 -> 0 | Z74: =P74-G74 -> 0 | AA74: =IFERROR((M74-D74)/ABS(D74),"-") -> -1 | AB74: =IFERROR((N74-E74)/ABS(E74),"-") -> - | AC74: =IFERROR((O74-F74)/ABS(F74),"-") -> - | AD74: =IFERROR((P74-G74)/ABS(G74),"-") -> 0 | AF74: =Q74-H74 -> -1.0221 | AG74: =R74-I74 -> 0 | AH74: =S74-J74 -> 0 | AI74: =T74-K74 -> 0 | AJ74: =IFERROR((Q74-H74)/ABS(H74),"-") -> -0.96856729 | AK74: =IFERROR((R74-I74)/ABS(I74),"-") -> - | AL74: =IFERROR((S74-J74)/ABS(J74),"-") -> - | AM74: =IFERROR((T74-K74)/ABS(K74),"-") -> -
... C91: 1114 | D91: 0 | E91: 2.05703 | F91: 0 | G91: 0 | H91: 0 | I91: 1.02402 | J91: 0 | K91: 0 | M91: 0 | N91: 2.76769 | O91: 0 | P91: 0 | Q91: 0 | R91: 3.68212 | S91: 0.00178 | T91: 0 | U91: =SUM(D91:T91) -> 9.53264 | W91: =M91-D91 -> 0 | X91: =N91-E91 -> 0.71066 | Y91: =O91-F91 -> 0 | Z91: =P91-G91 -> 0 | AA91: =IFERROR((M91-D91)/ABS(D91),"-") -> - | AB91: =IFERROR((N91-E91)/ABS(E91),"-") -> 0.34547868 | AC91: =IFERROR((O91-F91)/ABS(F91),"-") -> - | AD91: =IFERROR((P91-G91)/ABS(G91),"-") -> - | AF91: =Q91-H91 -> 0 | AG91: =R91-I91 -> 2.6581 | AH91: =S91-J91 -> 0.00178 | AI91: =T91-K91 -> 0 | AJ91: =IFERROR((Q91-H91)/ABS(H91),"-") -> - | AK91: =IFERROR((R91-I91)/ABS(I91),"-") -> 2.5957501 | AL91: =IFERROR((S91-J91)/ABS(J91),"-") -> - | AM91: =IFERROR((T91-K91)/ABS(K91),"-") -> -
B92: Burnside Centre, Victoria Road, Burgess Hill | C92: 1115 | D92: 0 | E92: 0.0002 | F92: 0 | G92: 0 | H92: 0.00057 | I92: 0.00196 | J92: 0 | K92: 0 | M92: 0 | N92: 7e-05 | O92: 0 | P92: 0 | Q92: 0.0005 | R92: 0.0015 | S92: 5e-05 | T92: 0 | U92: =SUM(D92:T92) -> 0.00485 | W92: =M92-D92 -> 0 | X92: =N92-E92 -> -0.00013 | Y92: =O92-F92 -> 0 | Z92: =P92-G92 -> 0 | AA92: =IFERROR((M92-D92)/ABS(D92),"-") -> - | AB92: =IFERROR((N92-E92)/ABS(E92),"-") -> -0.65 | AC92: =IFERROR((O92-F92)/ABS(F92),"-") -> - | AD92: =IFERROR((P92-G92)/ABS(G92),"-") -> - | AF92: =Q92-H92 -> -7e-05 | AG92: =R92-I92 -> -0.00046 | AH92: =S92-J92 -> 5e-05 | AI92: =T92-K92 -> 0 | AJ92: =IFERROR((Q92-H92)/ABS(H92),"-") -> -0.12280702 | AK92: =IFERROR((R92-I92)/ABS(I92),"-") -> -0.23469388 | AL92: =IFERROR((S92-J92)/ABS(J92),"-") -> - | AM92: =IFERROR((T92-K92)/ABS(K92),"-") -> -
C93: 1116 | D93: 0 | E93: 0.00019 | F93: 0 | G93: 0 | H93: 0.00082 | I93: 0.00066 | J93: 0 | K93: 0 | M93: 0 | N93: 1e-05 | O93: 0 | P93: 0 | Q93: 0.00025 | R93: 3e-05 | S93: 0 | T93: 0 | U93: =SUM(D93:T93) -> 0.00196 | W93: =M93-D93 -> 0 | X93: =N93-E93 -> -0.00018 | Y93: =O93-F93 -> 0 | Z93: =P93-G93 -> 0 | AA93: =IFERROR((M93-D93)/ABS(D93),"-") -> - | AB93: =IFERROR((N93-E93)/ABS(E93),"-") -> -0.94736842 | AC93: =IFERROR((O93-F93)/ABS(F93),"-") -> - | AD93: =IFERROR((P93-G93)/ABS(G93),"-") -> - | AF93: =Q93-H93 -> -0.00057 | AG93: =R93-I93 -> -0.00063 | AH93: =S93-J93 -> 0 | AI93: =T93-K93 -> 0 | AJ93: =IFERROR((Q93-H93)/ABS(H93),"-") -> -0.69512195 | AK93: =IFERROR((R93-I93)/ABS(I93),"-") -> -0.95454545 | AL93: =IFERROR((S93-J93)/ABS(J93),"-") -> - | AM93: =IFERROR((T93-K93)/ABS(K93),"-") -> -
C94: 1117 | D94: 0 | E94: 0 | F94: 0 | G94: 0 | H94: 0.21896 | I94: 0 | J94: 0 | K94: 0 | M94: 0 | N94: 0 | O94: 0 | P94: 0 | Q94: 0.00088 | R94: 0 | S94: 0 | T94: 0 | U94: =SUM(D94:T94) -> 0.21984 | W94: =M94-D94 -> 0 | X94: =N94-E94 -> 0 | Y94: =O94-F94 -> 0 | Z94: =P94-G94 -> 0 | AA94: =IFERROR((M94-D94)/ABS(D94),"-") -> - | AB94: =IFERROR((N94-E94)/ABS(E94),"-") -> - | AC94: =IFERROR((O94-F94)/ABS(F94),"-") -> - | AD94: =IFERROR((P94-G94)/ABS(G94),"-") -> - | AF94: =Q94-H94 -> -0.21808 | AG94: =R94-I94 -> 0 | AH94: =S94-J94 -> 0 | AI94: =T94-K94 -> 0 | AJ94: =IFERROR((Q94-H94)/ABS(H94),"-") -> -0.995981 | AK94: =IFERROR((R94-I94)/ABS(I94),"-") -> - | AL94: =IFERROR((S94-J94)/ABS(J94),"-") -> - | AM94: =IFERROR((T94-K94)/ABS(K94),"-") -> -
C95: 1118 | D95: 0 | E95: 0.00029 | F95: 0 | G95: 0 | H95: 0.0002 | I95: 0.00225 | J95: 0 | K95: 0 | M95: 0 | N95: 2e-05 | O95: 0 | P95: 0 | Q95: 0 | R95: 0.00219 | S95: 0 | T95: 0 | U95: =SUM(D95:T95) -> 0.00495 | W95: =M95-D95 -> 0 | X95: =N95-E95 -> -0.00027 | Y95: =O95-F95 -> 0 | Z95: =P95-G95 -> 0 | AA95: =IFERROR((M95-D95)/ABS(D95),"-") -> - | AB95: =IFERROR((N95-E95)/ABS(E95),"-") -> -0.93103448 | AC95: =IFERROR((O95-F95)/ABS(F95),"-") -> - | AD95: =IFERROR((P95-G95)/ABS(G95),"-") -> - | AF95: =Q95-H95 -> -0.0002 | AG95: =R95-I95 -> -6e-05 | AH95: =S95-J95 -> 0 | AI95: =T95-K95 -> 0 | AJ95: =IFERROR((Q95-H95)/ABS(H95),"-") -> -1 | AK95: =IFERROR((R95-I95)/ABS(I95),"-") -> -0.026666667 | AL95: =IFERROR((S95-J95)/ABS(J95),"-") -> - | AM95: =IFERROR((T95-K95)/ABS(K95),"-") -> -
C96: 1119 | D96: 0 | E96: 3e-05 | F96: 0 | G96: 0 | H96: 0 | I96: 0.00346 | J96: 0 | K96: 0 | M96: 0 | N96: 0 | O96: 0 | P96: 0 | Q96: 0 | R96: 0.00522 | S96: 1e-05 | T96: 0 | U96: =SUM(D96:T96) -> 0.00872 | W96: =M96-D96 -> 0 | X96: =N96-E96 -> -3e-05 | Y96: =O96-F96 -> 0 | Z96: =P96-G96 -> 0 | AA96: =IFERROR((M96-D96)/ABS(D96),"-") -> - | AB96: =IFERROR((N96-E96)/ABS(E96),"-") -> -1 | AC96: =IFERROR((O96-F96)/ABS(F96),"-") -> - | AD96: =IFERROR((P96-G96)/ABS(G96),"-") -> - | AF96: =Q96-H96 -> 0 | AG96: =R96-I96 -> 0.00176 | AH96: =S96-J96 -> 1e-05 | AI96: =T96-K96 -> 0 | AJ96: =IFERROR((Q96-H96)/ABS(H96),"-") -> - | AK96: =IFERROR((R96-I96)/ABS(I96),"-") -> 0.50867052 | AL96: =IFERROR((S96-J96)/ABS(J96),"-") -> - | AM96: =IFERROR((T96-K96)/ABS(K96),"-") -> -
C97: 1120 | D97: 0 | E97: 0.02683 | F97: 0 | G97: 0 | H97: 0 | I97: 3.06438 | J97: 0 | K97: 0 | M97: 0 | N97: 0.02648 | O97: 0 | P97: 0 | Q97: 0 | R97: 0.72319 | S97: 1e-05 | T97: 0 | U97: =SUM(D97:T97) -> 3.84089 | W97: =M97-D97 -> 0 | X97: =N97-E97 -> -0.00035 | Y97: =O97-F97 -> 0 | Z97: =P97-G97 -> 0 | AA97: =IFERROR((M97-D97)/ABS(D97),"-") -> - | AB97: =IFERROR((N97-E97)/ABS(E97),"-") -> -0.013045099 | AC97: =IFERROR((O97-F97)/ABS(F97),"-") -> - | AD97: =IFERROR((P97-G97)/ABS(G97),"-") -> - | AF97: =Q97-H97 -> 0 | AG97: =R97-I97 -> -2.34119 | AH97: =S97-J97 -> 1e-05 | AI97: =T97-K97 -> 0 | AJ97: =IFERROR((Q97-H97)/ABS(H97),"-") -> - | AK97: =IFERROR((R97-I97)/ABS(I97),"-") -> -0.7640012 | AL97: =IFERROR((S97-J97)/ABS(J97),"-") -> - | AM97: =IFERROR((T97-K97)/ABS(K97),"-") -> -
C98: 1121 | D98: 0 | E98: 6.38881 | F98: 0 | G98: 0 | H98: 0 | I98: 4.24068 | J98: 0 | K98: 0 | M98: 0 | N98: 1.85178 | O98: 0 | P98: 0 | Q98: 0 | R98: 20.00393 | S98: 2e-05 | T98: 0 | U98: =SUM(D98:T98) -> 32.48522 | W98: =M98-D98 -> 0 | X98: =N98-E98 -> -4.53703 | Y98: =O98-F98 -> 0 | Z98: =P98-G98 -> 0 | AA98: =IFERROR((M98-D98)/ABS(D98),"-") -> - | AB98: =IFERROR((N98-E98)/ABS(E98),"-") -> -0.71015259 | AC98: =IFERROR((O98-F98)/ABS(F98),"-") -> - | AD98: =IFERROR((P98-G98)/ABS(G98),"-") -> - | AF98: =Q98-H98 -> 0 | AG98: =R98-I98 -> 15.76325 | AH98: =S98-J98 -> 2e-05 | AI98: =T98-K98 -> 0 | AJ98: =IFERROR((Q98-H98)/ABS(H98),"-") -> - | AK98: =IFERROR((R98-I98)/ABS(I98),"-") -> 3.7171515 | AL98: =IFERROR((S98-J98)/ABS(J98),"-") -> - | AM98: =IFERROR((T98-K98)/ABS(K98),"-") -> -
C99: 1124 | D99: 0 | E99: 23.28816 | F99: 0.00034 | G99: 0 | H99: 0 | I99: 27.17035 | J99: 0.00535 | K99: 0 | M99: 0 | N99: 27.3157 | O99: 0.00059 | P99: 0 | Q99: 0 | R99: 29.61234 | S99: 0.00747 | T99: 0 | U99: =SUM(D99:T99) -> 107.4003 | W99: =M99-D99 -> 0 | X99: =N99-E99 -> 4.02754 | Y99: =O99-F99 -> 0.00025 | Z99: =P99-G99 -> 0 | AA99: =IFERROR((M99-D99)/ABS(D99),"-") -> - | AB99: =IFERROR((N99-E99)/ABS(E99),"-") -> 0.17294368 | AC99: =IFERROR((O99-F99)/ABS(F99),"-") -> 0.73529412 | AD99: =IFERROR((P99-G99)/ABS(G99),"-") -> - | AF99: =Q99-H99 -> 0 | AG99: =R99-I99 -> 2.44199 | AH99: =S99-J99 -> 0.00212 | AI99: =T99-K99 -> 0 | AJ99: =IFERROR((Q99-H99)/ABS(H99),"-") -> - | AK99: =IFERROR((R99-I99)/ABS(I99),"-") -> 0.089877017 | AL99: =IFERROR((S99-J99)/ABS(J99),"-") -> 0.39626168 | AM99: =IFERROR((T99-K99)/ABS(K99),"-") -> -
C100: 1125 | D100: 0 | E100: 5.69016 | F100: 0 | G100: 0 | H100: 0 | I100: 8.11549 | J100: 0 | K100: 0 | M100: 0 | N100: 6.54851 | O100: 0 | P100: 0 | Q100: 0 | R100: 14.17542 | S100: 0.00231 | T100: 0 | U100: =SUM(D100:T100) -> 34.53189 | W100: =M100-D100 -> 0 | X100: =N100-E100 -> 0.85835 | Y100: =O100-F100 -> 0 | Z100: =P100-G100 -> 0 | AA100: =IFERROR((M100-D100)/ABS(D100),"-") -> - | AB100: =IFERROR((N100-E100)/ABS(E100),"-") -> 0.15084813 | AC100: =IFERROR((O100-F100)/ABS(F100),"-") -> - | AD100: =IFERROR((P100-G100)/ABS(G100),"-") -> - | AF100: =Q100-H100 -> 0 | AG100: =R100-I100 -> 6.05993 | AH100: =S100-J100 -> 0.00231 | AI100: =T100-K100 -> 0 | AJ100: =IFERROR((Q100-H100)/ABS(H100),"-") -> - | AK100: =IFERROR((R100-I100)/ABS(I100),"-") -> 0.74671154 | AL100: =IFERROR((S100-J100)/ABS(J100),"-") -> - | AM100: =IFERROR((T100-K100)/ABS(K100),"-") -> -
C101: 1126 | D101: 0 | E101: 0.00037 | F101: 0 | G101: 0 | H101: 0 | I101: 0.0041 | J101: 0 | K101: 0 | M101: 0 | N101: 0.00441 | O101: 0 | P101: 0 | Q101: 0 | R101: 0.00388 | S101: 7e-05 | T101: 0 | U101: =SUM(D101:T101) -> 0.01283 | W101: =M101-D101 -> 0 | X101: =N101-E101 -> 0.00404 | Y101: =O101-F101 -> 0 | Z101: =P101-G101 -> 0 | AA101: =IFERROR((M101-D101)/ABS(D101),"-") -> - | AB101: =IFERROR((N101-E101)/ABS(E101),"-") -> 10.918919 | AC101: =IFERROR((O101-F101)/ABS(F101),"-") -> - | AD101: =IFERROR((P101-G101)/ABS(G101),"-") -> - | AF101: =Q101-H101 -> 0 | AG101: =R101-I101 -> -0.00022 | AH101: =S101-J101 -> 7e-05 | AI101: =T101-K101 -> 0 | AJ101: =IFERROR((Q101-H101)/ABS(H101),"-") -> - | AK101: =IFERROR((R101-I101)/ABS(I101),"-") -> -0.053658537 | AL101: =IFERROR((S101-J101)/ABS(J101),"-") -> - | AM101: =IFERROR((T101-K101)/ABS(K101),"-") -> -
C102: 1127 | D102: 0 | E102: 0.0016 | F102: 0 | G102: 0 | H102: 0 | I102: 0.00594 | J102: 0 | K102: 0 | M102: 0 | N102: 0.00021 | O102: 0 | P102: 0 | Q102: 0 | R102: 0.00324 | S102: 6e-05 | T102: 0 | U102: =SUM(D102:T102) -> 0.01105 | W102: =M102-D102 -> 0 | X102: =N102-E102 -> -0.00139 | Y102: =O102-F102 -> 0 | Z102: =P102-G102 -> 0 | AA102: =IFERROR((M102-D102)/ABS(D102),"-") -> - | AB102: =IFERROR((N102-E102)/ABS(E102),"-") -> -0.86875 | AC102: =IFERROR((O102-F102)/ABS(F102),"-") -> - | AD102: =IFERROR((P102-G102)/ABS(G102),"-") -> - | AF102: =Q102-H102 -> 0 | AG102: =R102-I102 -> -0.0027 | AH102: =S102-J102 -> 6e-05 | AI102: =T102-K102 -> 0 | AJ102: =IFERROR((Q102-H102)/ABS(H102),"-") -> - | AK102: =IFERROR((R102-I102)/ABS(I102),"-") -> -0.45454545 | AL102: =IFERROR((S102-J102)/ABS(J102),"-") -> - | AM102: =IFERROR((T102-K102)/ABS(K102),"-") -> -
C103: 1128 | D103: 0 | E103: 6e-05 | F103: 0 | G103: 0 | H103: 7e-05 | I103: 0.0001 | J103: 0 | K103: 0 | M103: 0 | N103: 0 | O103: 0 | P103: 0 | Q103: 0 | R103: 0.00012 | S103: 0 | T103: 0 | U103: =SUM(D103:T103) -> 0.00035 | W103: =M103-D103 -> 0 | X103: =N103-E103 -> -6e-05 | Y103: =O103-F103 -> 0 | Z103: =P103-G103 -> 0 | AA103: =IFERROR((M103-D103)/ABS(D103),"-") -> - | AB103: =IFERROR((N103-E103)/ABS(E103),"-") -> -1 | AC103: =IFERROR((O103-F103)/ABS(F103),"-") -> - | AD103: =IFERROR((P103-G103)/ABS(G103),"-") -> - | AF103: =Q103-H103 -> -7e-05 | AG103: =R103-I103 -> 2e-05 | AH103: =S103-J103 -> 0 | AI103: =T103-K103 -> 0 | AJ103: =IFERROR((Q103-H103)/ABS(H103),"-") -> -1 | AK103: =IFERROR((R103-I103)/ABS(I103),"-") -> 0.2 | AL103: =IFERROR((S103-J103)/ABS(J103),"-") -> - | AM103: =IFERROR((T103-K103)/ABS(K103),"-") -> -
C104: 1129 | D104: 0 | E104: 0.0046 | F104: 0 | G104: 0 | H104: 0 | I104: 2.54998 | J104: 0 | K104: 0 | M104: 0 | N104: 0.00193 | O104: 0 | P104: 0 | Q104: 0 | R104: 0.12131 | S104: 1e-05 | T104: 0 | U104: =SUM(D104:T104) -> 2.67783 | W104: =M104-D104 -> 0 | X104: =N104-E104 -> -0.00267 | Y104: =O104-F104 -> 0 | Z104: =P104-G104 -> 0 | AA104: =IFERROR((M104-D104)/ABS(D104),"-") -> - | AB104: =IFERROR((N104-E104)/ABS(E104),"-") -> -0.58043478 | AC104: =IFERROR((O104-F104)/ABS(F104),"-") -> - | AD104: =IFERROR((P104-G104)/ABS(G104),"-") -> - | AF104: =Q104-H104 -> 0 | AG104: =R104-I104 -> -2.42867 | AH104: =S104-J104 -> 1e-05 | AI104: =T104-K104 -> 0 | AJ104: =IFERROR((Q104-H104)/ABS(H104),"-") -> - | AK104: =IFERROR((R104-I104)/ABS(I104),"-") -> -0.95242708 | AL104: =IFERROR((S104-J104)/ABS(J104),"-") -> - | AM104: =IFERROR((T104-K104)/ABS(K104),"-") -> -
... C107: 1137 | D107: 0 | E107: 0 | F107: 0 | G107: 0 | H107: 0 | I107: 0 | J107: 0 | K107: 0 | M107: 0 | N107: 0 | O107: 0 | P107: 0 | Q107: 0 | R107: 0 | S107: 0 | T107: 0 | U107: =SUM(D107:T107) -> 0 | W107: =M107-D107 -> 0 | X107: =N107-E107 -> 0 | Y107: =O107-F107 -> 0 | Z107: =P107-G107 -> 0 | AA107: =IFERROR((M107-D107)/ABS(D107),"-") -> - | AB107: =IFERROR((N107-E107)/ABS(E107),"-") -> - | AC107: =IFERROR((O107-F107)/ABS(F107),"-") -> - | AD107: =IFERROR((P107-G107)/ABS(G107),"-") -> - | AF107: =Q107-H107 -> 0 | AG107: =R107-I107 -> 0 | AH107: =S107-J107 -> 0 | AI107: =T107-K107 -> 0 | AJ107: =IFERROR((Q107-H107)/ABS(H107),"-") -> - | AK107: =IFERROR((R107-I107)/ABS(I107),"-") -> - | AL107: =IFERROR((S107-J107)/ABS(J107),"-") -> - | AM107: =IFERROR((T107-K107)/ABS(K107),"-") -> -
B108: Burgess Hill Station (additional yield) | C108: 1138 | D108: 0 | E108: 6.37545 | F108: 0.00126 | G108: 0 | H108: 0 | I108: 0.60982 | J108: 0.00157 | K108: 0 | M108: 0 | N108: 8.65192 | O108: 0.00362 | P108: 0 | Q108: 0 | R108: 13.31452 | S108: 0.00284 | T108: 0 | U108: =SUM(D108:T108) -> 28.961 | W108: =M108-D108 -> 0 | X108: =N108-E108 -> 2.27647 | Y108: =O108-F108 -> 0.00236 | Z108: =P108-G108 -> 0 | AA108: =IFERROR((M108-D108)/ABS(D108),"-") -> - | AB108: =IFERROR((N108-E108)/ABS(E108),"-") -> 0.35706813 | AC108: =IFERROR((O108-F108)/ABS(F108),"-") -> 1.8730159 | AD108: =IFERROR((P108-G108)/ABS(G108),"-") -> - | AF108: =Q108-H108 -> 0 | AG108: =R108-I108 -> 12.7047 | AH108: =S108-J108 -> 0.00127 | AI108: =T108-K108 -> 0 | AJ108: =IFERROR((Q108-H108)/ABS(H108),"-") -> - | AK108: =IFERROR((R108-I108)/ABS(I108),"-") -> 20.833525 | AL108: =IFERROR((S108-J108)/ABS(J108),"-") -> 0.8089172 | AM108: =IFERROR((T108-K108)/ABS(K108),"-") -> -
C109: 1142 | D109: 0 | E109: 0 | F109: 0 | G109: 0 | H109: 0 | I109: 0 | J109: 0 | K109: 0 | M109: 0 | N109: 0 | O109: 0 | P109: 0 | Q109: 0 | R109: 0 | S109: 0 | T109: 0 | U109: =SUM(D109:T109) -> 0 | W109: =M109-D109 -> 0 | X109: =N109-E109 -> 0 | Y109: =O109-F109 -> 0 | Z109: =P109-G109 -> 0 | AA109: =IFERROR((M109-D109)/ABS(D109),"-") -> - | AB109: =IFERROR((N109-E109)/ABS(E109),"-") -> - | AC109: =IFERROR((O109-F109)/ABS(F109),"-") -> - | AD109: =IFERROR((P109-G109)/ABS(G109),"-") -> - | AF109: =Q109-H109 -> 0 | AG109: =R109-I109 -> 0 | AH109: =S109-J109 -> 0 | AI109: =T109-K109 -> 0 | AJ109: =IFERROR((Q109-H109)/ABS(H109),"-") -> - | AK109: =IFERROR((R109-I109)/ABS(I109),"-") -> - | AL109: =IFERROR((S109-J109)/ABS(J109),"-") -> - | AM109: =IFERROR((T109-K109)/ABS(K109),"-") -> -
B110: Orchards Shopping Centre | C110: 1143 | D110: 0 | E110: 2e-05 | F110: 2e-05 | G110: 0 | H110: 0 | I110: 0 | J110: 0 | K110: 0 | M110: 0 | N110: 0 | O110: 2e-05 | P110: 0 | Q110: 0 | R110: 0 | S110: 0 | T110: 0 | U110: =SUM(D110:T110) -> 6e-05 | W110: =M110-D110 -> 0 | X110: =N110-E110 -> -2e-05 | Y110: =O110-F110 -> 0 | Z110: =P110-G110 -> 0 | AA110: =IFERROR((M110-D110)/ABS(D110),"-") -> - | AB110: =IFERROR((N110-E110)/ABS(E110),"-") -> -1 | AC110: =IFERROR((O110-F110)/ABS(F110),"-") -> 0 | AD110: =IFERROR((P110-G110)/ABS(G110),"-") -> - | AF110: =Q110-H110 -> 0 | AG110: =R110-I110 -> 0 | AH110: =S110-J110 -> 0 | AI110: =T110-K110 -> 0 | AJ110: =IFERROR((Q110-H110)/ABS(H110),"-") -> - | AK110: =IFERROR((R110-I110)/ABS(I110),"-") -> - | AL110: =IFERROR((S110-J110)/ABS(J110),"-") -> - | AM110: =IFERROR((T110-K110)/ABS(K110),"-") -> -
C111: 1144 | D111: 0 | E111: 0 | F111: 0 | G111: 0 | H111: 0 | I111: 0 | J111: 0 | K111: 0 | M111: 0 | N111: 0 | O111: 0 | P111: 0 | Q111: 0 | R111: 0 | S111: 0 | T111: 0 | U111: =SUM(D111:T111) -> 0 | W111: =M111-D111 -> 0 | X111: =N111-E111 -> 0 | Y111: =O111-F111 -> 0 | Z111: =P111-G111 -> 0 | AA111: =IFERROR((M111-D111)/ABS(D111),"-") -> - | AB111: =IFERROR((N111-E111)/ABS(E111),"-") -> - | AC111: =IFERROR((O111-F111)/ABS(F111),"-") -> - | AD111: =IFERROR((P111-G111)/ABS(G111),"-") -> - | AF111: =Q111-H111 -> 0 | AG111: =R111-I111 -> 0 | AH111: =S111-J111 -> 0 | AI111: =T111-K111 -> 0 | AJ111: =IFERROR((Q111-H111)/ABS(H111),"-") -> - | AK111: =IFERROR((R111-I111)/ABS(I111),"-") -> - | AL111: =IFERROR((S111-J111)/ABS(J111),"-") -> - | AM111: =IFERROR((T111-K111)/ABS(K111),"-") -> -
C112: 1145 | D112: 0 | E112: 3.23808 | F112: 0 | G112: 0 | H112: 0 | I112: 1.44274 | J112: 0 | K112: 0 | M112: 0 | N112: 4.42653 | O112: 0 | P112: 0 | Q112: 0 | R112: 6.0416 | S112: 0.00057 | T112: 0 | U112: =SUM(D112:T112) -> 15.14952 | W112: =M112-D112 -> 0 | X112: =N112-E112 -> 1.18845 | Y112: =O112-F112 -> 0 | Z112: =P112-G112 -> 0 | AA112: =IFERROR((M112-D112)/ABS(D112),"-") -> - | AB112: =IFERROR((N112-E112)/ABS(E112),"-") -> 0.36702305 | AC112: =IFERROR((O112-F112)/ABS(F112),"-") -> - | AD112: =IFERROR((P112-G112)/ABS(G112),"-") -> - | AF112: =Q112-H112 -> 0 | AG112: =R112-I112 -> 4.59886 | AH112: =S112-J112 -> 0.00057 | AI112: =T112-K112 -> 0 | AJ112: =IFERROR((Q112-H112)/ABS(H112),"-") -> - | AK112: =IFERROR((R112-I112)/ABS(I112),"-") -> 3.1875875 | AL112: =IFERROR((S112-J112)/ABS(J112),"-") -> - | AM112: =IFERROR((T112-K112)/ABS(K112),"-") -> -
C113: 2001 | D113: 0.0015 | E113: 0 | F113: 0 | G113: 0.00685 | H113: 0.12223 | I113: 0 | J113: 0 | K113: 0.00011 | M113: 0.0011 | N113: 0 | O113: 0 | P113: 0.00558 | Q113: 0.12784 | R113: 0 | S113: 0 | T113: 0.00082 | U113: =SUM(D113:T113) -> 0.26603 | W113: =M113-D113 -> -0.0004 | X113: =N113-E113 -> 0 | Y113: =O113-F113 -> 0 | Z113: =P113-G113 -> -0.00127 | AA113: =IFERROR((M113-D113)/ABS(D113),"-") -> -0.26666667 | AB113: =IFERROR((N113-E113)/ABS(E113),"-") -> - | AC113: =IFERROR((O113-F113)/ABS(F113),"-") -> - | AD113: =IFERROR((P113-G113)/ABS(G113),"-") -> -0.18540146 | AF113: =Q113-H113 -> 0.00561 | AG113: =R113-I113 -> 0 | AH113: =S113-J113 -> 0 | AI113: =T113-K113 -> 0.00071 | AJ113: =IFERROR((Q113-H113)/ABS(H113),"-") -> 0.045897079 | AK113: =IFERROR((R113-I113)/ABS(I113),"-") -> - | AL113: =IFERROR((S113-J113)/ABS(J113),"-") -> - | AM113: =IFERROR((T113-K113)/ABS(K113),"-") -> 6.4545455
C114: 2002 | D114: 0.0016 | E114: 0 | F114: 0 | G114: 0.00686 | H114: 0.13793 | I114: 0 | J114: 0 | K114: 0.00011 | M114: 0.00115 | N114: 0 | O114: 0 | P114: 0.00559 | Q114: 0.14409 | R114: 0 | S114: 0 | T114: 0.00082 | U114: =SUM(D114:T114) -> 0.29815 | W114: =M114-D114 -> -0.00045 | X114: =N114-E114 -> 0 | Y114: =O114-F114 -> 0 | Z114: =P114-G114 -> -0.00127 | AA114: =IFERROR((M114-D114)/ABS(D114),"-") -> -0.28125 | AB114: =IFERROR((N114-E114)/ABS(E114),"-") -> - | AC114: =IFERROR((O114-F114)/ABS(F114),"-") -> - | AD114: =IFERROR((P114-G114)/ABS(G114),"-") -> -0.1851312 | AF114: =Q114-H114 -> 0.00616 | AG114: =R114-I114 -> 0 | AH114: =S114-J114 -> 0 | AI114: =T114-K114 -> 0.00071 | AJ114: =IFERROR((Q114-H114)/ABS(H114),"-") -> 0.044660335 | AK114: =IFERROR((R114-I114)/ABS(I114),"-") -> - | AL114: =IFERROR((S114-J114)/ABS(J114),"-") -> - | AM114: =IFERROR((T114-K114)/ABS(K114),"-") -> 6.4545455
C115: 2003 | D115: 0.0016 | E115: 0 | F115: 0 | G115: 0.02071 | H115: 0.13793 | I115: 0 | J115: 0 | K115: 0.00093 | M115: 0.00197 | N115: 0 | O115: 0 | P115: 0.01578 | Q115: 0.14597 | R115: 0 | S115: 0 | T115: 0.00263 | U115: =SUM(D115:T115) -> 0.32752 | W115: =M115-D115 -> 0.00037 | X115: =N115-E115 -> 0 | Y115: =O115-F115 -> 0 | Z115: =P115-G115 -> -0.00493 | AA115: =IFERROR((M115-D115)/ABS(D115),"-") -> 0.23125 | AB115: =IFERROR((N115-E115)/ABS(E115),"-") -> - | AC115: =IFERROR((O115-F115)/ABS(F115),"-") -> - | AD115: =IFERROR((P115-G115)/ABS(G115),"-") -> -0.23804925 | AF115: =Q115-H115 -> 0.00804 | AG115: =R115-I115 -> 0 | AH115: =S115-J115 -> 0 | AI115: =T115-K115 -> 0.0017 | AJ115: =IFERROR((Q115-H115)/ABS(H115),"-") -> 0.058290437 | AK115: =IFERROR((R115-I115)/ABS(I115),"-") -> - | AL115: =IFERROR((S115-J115)/ABS(J115),"-") -> - | AM115: =IFERROR((T115-K115)/ABS(K115),"-") -> 1.827957
C116: 2004 | D116: 0 | E116: 0 | F116: 0 | G116: 0 | H116: 0 | I116: 0 | J116: 0 | K116: 0 | M116: 0 | N116: 0 | O116: 0 | P116: 0 | Q116: 0 | R116: 0 | S116: 0 | T116: 0 | U116: =SUM(D116:T116) -> 0 | W116: =M116-D116 -> 0 | X116: =N116-E116 -> 0 | Y116: =O116-F116 -> 0 | Z116: =P116-G116 -> 0 | AA116: =IFERROR((M116-D116)/ABS(D116),"-") -> - | AB116: =IFERROR((N116-E116)/ABS(E116),"-") -> - | AC116: =IFERROR((O116-F116)/ABS(F116),"-") -> - | AD116: =IFERROR((P116-G116)/ABS(G116),"-") -> - | AF116: =Q116-H116 -> 0 | AG116: =R116-I116 -> 0 | AH116: =S116-J116 -> 0 | AI116: =T116-K116 -> 0 | AJ116: =IFERROR((Q116-H116)/ABS(H116),"-") -> - | AK116: =IFERROR((R116-I116)/ABS(I116),"-") -> - | AL116: =IFERROR((S116-J116)/ABS(J116),"-") -> - | AM116: =IFERROR((T116-K116)/ABS(K116),"-") -> -
C117: 2005 | D117: 0.00149 | E117: 0 | F117: 0 | G117: 0.00685 | H117: 0.10903 | I117: 0 | J117: 0 | K117: 0.00011 | M117: 0.00109 | N117: 0 | O117: 0 | P117: 0.00557 | Q117: 0.11419 | R117: 0 | S117: 0 | T117: 0.00082 | U117: =SUM(D117:T117) -> 0.23915 | W117: =M117-D117 -> -0.0004 | X117: =N117-E117 -> 0 | Y117: =O117-F117 -> 0 | Z117: =P117-G117 -> -0.00128 | AA117: =IFERROR((M117-D117)/ABS(D117),"-") -> -0.26845638 | AB117: =IFERROR((N117-E117)/ABS(E117),"-") -> - | AC117: =IFERROR((O117-F117)/ABS(F117),"-") -> - | AD117: =IFERROR((P117-G117)/ABS(G117),"-") -> -0.18686131 | AF117: =Q117-H117 -> 0.00516 | AG117: =R117-I117 -> 0 | AH117: =S117-J117 -> 0 | AI117: =T117-K117 -> 0.00071 | AJ117: =IFERROR((Q117-H117)/ABS(H117),"-") -> 0.047326424 | AK117: =IFERROR((R117-I117)/ABS(I117),"-") -> - | AL117: =IFERROR((S117-J117)/ABS(J117),"-") -> - | AM117: =IFERROR((T117-K117)/ABS(K117),"-") -> 6.4545455
C118: 2006 | D118: 0.00174 | E118: 0 | F118: 0 | G118: 0.00683 | H118: 0.10886 | I118: 0 | J118: 0 | K118: 0.00011 | M118: 0.0011 | N118: 0 | O118: 0 | P118: 0.00556 | Q118: 0.114 | R118: 0 | S118: 0 | T118: 0.00082 | U118: =SUM(D118:T118) -> 0.23902 | W118: =M118-D118 -> -0.00064 | X118: =N118-E118 -> 0 | Y118: =O118-F118 -> 0 | Z118: =P118-G118 -> -0.00127 | AA118: =IFERROR((M118-D118)/ABS(D118),"-") -> -0.36781609 | AB118: =IFERROR((N118-E118)/ABS(E118),"-") -> - | AC118: =IFERROR((O118-F118)/ABS(F118),"-") -> - | AD118: =IFERROR((P118-G118)/ABS(G118),"-") -> -0.18594436 | AF118: =Q118-H118 -> 0.00514 | AG118: =R118-I118 -> 0 | AH118: =S118-J118 -> 0 | AI118: =T118-K118 -> 0.00071 | AJ118: =IFERROR((Q118-H118)/ABS(H118),"-") -> 0.047216608 | AK118: =IFERROR((R118-I118)/ABS(I118),"-") -> - | AL118: =IFERROR((S118-J118)/ABS(J118),"-") -> - | AM118: =IFERROR((T118-K118)/ABS(K118),"-") -> 6.4545455
C119: 2007 | D119: 0.00174 | E119: 0 | F119: 0 | G119: 0.0206 | H119: 0.10886 | I119: 0 | J119: 0 | K119: 0.00093 | M119: 0.00192 | N119: 0 | O119: 0 | P119: 0.01572 | Q119: 0.11588 | R119: 0 | S119: 0 | T119: 0.00263 | U119: =SUM(D119:T119) -> 0.26828 | W119: =M119-D119 -> 0.00018 | X119: =N119-E119 -> 0 | Y119: =O119-F119 -> 0 | Z119: =P119-G119 -> -0.00488 | AA119: =IFERROR((M119-D119)/ABS(D119),"-") -> 0.10344828 | AB119: =IFERROR((N119-E119)/ABS(E119),"-") -> - | AC119: =IFERROR((O119-F119)/ABS(F119),"-") -> - | AD119: =IFERROR((P119-G119)/ABS(G119),"-") -> -0.2368932 | AF119: =Q119-H119 -> 0.00702 | AG119: =R119-I119 -> 0 | AH119: =S119-J119 -> 0 | AI119: =T119-K119 -> 0.0017 | AJ119: =IFERROR((Q119-H119)/ABS(H119),"-") -> 0.064486496 | AK119: =IFERROR((R119-I119)/ABS(I119),"-") -> - | AL119: =IFERROR((S119-J119)/ABS(J119),"-") -> - | AM119: =IFERROR((T119-K119)/ABS(K119),"-") -> 1.827957
C120: 2008 | D120: 0.00102 | E120: 0 | F120: 0 | G120: 0.02755 | H120: 0.21642 | I120: 0 | J120: 0 | K120: 0.00129 | M120: 0.00254 | N120: 0 | O120: 0 | P120: 0.02137 | Q120: 0.22855 | R120: 0 | S120: 0 | T120: 0.0037 | U120: =SUM(D120:T120) -> 0.50244 | W120: =M120-D120 -> 0.00152 | X120: =N120-E120 -> 0 | Y120: =O120-F120 -> 0 | Z120: =P120-G120 -> -0.00618 | AA120: =IFERROR((M120-D120)/ABS(D120),"-") -> 1.4901961 | AB120: =IFERROR((N120-E120)/ABS(E120),"-") -> - | AC120: =IFERROR((O120-F120)/ABS(F120),"-") -> - | AD120: =IFERROR((P120-G120)/ABS(G120),"-") -> -0.22431942 | AF120: =Q120-H120 -> 0.01213 | AG120: =R120-I120 -> 0 | AH120: =S120-J120 -> 0 | AI120: =T120-K120 -> 0.00241 | AJ120: =IFERROR((Q120-H120)/ABS(H120),"-") -> 0.056048424 | AK120: =IFERROR((R120-I120)/ABS(I120),"-") -> - | AL120: =IFERROR((S120-J120)/ABS(J120),"-") -> - | AM120: =IFERROR((T120-K120)/ABS(K120),"-") -> 1.8682171
C121: 2009 | D121: 0 | E121: 0 | F121: 0 | G121: 0 | H121: 0 | I121: 0 | J121: 0 | K121: 0 | M121: 0 | N121: 0 | O121: 0 | P121: 0 | Q121: 0 | R121: 0 | S121: 0 | T121: 0 | U121: =SUM(D121:T121) -> 0 | W121: =M121-D121 -> 0 | X121: =N121-E121 -> 0 | Y121: =O121-F121 -> 0 | Z121: =P121-G121 -> 0 | AA121: =IFERROR((M121-D121)/ABS(D121),"-") -> - | AB121: =IFERROR((N121-E121)/ABS(E121),"-") -> - | AC121: =IFERROR((O121-F121)/ABS(F121),"-") -> - | AD121: =IFERROR((P121-G121)/ABS(G121),"-") -> - | AF121: =Q121-H121 -> 0 | AG121: =R121-I121 -> 0 | AH121: =S121-J121 -> 0 | AI121: =T121-K121 -> 0 | AJ121: =IFERROR((Q121-H121)/ABS(H121),"-") -> - | AK121: =IFERROR((R121-I121)/ABS(I121),"-") -> - | AL121: =IFERROR((S121-J121)/ABS(J121),"-") -> - | AM121: =IFERROR((T121-K121)/ABS(K121),"-") -> -
C122: 2010 | D122: 0.00244 | E122: 0 | F122: 0 | G122: 1.05126 | H122: 0.07253 | I122: 0 | J122: 0 | K122: 0.0463 | M122: 0.07281 | N122: 0 | O122: 0 | P122: 0.80087 | Q122: 0.24031 | R122: 0 | S122: 0 | T122: 0.13194 | U122: =SUM(D122:T122) -> 2.41846 | W122: =M122-D122 -> 0.07037 | X122: =N122-E122 -> 0 | Y122: =O122-F122 -> 0 | Z122: =P122-G122 -> -0.25039 | AA122: =IFERROR((M122-D122)/ABS(D122),"-") -> 28.840164 | AB122: =IFERROR((N122-E122)/ABS(E122),"-") -> - | AC122: =IFERROR((O122-F122)/ABS(F122),"-") -> - | AD122: =IFERROR((P122-G122)/ABS(G122),"-") -> -0.23818085 | AF122: =Q122-H122 -> 0.16778 | AG122: =R122-I122 -> 0 | AH122: =S122-J122 -> 0 | AI122: =T122-K122 -> 0.08564 | AJ122: =IFERROR((Q122-H122)/ABS(H122),"-") -> 2.3132497 | AK122: =IFERROR((R122-I122)/ABS(I122),"-") -> - | AL122: =IFERROR((S122-J122)/ABS(J122),"-") -> - | AM122: =IFERROR((T122-K122)/ABS(K122),"-") -> 1.849676
... C232: 2120 | D232: 0.00905 | E232: 0 | F232: 0 | G232: 0.21216 | H232: 0.31292 | I232: 0 | J232: 0 | K232: 0.01983 | M232: 0.0545 | N232: 0 | O232: 0 | P232: 0.29616 | Q232: 0.42565 | R232: 0 | S232: 0 | T232: 0.07412 | U232: =SUM(D232:T232) -> 1.40439 | W232: =M232-D232 -> 0.04545 | X232: =N232-E232 -> 0 | Y232: =O232-F232 -> 0 | Z232: =P232-G232 -> 0.084 | AA232: =IFERROR((M232-D232)/ABS(D232),"-") -> 5.0220994 | AB232: =IFERROR((N232-E232)/ABS(E232),"-") -> - | AC232: =IFERROR((O232-F232)/ABS(F232),"-") -> - | AD232: =IFERROR((P232-G232)/ABS(G232),"-") -> 0.3959276 | AF232: =Q232-H232 -> 0.11273 | AG232: =R232-I232 -> 0 | AH232: =S232-J232 -> 0 | AI232: =T232-K232 -> 0.05429 | AJ232: =IFERROR((Q232-H232)/ABS(H232),"-") -> 0.36025182 | AK232: =IFERROR((R232-I232)/ABS(I232),"-") -> - | AL232: =IFERROR((S232-J232)/ABS(J232),"-") -> - | AM232: =IFERROR((T232-K232)/ABS(K232),"-") -> 2.7377711
B233: North East Crawley | C233: 2121 | D233: 0.00032 | E233: 0 | F233: 0 | G233: 0.39128 | H233: 0.74949 | I233: 0 | J233: 0 | K233: 0.01045 | M233: 0.00032 | N233: 0 | O233: 0 | P233: 0.24135 | Q233: 0.56891 | R233: 0 | S233: 0 | T233: 0.01029 | U233: =SUM(D233:T233) -> 1.97241 | W233: =M233-D233 -> 0 | X233: =N233-E233 -> 0 | Y233: =O233-F233 -> 0 | Z233: =P233-G233 -> -0.14993 | AA233: =IFERROR((M233-D233)/ABS(D233),"-") -> 0 | AB233: =IFERROR((N233-E233)/ABS(E233),"-") -> - | AC233: =IFERROR((O233-F233)/ABS(F233),"-") -> - | AD233: =IFERROR((P233-G233)/ABS(G233),"-") -> -0.38317829 | AF233: =Q233-H233 -> -0.18058 | AG233: =R233-I233 -> 0 | AH233: =S233-J233 -> 0 | AI233: =T233-K233 -> -0.00016 | AJ233: =IFERROR((Q233-H233)/ABS(H233),"-") -> -0.24093717 | AK233: =IFERROR((R233-I233)/ABS(I233),"-") -> - | AL233: =IFERROR((S233-J233)/ABS(J233),"-") -> - | AM233: =IFERROR((T233-K233)/ABS(K233),"-") -> -0.015311005
C234: 2122 | D234: 5e-05 | E234: 0 | F234: 0 | G234: 0.22063 | H234: 0.17243 | I234: 0 | J234: 0 | K234: 0.00741 | M234: 1e-05 | N234: 0 | O234: 0 | P234: 0.15285 | Q234: 0.20528 | R234: 0 | S234: 0 | T234: 0.00741 | U234: =SUM(D234:T234) -> 0.76607 | W234: =M234-D234 -> -4e-05 | X234: =N234-E234 -> 0 | Y234: =O234-F234 -> 0 | Z234: =P234-G234 -> -0.06778 | AA234: =IFERROR((M234-D234)/ABS(D234),"-") -> -0.8 | AB234: =IFERROR((N234-E234)/ABS(E234),"-") -> - | AC234: =IFERROR((O234-F234)/ABS(F234),"-") -> - | AD234: =IFERROR((P234-G234)/ABS(G234),"-") -> -0.30721117 | AF234: =Q234-H234 -> 0.03285 | AG234: =R234-I234 -> 0 | AH234: =S234-J234 -> 0 | AI234: =T234-K234 -> 0 | AJ234: =IFERROR((Q234-H234)/ABS(H234),"-") -> 0.19051209 | AK234: =IFERROR((R234-I234)/ABS(I234),"-") -> - | AL234: =IFERROR((S234-J234)/ABS(J234),"-") -> - | AM234: =IFERROR((T234-K234)/ABS(K234),"-") -> 0
C235: 2123 | D235: 0.00017 | E235: 0 | F235: 0 | G235: 0.19766 | H235: 0.1055 | I235: 0 | J235: 0 | K235: 0.0101 | M235: 0.00013 | N235: 0 | O235: 0 | P235: 0.14882 | Q235: 0.10992 | R235: 0 | S235: 0 | T235: 0.0101 | U235: =SUM(D235:T235) -> 0.5824 | W235: =M235-D235 -> -4e-05 | X235: =N235-E235 -> 0 | Y235: =O235-F235 -> 0 | Z235: =P235-G235 -> -0.04884 | AA235: =IFERROR((M235-D235)/ABS(D235),"-") -> -0.23529412 | AB235: =IFERROR((N235-E235)/ABS(E235),"-") -> - | AC235: =IFERROR((O235-F235)/ABS(F235),"-") -> - | AD235: =IFERROR((P235-G235)/ABS(G235),"-") -> -0.24709096 | AF235: =Q235-H235 -> 0.00442 | AG235: =R235-I235 -> 0 | AH235: =S235-J235 -> 0 | AI235: =T235-K235 -> 0 | AJ235: =IFERROR((Q235-H235)/ABS(H235),"-") -> 0.041895735 | AK235: =IFERROR((R235-I235)/ABS(I235),"-") -> - | AL235: =IFERROR((S235-J235)/ABS(J235),"-") -> - | AM235: =IFERROR((T235-K235)/ABS(K235),"-") -> 0
C236: 2124 | D236: 0.00013 | E236: 0 | F236: 0 | G236: 0.19855 | H236: 0.07645 | I236: 0 | J236: 0 | K236: 0.00999 | M236: 9e-05 | N236: 0 | O236: 0 | P236: 0.14899 | Q236: 0.07947 | R236: 0 | S236: 0 | T236: 0.00999 | U236: =SUM(D236:T236) -> 0.52366 | W236: =M236-D236 -> -4e-05 | X236: =N236-E236 -> 0 | Y236: =O236-F236 -> 0 | Z236: =P236-G236 -> -0.04956 | AA236: =IFERROR((M236-D236)/ABS(D236),"-") -> -0.30769231 | AB236: =IFERROR((N236-E236)/ABS(E236),"-") -> - | AC236: =IFERROR((O236-F236)/ABS(F236),"-") -> - | AD236: =IFERROR((P236-G236)/ABS(G236),"-") -> -0.24960967 | AF236: =Q236-H236 -> 0.00302 | AG236: =R236-I236 -> 0 | AH236: =S236-J236 -> 0 | AI236: =T236-K236 -> 0 | AJ236: =IFERROR((Q236-H236)/ABS(H236),"-") -> 0.039502943 | AK236: =IFERROR((R236-I236)/ABS(I236),"-") -> - | AL236: =IFERROR((S236-J236)/ABS(J236),"-") -> - | AM236: =IFERROR((T236-K236)/ABS(K236),"-") -> 0
C237: 2125 | D237: 0.0002 | E237: 0 | F237: 0 | G237: 0.32058 | H237: 0.05819 | I237: 0 | J237: 0 | K237: 0.00748 | M237: 0.00012 | N237: 0 | O237: 0 | P237: 0.16109 | Q237: 0.06107 | R237: 0 | S237: 0 | T237: 0.00748 | U237: =SUM(D237:T237) -> 0.61621 | W237: =M237-D237 -> -8e-05 | X237: =N237-E237 -> 0 | Y237: =O237-F237 -> 0 | Z237: =P237-G237 -> -0.15949 | AA237: =IFERROR((M237-D237)/ABS(D237),"-") -> -0.4 | AB237: =IFERROR((N237-E237)/ABS(E237),"-") -> - | AC237: =IFERROR((O237-F237)/ABS(F237),"-") -> - | AD237: =IFERROR((P237-G237)/ABS(G237),"-") -> -0.49750452 | AF237: =Q237-H237 -> 0.00288 | AG237: =R237-I237 -> 0 | AH237: =S237-J237 -> 0 | AI237: =T237-K237 -> 0 | AJ237: =IFERROR((Q237-H237)/ABS(H237),"-") -> 0.04949304 | AK237: =IFERROR((R237-I237)/ABS(I237),"-") -> - | AL237: =IFERROR((S237-J237)/ABS(J237),"-") -> - | AM237: =IFERROR((T237-K237)/ABS(K237),"-") -> 0
C238: 2126 | D238: 4e-05 | E238: 0 | F238: 0 | G238: 0.58279 | H238: 0.09095 | I238: 0 | J238: 0 | K238: 0.01595 | M238: 3e-05 | N238: 0 | O238: 0 | P238: 0.35149 | Q238: 0.09401 | R238: 0 | S238: 0 | T238: 0.01595 | U238: =SUM(D238:T238) -> 1.15121 | W238: =M238-D238 -> -1e-05 | X238: =N238-E238 -> 0 | Y238: =O238-F238 -> 0 | Z238: =P238-G238 -> -0.2313 | AA238: =IFERROR((M238-D238)/ABS(D238),"-") -> -0.25 | AB238: =IFERROR((N238-E238)/ABS(E238),"-") -> - | AC238: =IFERROR((O238-F238)/ABS(F238),"-") -> - | AD238: =IFERROR((P238-G238)/ABS(G238),"-") -> -0.39688395 | AF238: =Q238-H238 -> 0.00306 | AG238: =R238-I238 -> 0 | AH238: =S238-J238 -> 0 | AI238: =T238-K238 -> 0 | AJ238: =IFERROR((Q238-H238)/ABS(H238),"-") -> 0.03364486 | AK238: =IFERROR((R238-I238)/ABS(I238),"-") -> - | AL238: =IFERROR((S238-J238)/ABS(J238),"-") -> - | AM238: =IFERROR((T238-K238)/ABS(K238),"-") -> 0
C239: 2127 | D239: 0.15977 | E239: 0 | F239: 0 | G239: 0.46944 | H239: 0.02652 | I239: 0 | J239: 0 | K239: 1.41579 | M239: 0.15898 | N239: 0 | O239: 0 | P239: 0.2832 | Q239: 0.02834 | R239: 0 | S239: 0 | T239: 1.42456 | U239: =SUM(D239:T239) -> 3.9666 | W239: =M239-D239 -> -0.00079 | X239: =N239-E239 -> 0 | Y239: =O239-F239 -> 0 | Z239: =P239-G239 -> -0.18624 | AA239: =IFERROR((M239-D239)/ABS(D239),"-") -> -0.0049446079 | AB239: =IFERROR((N239-E239)/ABS(E239),"-") -> - | AC239: =IFERROR((O239-F239)/ABS(F239),"-") -> - | AD239: =IFERROR((P239-G239)/ABS(G239),"-") -> -0.39672802 | AF239: =Q239-H239 -> 0.00182 | AG239: =R239-I239 -> 0 | AH239: =S239-J239 -> 0 | AI239: =T239-K239 -> 0.00877 | AJ239: =IFERROR((Q239-H239)/ABS(H239),"-") -> 0.068627451 | AK239: =IFERROR((R239-I239)/ABS(I239),"-") -> - | AL239: =IFERROR((S239-J239)/ABS(J239),"-") -> - | AM239: =IFERROR((T239-K239)/ABS(K239),"-") -> 0.0061944215
C240: 2128 | D240: 0.00031 | E240: 0 | F240: 0 | G240: 0.55237 | H240: 0.77918 | I240: 0 | J240: 0 | K240: 0.01761 | M240: 0.00026 | N240: 0 | O240: 0 | P240: 0.23864 | Q240: 0.90476 | R240: 0 | S240: 0 | T240: 0.01761 | U240: =SUM(D240:T240) -> 2.51074 | W240: =M240-D240 -> -5e-05 | X240: =N240-E240 -> 0 | Y240: =O240-F240 -> 0 | Z240: =P240-G240 -> -0.31373 | AA240: =IFERROR((M240-D240)/ABS(D240),"-") -> -0.16129032 | AB240: =IFERROR((N240-E240)/ABS(E240),"-") -> - | AC240: =IFERROR((O240-F240)/ABS(F240),"-") -> - | AD240: =IFERROR((P240-G240)/ABS(G240),"-") -> -0.56797074 | AF240: =Q240-H240 -> 0.12558 | AG240: =R240-I240 -> 0 | AH240: =S240-J240 -> 0 | AI240: =T240-K240 -> 0 | AJ240: =IFERROR((Q240-H240)/ABS(H240),"-") -> 0.16116943 | AK240: =IFERROR((R240-I240)/ABS(I240),"-") -> - | AL240: =IFERROR((S240-J240)/ABS(J240),"-") -> - | AM240: =IFERROR((T240-K240)/ABS(K240),"-") -> 0
C241: 2129 | D241: 0.01608 | E241: 0 | F241: 0 | G241: 0.01213 | H241: 0.01062 | I241: 0 | J241: 0 | K241: 0.13563 | M241: 0.01472 | N241: 0 | O241: 0 | P241: 0.00733 | Q241: 0.01193 | R241: 0 | S241: 0 | T241: 0.13567 | U241: =SUM(D241:T241) -> 0.34411 | W241: =M241-D241 -> -0.00136 | X241: =N241-E241 -> 0 | Y241: =O241-F241 -> 0 | Z241: =P241-G241 -> -0.0048 | AA241: =IFERROR((M241-D241)/ABS(D241),"-") -> -0.084577114 | AB241: =IFERROR((N241-E241)/ABS(E241),"-") -> - | AC241: =IFERROR((O241-F241)/ABS(F241),"-") -> - | AD241: =IFERROR((P241-G241)/ABS(G241),"-") -> -0.39571311 | AF241: =Q241-H241 -> 0.00131 | AG241: =R241-I241 -> 0 | AH241: =S241-J241 -> 0 | AI241: =T241-K241 -> 4e-05 | AJ241: =IFERROR((Q241-H241)/ABS(H241),"-") -> 0.12335217 | AK241: =IFERROR((R241-I241)/ABS(I241),"-") -> - | AL241: =IFERROR((S241-J241)/ABS(J241),"-") -> - | AM241: =IFERROR((T241-K241)/ABS(K241),"-") -> 0.00029492
...

Sheet Summary(Rounded)
B2: Hurstpierpoint High Street - Select Link Analyis - Trip End Summary | AM2: MID SUSSEX LOCAL PLAN SCENARIO 7
B4: Project: | C4: Mid Sussex Local Plan Scenario 7 | H4: Owner/s: | I4: SC & RJ | M4: Rounded to 1 decimal place | AK4: #VALUE!
B5: ProjID: | C5: GB01T26D08 | H5: Date: | I5: 46303 | R5: FILTER here to remove Zone with 0 trips on High Street
B7: Local Plan Site | C7: Zone ID | D7: Reference Case BF | M7: SC7M5 BF | U7: 0 or not 0 FILTER | W7: ABS Difference | AA7: % Difference | AF7: ABS Difference | AJ7: % Difference
D8: AM | H8: PM | M8: AM | Q8: PM | W8: AM | AA8: AM | AF8: PM | AJ8: PM
D9: Eastbound | F9: Westbound | H9: Eastbound | J9: Westbound | M9: Eastbound | O9: Westbound | Q9: Eastbound | S9: Westbound | W9: Eastbound | Y9: Westbound | AA9: Eastbound | AC9: Westbound | AF9: Eastbound | AH9: Westbound | AJ9: Eastbound | AL9: Westbound
D10: Origin | E10: Desti' | F10: Origin | G10: Desti' | H10: Origin | I10: Desti' | J10: Origin | K10: Desti' | M10: Origin | N10: Desti' | O10: Origin | P10: Desti' | Q10: Origin | R10: Desti' | S10: Origin | T10: Desti' | W10: Origin | X10: Desti' | Y10: Origin | Z10: Desti' | AA10: Origin | AB10: Desti' | AC10: Origin | AD10: Desti' | AF10: Origin | AG10: Desti' | AH10: Origin | AI10: Desti' | AJ10: Origin | AK10: Desti' | AL10: Origin | AM10: Desti'
C11: Total | D11: =SUM(D12:D865) -> 396.3 | E11: =SUM(E12:E865) -> 399.7 | F11: =SUM(F12:F865) -> 377.1 | G11: =SUM(G12:G865) -> 375.4 | H11: =SUM(H12:H865) -> 629.7 | I11: =SUM(I12:I865) -> 631.6 | J11: =SUM(J12:J865) -> 231.9 | K11: =SUM(K12:K865) -> 230.8 | M11: =SUM(M12:M865) -> 460.3 | N11: =SUM(N12:N865) -> 463.8 | O11: =SUM(O12:O865) -> 464.4 | P11: =SUM(P12:P865) -> 461.8 | Q11: =SUM(Q12:Q865) -> 749.6 | R11: =SUM(R12:R865) -> 752.4 | S11: =SUM(S12:S865) -> 273.2 | T11: =SUM(T12:T865) -> 271.9 | U11: =SUM(D11:T11) -> 7169.9 | W11: =M11-D11 -> 64 | X11: =N11-E11 -> 64.1 | Y11: =O11-F11 -> 87.3 | Z11: =P11-G11 -> 86.4 | AA11: =IFERROR(W11/D11,"-") -> 0.16149382 | AB11: =IFERROR(X11/E11,"-") -> 0.16037028 | AC11: =IFERROR(Y11/F11,"-") -> 0.23150358 | AD11: =IFERROR(Z11/G11,"-") -> 0.2301545 | AF11: =Q11-H11 -> 119.9 | AG11: =R11-I11 -> 120.8 | AH11: =S11-J11 -> 41.3 | AI11: =T11-K11 -> 41.1 | AJ11: =IFERROR(AF11/H11,"-") -> 0.19040813 | AK11: =IFERROR(AG11/I11,"-") -> 0.19126029 | AL11: =IFERROR(AH11/J11,"-") -> 0.17809401 | AM11: =IFERROR(AI11/K11,"-") -> 0.17807626
C12: 1026 | D12: =ROUND(Summary!D12,1) -> 0 | E12: =ROUND(Summary!E12,1) -> 60.3 | F12: =ROUND(Summary!F12,1) -> 48.1 | G12: =ROUND(Summary!G12,1) -> 0 | H12: =ROUND(Summary!H12,1) -> 0 | I12: =ROUND(Summary!I12,1) -> 39.5 | J12: =ROUND(Summary!J12,1) -> 62.1 | K12: =ROUND(Summary!K12,1) -> 0 | ... T12: =ROUND(Summary!T12,1) -> 0 | U12: =SUM(D12:T12) -> 388 | W12: =M12-D12 -> 0 | X12: =N12-E12 -> -36.5 | Y12: =O12-F12 -> 10.9 | Z12: =P12-G12 -> 0 | AA12: =IFERROR((M12-D12)/ABS(D12),"-") -> - | AB12: =IFERROR((N12-E12)/ABS(E12),"-") -> -0.6053068 | AC12: =IFERROR((O12-F12)/ABS(F12),"-") -> 0.22661123 | AD12: =IFERROR((P12-G12)/ABS(G12),"-") -> - | AF12: =Q12-H12 -> 0 | AG12: =R12-I12 -> -13.6 | AH12: =S12-J12 -> 7.2 | AI12: =T12-K12 -> 0 | AJ12: =IFERROR((Q12-H12)/ABS(H12),"-") -> - | AK12: =IFERROR((R12-I12)/ABS(I12),"-") -> -0.3443038 | AL12: =IFERROR((S12-J12)/ABS(J12),"-") -> 0.11594203 | AM12: =IFERROR((T12-K12)/ABS(K12),"-") -> -
C13: 1028 | D13: =ROUND(Summary!D13,1) -> 0 | E13: =ROUND(Summary!E13,1) -> 2.6 | F13: =ROUND(Summary!F13,1) -> 35.9 | G13: =ROUND(Summary!G13,1) -> 0 | H13: =ROUND(Summary!H13,1) -> 0 | I13: =ROUND(Summary!I13,1) -> 19.1 | J13: =ROUND(Summary!J13,1) -> 1.7 | K13: =ROUND(Summary!K13,1) -> 0 | ... T13: =ROUND(Summary!T13,1) -> 0 | U13: =SUM(D13:T13) -> 106.2 | W13: =M13-D13 -> 0 | X13: =N13-E13 -> 0.9 | Y13: =O13-F13 -> -15.9 | Z13: =P13-G13 -> 0 | AA13: =IFERROR((M13-D13)/ABS(D13),"-") -> - | AB13: =IFERROR((N13-E13)/ABS(E13),"-") -> 0.34615385 | AC13: =IFERROR((O13-F13)/ABS(F13),"-") -> -0.44289694 | AD13: =IFERROR((P13-G13)/ABS(G13),"-") -> - | AF13: =Q13-H13 -> 0 | AG13: =R13-I13 -> 0.6 | AH13: =S13-J13 -> 2 | AI13: =T13-K13 -> 0 | AJ13: =IFERROR((Q13-H13)/ABS(H13),"-") -> - | AK13: =IFERROR((R13-I13)/ABS(I13),"-") -> 0.031413613 | AL13: =IFERROR((S13-J13)/ABS(J13),"-") -> 1.1764706 | AM13: =IFERROR((T13-K13)/ABS(K13),"-") -> -
B14: Land east of College Lane | C14: 1029 | D14: =ROUND(Summary!D14,1) -> 0 | E14: =ROUND(Summary!E14,1) -> 69.8 | F14: =ROUND(Summary!F14,1) -> 70.3 | G14: =ROUND(Summary!G14,1) -> 0 | H14: =ROUND(Summary!H14,1) -> 0 | I14: =ROUND(Summary!I14,1) -> 189 | J14: =ROUND(Summary!J14,1) -> 47.6 | K14: =ROUND(Summary!K14,1) -> 0 | ... T14: =ROUND(Summary!T14,1) -> 0 | U14: =SUM(D14:T14) -> 891.6 | W14: =M14-D14 -> 0 | X14: =N14-E14 -> 20 | Y14: =O14-F14 -> 77.6 | Z14: =P14-G14 -> 0 | AA14: =IFERROR((M14-D14)/ABS(D14),"-") -> - | AB14: =IFERROR((N14-E14)/ABS(E14),"-") -> 0.28653295 | AC14: =IFERROR((O14-F14)/ABS(F14),"-") -> 1.1038407 | AD14: =IFERROR((P14-G14)/ABS(G14),"-") -> - | AF14: =Q14-H14 -> 0 | AG14: =R14-I14 -> 25.5 | AH14: =S14-J14 -> 15.1 | AI14: =T14-K14 -> 0 | AJ14: =IFERROR((Q14-H14)/ABS(H14),"-") -> - | AK14: =IFERROR((R14-I14)/ABS(I14),"-") -> 0.13492063 | AL14: =IFERROR((S14-J14)/ABS(J14),"-") -> 0.31722689 | AM14: =IFERROR((T14-K14)/ABS(K14),"-") -> -
B15: Land north of Willow Way and Talbot Mead, Cuckfield Road | C15: 1030 | D15: =ROUND(Summary!D15,1) -> 97.4 | E15: =ROUND(Summary!E15,1) -> 0 | F15: =ROUND(Summary!F15,1) -> 0 | G15: =ROUND(Summary!G15,1) -> 13.6 | H15: =ROUND(Summary!H15,1) -> 30.9 | I15: =ROUND(Summary!I15,1) -> 0 | J15: =ROUND(Summary!J15,1) -> 0 | K15: =ROUND(Summary!K15,1) -> 21.1 | ... T15: =ROUND(Summary!T15,1) -> 24.5 | U15: =SUM(D15:T15) -> 328 | W15: =M15-D15 -> -5.8 | X15: =N15-E15 -> 0 | Y15: =O15-F15 -> 0 | Z15: =P15-G15 -> 2.8 | AA15: =IFERROR((M15-D15)/ABS(D15),"-") -> -0.059548255 | AB15: =IFERROR((N15-E15)/ABS(E15),"-") -> - | AC15: =IFERROR((O15-F15)/ABS(F15),"-") -> - | AD15: =IFERROR((P15-G15)/ABS(G15),"-") -> 0.20588235 | AF15: =Q15-H15 -> 1.6 | AG15: =R15-I15 -> 0 | AH15: =S15-J15 -> 0 | AI15: =T15-K15 -> 3.4 | AJ15: =IFERROR((Q15-H15)/ABS(H15),"-") -> 0.051779935 | AK15: =IFERROR((R15-I15)/ABS(I15),"-") -> - | AL15: =IFERROR((S15-J15)/ABS(J15),"-") -> - | AM15: =IFERROR((T15-K15)/ABS(K15),"-") -> 0.16113744
C16: 1031 | D16: =ROUND(Summary!D16,1) -> 21.1 | E16: =ROUND(Summary!E16,1) -> 0 | F16: =ROUND(Summary!F16,1) -> 0 | G16: =ROUND(Summary!G16,1) -> 3.2 | H16: =ROUND(Summary!H16,1) -> 3 | I16: =ROUND(Summary!I16,1) -> 0 | J16: =ROUND(Summary!J16,1) -> 0 | K16: =ROUND(Summary!K16,1) -> 6.8 | ... T16: =ROUND(Summary!T16,1) -> 7.6 | U16: =SUM(D16:T16) -> 68.4 | W16: =M16-D16 -> -0.8 | X16: =N16-E16 -> 0 | Y16: =O16-F16 -> 0 | Z16: =P16-G16 -> 0.2 | AA16: =IFERROR((M16-D16)/ABS(D16),"-") -> -0.037914692 | AB16: =IFERROR((N16-E16)/ABS(E16),"-") -> - | AC16: =IFERROR((O16-F16)/ABS(F16),"-") -> - | AD16: =IFERROR((P16-G16)/ABS(G16),"-") -> 0.0625 | AF16: =Q16-H16 -> 0 | AG16: =R16-I16 -> 0 | AH16: =S16-J16 -> 0 | AI16: =T16-K16 -> 0.8 | AJ16: =IFERROR((Q16-H16)/ABS(H16),"-") -> 0 | AK16: =IFERROR((R16-I16)/ABS(I16),"-") -> - | AL16: =IFERROR((S16-J16)/ABS(J16),"-") -> - | AM16: =IFERROR((T16-K16)/ABS(K16),"-") -> 0.11764706
C17: 1033 | D17: =ROUND(Summary!D17,1) -> 0 | E17: =ROUND(Summary!E17,1) -> 0 | F17: =ROUND(Summary!F17,1) -> 0 | G17: =ROUND(Summary!G17,1) -> 0 | H17: =ROUND(Summary!H17,1) -> 0 | I17: =ROUND(Summary!I17,1) -> 0 | J17: =ROUND(Summary!J17,1) -> 0 | K17: =ROUND(Summary!K17,1) -> 0 | ... T17: =ROUND(Summary!T17,1) -> 0 | U17: =SUM(D17:T17) -> 0 | W17: =M17-D17 -> 0 | X17: =N17-E17 -> 0 | Y17: =O17-F17 -> 0 | Z17: =P17-G17 -> 0 | AA17: =IFERROR((M17-D17)/ABS(D17),"-") -> - | AB17: =IFERROR((N17-E17)/ABS(E17),"-") -> - | AC17: =IFERROR((O17-F17)/ABS(F17),"-") -> - | AD17: =IFERROR((P17-G17)/ABS(G17),"-") -> - | AF17: =Q17-H17 -> 0 | AG17: =R17-I17 -> 0 | AH17: =S17-J17 -> 0 | AI17: =T17-K17 -> 0 | AJ17: =IFERROR((Q17-H17)/ABS(H17),"-") -> - | AK17: =IFERROR((R17-I17)/ABS(I17),"-") -> - | AL17: =IFERROR((S17-J17)/ABS(J17),"-") -> - | AM17: =IFERROR((T17-K17)/ABS(K17),"-") -> -
B18: Land at Stairbridge Lane (South of Bolney Grange), Bolney | C18: 1034 | D18: =ROUND(Summary!D18,1) -> 0.3 | E18: =ROUND(Summary!E18,1) -> 0 | F18: =ROUND(Summary!F18,1) -> 0 | G18: =ROUND(Summary!G18,1) -> 1.6 | H18: =ROUND(Summary!H18,1) -> 1.6 | I18: =ROUND(Summary!I18,1) -> 0 | J18: =ROUND(Summary!J18,1) -> 0 | K18: =ROUND(Summary!K18,1) -> 0.1 | ... T18: =ROUND(Summary!T18,1) -> 0.2 | U18: =SUM(D18:T18) -> 6.4 | W18: =M18-D18 -> -0.1 | X18: =N18-E18 -> 0 | Y18: =O18-F18 -> 0 | Z18: =P18-G18 -> -0.4 | AA18: =IFERROR((M18-D18)/ABS(D18),"-") -> -0.33333333 | AB18: =IFERROR((N18-E18)/ABS(E18),"-") -> - | AC18: =IFERROR((O18-F18)/ABS(F18),"-") -> - | AD18: =IFERROR((P18-G18)/ABS(G18),"-") -> -0.25 | AF18: =Q18-H18 -> -0.4 | AG18: =R18-I18 -> 0 | AH18: =S18-J18 -> 0 | AI18: =T18-K18 -> 0.1 | AJ18: =IFERROR((Q18-H18)/ABS(H18),"-") -> -0.25 | AK18: =IFERROR((R18-I18)/ABS(I18),"-") -> - | AL18: =IFERROR((S18-J18)/ABS(J18),"-") -> - | AM18: =IFERROR((T18-K18)/ABS(K18),"-") -> 1
C19: 1035 | D19: =ROUND(Summary!D19,1) -> 1.2 | E19: =ROUND(Summary!E19,1) -> 0 | F19: =ROUND(Summary!F19,1) -> 0 | G19: =ROUND(Summary!G19,1) -> 3.5 | H19: =ROUND(Summary!H19,1) -> 1.4 | I19: =ROUND(Summary!I19,1) -> 0 | J19: =ROUND(Summary!J19,1) -> 0 | K19: =ROUND(Summary!K19,1) -> 0.9 | ... T19: =ROUND(Summary!T19,1) -> 0.9 | U19: =SUM(D19:T19) -> 13.9 | W19: =M19-D19 -> -0.6 | X19: =N19-E19 -> 0 | Y19: =O19-F19 -> 0 | Z19: =P19-G19 -> 0.4 | AA19: =IFERROR((M19-D19)/ABS(D19),"-") -> -0.5 | AB19: =IFERROR((N19-E19)/ABS(E19),"-") -> - | AC19: =IFERROR((O19-F19)/ABS(F19),"-") -> - | AD19: =IFERROR((P19-G19)/ABS(G19),"-") -> 0.11428571 | AF19: =Q19-H19 -> 0.1 | AG19: =R19-I19 -> 0 | AH19: =S19-J19 -> 0 | AI19: =T19-K19 -> 0 | AJ19: =IFERROR((Q19-H19)/ABS(H19),"-") -> 0.071428571 | AK19: =IFERROR((R19-I19)/ABS(I19),"-") -> - | AL19: =IFERROR((S19-J19)/ABS(J19),"-") -> - | AM19: =IFERROR((T19-K19)/ABS(K19),"-") -> 0
C20: 1036 | D20: =ROUND(Summary!D20,1) -> 2.8 | E20: =ROUND(Summary!E20,1) -> 0 | F20: =ROUND(Summary!F20,1) -> 0 | G20: =ROUND(Summary!G20,1) -> 0.4 | H20: =ROUND(Summary!H20,1) -> 11.5 | I20: =ROUND(Summary!I20,1) -> 0 | J20: =ROUND(Summary!J20,1) -> 0 | K20: =ROUND(Summary!K20,1) -> 0 | ... T20: =ROUND(Summary!T20,1) -> 0.3 | U20: =SUM(D20:T20) -> 18.6 | W20: =M20-D20 -> -2.5 | X20: =N20-E20 -> 0 | Y20: =O20-F20 -> 0 | Z20: =P20-G20 -> -0.3 | AA20: =IFERROR((M20-D20)/ABS(D20),"-") -> -0.89285714 | AB20: =IFERROR((N20-E20)/ABS(E20),"-") -> - | AC20: =IFERROR((O20-F20)/ABS(F20),"-") -> - | AD20: =IFERROR((P20-G20)/ABS(G20),"-") -> -0.75 | AF20: =Q20-H20 -> -8.3 | AG20: =R20-I20 -> 0 | AH20: =S20-J20 -> 0 | AI20: =T20-K20 -> 0.3 | AJ20: =IFERROR((Q20-H20)/ABS(H20),"-") -> -0.72173913 | AK20: =IFERROR((R20-I20)/ABS(I20),"-") -> - | AL20: =IFERROR((S20-J20)/ABS(J20),"-") -> - | AM20: =IFERROR((T20-K20)/ABS(K20),"-") -> -
C21: 1037 | D21: =ROUND(Summary!D21,1) -> 0 | E21: =ROUND(Summary!E21,1) -> 0 | F21: =ROUND(Summary!F21,1) -> 0 | G21: =ROUND(Summary!G21,1) -> 0 | H21: =ROUND(Summary!H21,1) -> 0 | I21: =ROUND(Summary!I21,1) -> 0 | J21: =ROUND(Summary!J21,1) -> 0 | K21: =ROUND(Summary!K21,1) -> 0 | ... T21: =ROUND(Summary!T21,1) -> 0 | U21: =SUM(D21:T21) -> 0 | W21: =M21-D21 -> 0 | X21: =N21-E21 -> 0 | Y21: =O21-F21 -> 0 | Z21: =P21-G21 -> 0 | AA21: =IFERROR((M21-D21)/ABS(D21),"-") -> - | AB21: =IFERROR((N21-E21)/ABS(E21),"-") -> - | AC21: =IFERROR((O21-F21)/ABS(F21),"-") -> - | AD21: =IFERROR((P21-G21)/ABS(G21),"-") -> - | AF21: =Q21-H21 -> 0 | AG21: =R21-I21 -> 0 | AH21: =S21-J21 -> 0 | AI21: =T21-K21 -> 0 | AJ21: =IFERROR((Q21-H21)/ABS(H21),"-") -> - | AK21: =IFERROR((R21-I21)/ABS(I21),"-") -> - | AL21: =IFERROR((S21-J21)/ABS(J21),"-") -> - | AM21: =IFERROR((T21-K21)/ABS(K21),"-") -> -
C22: 1038 | D22: =ROUND(Summary!D22,1) -> 0 | E22: =ROUND(Summary!E22,1) -> 0 | F22: =ROUND(Summary!F22,1) -> 0 | G22: =ROUND(Summary!G22,1) -> 0 | H22: =ROUND(Summary!H22,1) -> 0 | I22: =ROUND(Summary!I22,1) -> 0 | J22: =ROUND(Summary!J22,1) -> 0 | K22: =ROUND(Summary!K22,1) -> 0 | ... T22: =ROUND(Summary!T22,1) -> 0 | U22: =SUM(D22:T22) -> 0 | W22: =M22-D22 -> 0 | X22: =N22-E22 -> 0 | Y22: =O22-F22 -> 0 | Z22: =P22-G22 -> 0 | AA22: =IFERROR((M22-D22)/ABS(D22),"-") -> - | AB22: =IFERROR((N22-E22)/ABS(E22),"-") -> - | AC22: =IFERROR((O22-F22)/ABS(F22),"-") -> - | AD22: =IFERROR((P22-G22)/ABS(G22),"-") -> - | AF22: =Q22-H22 -> 0 | AG22: =R22-I22 -> 0 | AH22: =S22-J22 -> 0 | AI22: =T22-K22 -> 0 | AJ22: =IFERROR((Q22-H22)/ABS(H22),"-") -> - | AK22: =IFERROR((R22-I22)/ABS(I22),"-") -> - | AL22: =IFERROR((S22-J22)/ABS(J22),"-") -> - | AM22: =IFERROR((T22-K22)/ABS(K22),"-") -> -
C23: 1039 | D23: =ROUND(Summary!D23,1) -> 0 | E23: =ROUND(Summary!E23,1) -> 0 | F23: =ROUND(Summary!F23,1) -> 0 | G23: =ROUND(Summary!G23,1) -> 0 | H23: =ROUND(Summary!H23,1) -> 0 | I23: =ROUND(Summary!I23,1) -> 0 | J23: =ROUND(Summary!J23,1) -> 0 | K23: =ROUND(Summary!K23,1) -> 0 | ... T23: =ROUND(Summary!T23,1) -> 0 | U23: =SUM(D23:T23) -> 0 | W23: =M23-D23 -> 0 | X23: =N23-E23 -> 0 | Y23: =O23-F23 -> 0 | Z23: =P23-G23 -> 0 | AA23: =IFERROR((M23-D23)/ABS(D23),"-") -> - | AB23: =IFERROR((N23-E23)/ABS(E23),"-") -> - | AC23: =IFERROR((O23-F23)/ABS(F23),"-") -> - | AD23: =IFERROR((P23-G23)/ABS(G23),"-") -> - | AF23: =Q23-H23 -> 0 | AG23: =R23-I23 -> 0 | AH23: =S23-J23 -> 0 | AI23: =T23-K23 -> 0 | AJ23: =IFERROR((Q23-H23)/ABS(H23),"-") -> - | AK23: =IFERROR((R23-I23)/ABS(I23),"-") -> - | AL23: =IFERROR((S23-J23)/ABS(J23),"-") -> - | AM23: =IFERROR((T23-K23)/ABS(K23),"-") -> -
C24: 1040 | D24: =ROUND(Summary!D24,1) -> 0 | E24: =ROUND(Summary!E24,1) -> 0 | F24: =ROUND(Summary!F24,1) -> 0 | G24: =ROUND(Summary!G24,1) -> 0 | H24: =ROUND(Summary!H24,1) -> 0 | I24: =ROUND(Summary!I24,1) -> 0 | J24: =ROUND(Summary!J24,1) -> 0 | K24: =ROUND(Summary!K24,1) -> 0 | ... T24: =ROUND(Summary!T24,1) -> 0 | U24: =SUM(D24:T24) -> 0 | W24: =M24-D24 -> 0 | X24: =N24-E24 -> 0 | Y24: =O24-F24 -> 0 | Z24: =P24-G24 -> 0 | AA24: =IFERROR((M24-D24)/ABS(D24),"-") -> - | AB24: =IFERROR((N24-E24)/ABS(E24),"-") -> - | AC24: =IFERROR((O24-F24)/ABS(F24),"-") -> - | AD24: =IFERROR((P24-G24)/ABS(G24),"-") -> - | AF24: =Q24-H24 -> 0 | AG24: =R24-I24 -> 0 | AH24: =S24-J24 -> 0 | AI24: =T24-K24 -> 0 | AJ24: =IFERROR((Q24-H24)/ABS(H24),"-") -> - | AK24: =IFERROR((R24-I24)/ABS(I24),"-") -> - | AL24: =IFERROR((S24-J24)/ABS(J24),"-") -> - | AM24: =IFERROR((T24-K24)/ABS(K24),"-") -> -
B25: Land to the North of Old Wickham Lane | C25: 1041 | D25: =ROUND(Summary!D25,1) -> 0 | E25: =ROUND(Summary!E25,1) -> 0 | F25: =ROUND(Summary!F25,1) -> 0 | G25: =ROUND(Summary!G25,1) -> 0 | H25: =ROUND(Summary!H25,1) -> 0 | I25: =ROUND(Summary!I25,1) -> 0 | J25: =ROUND(Summary!J25,1) -> 0 | K25: =ROUND(Summary!K25,1) -> 0 | ... T25: =ROUND(Summary!T25,1) -> 0 | U25: =SUM(D25:T25) -> 0 | W25: =M25-D25 -> 0 | X25: =N25-E25 -> 0 | Y25: =O25-F25 -> 0 | Z25: =P25-G25 -> 0 | AA25: =IFERROR((M25-D25)/ABS(D25),"-") -> - | AB25: =IFERROR((N25-E25)/ABS(E25),"-") -> - | AC25: =IFERROR((O25-F25)/ABS(F25),"-") -> - | AD25: =IFERROR((P25-G25)/ABS(G25),"-") -> - | AF25: =Q25-H25 -> 0 | AG25: =R25-I25 -> 0 | AH25: =S25-J25 -> 0 | AI25: =T25-K25 -> 0 | AJ25: =IFERROR((Q25-H25)/ABS(H25),"-") -> - | AK25: =IFERROR((R25-I25)/ABS(I25),"-") -> - | AL25: =IFERROR((S25-J25)/ABS(J25),"-") -> - | AM25: =IFERROR((T25-K25)/ABS(K25),"-") -> -
C26: 1043 | D26: =ROUND(Summary!D26,1) -> 0 | E26: =ROUND(Summary!E26,1) -> 0 | F26: =ROUND(Summary!F26,1) -> 0 | G26: =ROUND(Summary!G26,1) -> 0 | H26: =ROUND(Summary!H26,1) -> 0 | I26: =ROUND(Summary!I26,1) -> 0 | J26: =ROUND(Summary!J26,1) -> 0 | K26: =ROUND(Summary!K26,1) -> 0 | ... T26: =ROUND(Summary!T26,1) -> 0 | U26: =SUM(D26:T26) -> 0 | W26: =M26-D26 -> 0 | X26: =N26-E26 -> 0 | Y26: =O26-F26 -> 0 | Z26: =P26-G26 -> 0 | AA26: =IFERROR((M26-D26)/ABS(D26),"-") -> - | AB26: =IFERROR((N26-E26)/ABS(E26),"-") -> - | AC26: =IFERROR((O26-F26)/ABS(F26),"-") -> - | AD26: =IFERROR((P26-G26)/ABS(G26),"-") -> - | AF26: =Q26-H26 -> 0 | AG26: =R26-I26 -> 0 | AH26: =S26-J26 -> 0 | AI26: =T26-K26 -> 0 | AJ26: =IFERROR((Q26-H26)/ABS(H26),"-") -> - | AK26: =IFERROR((R26-I26)/ABS(I26),"-") -> - | AL26: =IFERROR((S26-J26)/ABS(J26),"-") -> - | AM26: =IFERROR((T26-K26)/ABS(K26),"-") -> -
B27: Land to the north of Lyoth Lane | C27: 1044 | D27: =ROUND(Summary!D27,1) -> 0 | E27: =ROUND(Summary!E27,1) -> 0 | F27: =ROUND(Summary!F27,1) -> 0 | G27: =ROUND(Summary!G27,1) -> 0 | H27: =ROUND(Summary!H27,1) -> 0 | I27: =ROUND(Summary!I27,1) -> 0 | J27: =ROUND(Summary!J27,1) -> 0 | K27: =ROUND(Summary!K27,1) -> 0 | ... T27: =ROUND(Summary!T27,1) -> 0 | U27: =SUM(D27:T27) -> 0 | W27: =M27-D27 -> 0 | X27: =N27-E27 -> 0 | Y27: =O27-F27 -> 0 | Z27: =P27-G27 -> 0 | AA27: =IFERROR((M27-D27)/ABS(D27),"-") -> - | AB27: =IFERROR((N27-E27)/ABS(E27),"-") -> - | AC27: =IFERROR((O27-F27)/ABS(F27),"-") -> - | AD27: =IFERROR((P27-G27)/ABS(G27),"-") -> - | AF27: =Q27-H27 -> 0 | AG27: =R27-I27 -> 0 | AH27: =S27-J27 -> 0 | AI27: =T27-K27 -> 0 | AJ27: =IFERROR((Q27-H27)/ABS(H27),"-") -> - | AK27: =IFERROR((R27-I27)/ABS(I27),"-") -> - | AL27: =IFERROR((S27-J27)/ABS(J27),"-") -> - | AM27: =IFERROR((T27-K27)/ABS(K27),"-") -> -
C28: 1049 | D28: =ROUND(Summary!D28,1) -> 0 | E28: =ROUND(Summary!E28,1) -> 9.1 | F28: =ROUND(Summary!F28,1) -> 18.1 | G28: =ROUND(Summary!G28,1) -> 0 | H28: =ROUND(Summary!H28,1) -> 0 | I28: =ROUND(Summary!I28,1) -> 22.6 | J28: =ROUND(Summary!J28,1) -> 3.2 | K28: =ROUND(Summary!K28,1) -> 0 | ... T28: =ROUND(Summary!T28,1) -> 0 | U28: =SUM(D28:T28) -> 138.6 | W28: =M28-D28 -> 0 | X28: =N28-E28 -> 12.7 | Y28: =O28-F28 -> 9.2 | Z28: =P28-G28 -> 0 | AA28: =IFERROR((M28-D28)/ABS(D28),"-") -> - | AB28: =IFERROR((N28-E28)/ABS(E28),"-") -> 1.3956044 | AC28: =IFERROR((O28-F28)/ABS(F28),"-") -> 0.50828729 | AD28: =IFERROR((P28-G28)/ABS(G28),"-") -> - | AF28: =Q28-H28 -> 0 | AG28: =R28-I28 -> 9.4 | AH28: =S28-J28 -> 1.3 | AI28: =T28-K28 -> 0 | AJ28: =IFERROR((Q28-H28)/ABS(H28),"-") -> - | AK28: =IFERROR((R28-I28)/ABS(I28),"-") -> 0.4159292 | AL28: =IFERROR((S28-J28)/ABS(J28),"-") -> 0.40625 | AM28: =IFERROR((T28-K28)/ABS(K28),"-") -> -
B29: Land west of Ockley Lane | C29: 1050 | D29: =ROUND(Summary!D29,1) -> 0 | E29: =ROUND(Summary!E29,1) -> 8.5 | F29: =ROUND(Summary!F29,1) -> 52.8 | G29: =ROUND(Summary!G29,1) -> 0 | H29: =ROUND(Summary!H29,1) -> 0 | I29: =ROUND(Summary!I29,1) -> 78 | J29: =ROUND(Summary!J29,1) -> 28 | K29: =ROUND(Summary!K29,1) -> 0 | ... T29: =ROUND(Summary!T29,1) -> 0 | U29: =SUM(D29:T29) -> 338.7 | W29: =M29-D29 -> 0 | X29: =N29-E29 -> 18.8 | Y29: =O29-F29 -> -17.6 | Z29: =P29-G29 -> 0 | AA29: =IFERROR((M29-D29)/ABS(D29),"-") -> - | AB29: =IFERROR((N29-E29)/ABS(E29),"-") -> 2.2117647 | AC29: =IFERROR((O29-F29)/ABS(F29),"-") -> -0.33333333 | AD29: =IFERROR((P29-G29)/ABS(G29),"-") -> - | AF29: =Q29-H29 -> 0 | AG29: =R29-I29 -> 2.1 | AH29: =S29-J29 -> 0.8 | AI29: =T29-K29 -> 0 | AJ29: =IFERROR((Q29-H29)/ABS(H29),"-") -> - | AK29: =IFERROR((R29-I29)/ABS(I29),"-") -> 0.026923077 | AL29: =IFERROR((S29-J29)/ABS(J29),"-") -> 0.028571429 | AM29: =IFERROR((T29-K29)/ABS(K29),"-") -> -
C30: 1051 | D30: =ROUND(Summary!D30,1) -> 0 | E30: =ROUND(Summary!E30,1) -> 5.5 | F30: =ROUND(Summary!F30,1) -> 60 | G30: =ROUND(Summary!G30,1) -> 0 | H30: =ROUND(Summary!H30,1) -> 0 | I30: =ROUND(Summary!I30,1) -> 49.5 | J30: =ROUND(Summary!J30,1) -> 38.5 | K30: =ROUND(Summary!K30,1) -> 0 | ... T30: =ROUND(Summary!T30,1) -> 0 | U30: =SUM(D30:T30) -> 303.1 | W30: =M30-D30 -> 0 | X30: =N30-E30 -> -0.1 | Y30: =O30-F30 -> 0.1 | Z30: =P30-G30 -> 0 | AA30: =IFERROR((M30-D30)/ABS(D30),"-") -> - | AB30: =IFERROR((N30-E30)/ABS(E30),"-") -> -0.018181818 | AC30: =IFERROR((O30-F30)/ABS(F30),"-") -> 0.0016666667 | AD30: =IFERROR((P30-G30)/ABS(G30),"-") -> - | AF30: =Q30-H30 -> 0 | AG30: =R30-I30 -> -4 | AH30: =S30-J30 -> 0.1 | AI30: =T30-K30 -> 0 | AJ30: =IFERROR((Q30-H30)/ABS(H30),"-") -> - | AK30: =IFERROR((R30-I30)/ABS(I30),"-") -> -0.080808081 | AL30: =IFERROR((S30-J30)/ABS(J30),"-") -> 0.0025974026 | AM30: =IFERROR((T30-K30)/ABS(K30),"-") -> -
C31: 1052 | D31: =ROUND(Summary!D31,1) -> 0 | E31: =ROUND(Summary!E31,1) -> 1 | F31: =ROUND(Summary!F31,1) -> 1.9 | G31: =ROUND(Summary!G31,1) -> 0 | H31: =ROUND(Summary!H31,1) -> 0 | I31: =ROUND(Summary!I31,1) -> 3.4 | J31: =ROUND(Summary!J31,1) -> 0.4 | K31: =ROUND(Summary!K31,1) -> 0 | ... T31: =ROUND(Summary!T31,1) -> 0 | U31: =SUM(D31:T31) -> 34.7 | W31: =M31-D31 -> 0 | X31: =N31-E31 -> -0.2 | Y31: =O31-F31 -> 3.7 | Z31: =P31-G31 -> 0 | AA31: =IFERROR((M31-D31)/ABS(D31),"-") -> - | AB31: =IFERROR((N31-E31)/ABS(E31),"-") -> -0.2 | AC31: =IFERROR((O31-F31)/ABS(F31),"-") -> 1.9473684 | AD31: =IFERROR((P31-G31)/ABS(G31),"-") -> - | AF31: =Q31-H31 -> 0 | AG31: =R31-I31 -> 17.8 | AH31: =S31-J31 -> 0 | AI31: =T31-K31 -> 0 | AJ31: =IFERROR((Q31-H31)/ABS(H31),"-") -> - | AK31: =IFERROR((R31-I31)/ABS(I31),"-") -> 5.2352941 | AL31: =IFERROR((S31-J31)/ABS(J31),"-") -> 0 | AM31: =IFERROR((T31-K31)/ABS(K31),"-") -> -
B32: Land north east of Hurstpierpoint | C32: 1053 | D32: =ROUND(Summary!D32,1) -> 0 | E32: =ROUND(Summary!E32,1) -> 0 | F32: =ROUND(Summary!F32,1) -> 0 | G32: =ROUND(Summary!G32,1) -> 0 | H32: =ROUND(Summary!H32,1) -> 0 | I32: =ROUND(Summary!I32,1) -> 0 | J32: =ROUND(Summary!J32,1) -> 0 | K32: =ROUND(Summary!K32,1) -> 0 | ... T32: =ROUND(Summary!T32,1) -> 0 | U32: =SUM(D32:T32) -> 0 | W32: =M32-D32 -> 0 | X32: =N32-E32 -> 0 | Y32: =O32-F32 -> 0 | Z32: =P32-G32 -> 0 | AA32: =IFERROR((M32-D32)/ABS(D32),"-") -> - | AB32: =IFERROR((N32-E32)/ABS(E32),"-") -> - | AC32: =IFERROR((O32-F32)/ABS(F32),"-") -> - | AD32: =IFERROR((P32-G32)/ABS(G32),"-") -> - | AF32: =Q32-H32 -> 0 | AG32: =R32-I32 -> 0 | AH32: =S32-J32 -> 0 | AI32: =T32-K32 -> 0 | AJ32: =IFERROR((Q32-H32)/ABS(H32),"-") -> - | AK32: =IFERROR((R32-I32)/ABS(I32),"-") -> - | AL32: =IFERROR((S32-J32)/ABS(J32),"-") -> - | AM32: =IFERROR((T32-K32)/ABS(K32),"-") -> -
B33: Land east and west of Malthouse Lane | C33: 1054 | D33: =ROUND(Summary!D33,1) -> 1.3 | E33: =ROUND(Summary!E33,1) -> 0 | F33: =ROUND(Summary!F33,1) -> 0 | G33: =ROUND(Summary!G33,1) -> 12.3 | H33: =ROUND(Summary!H33,1) -> 2.4 | I33: =ROUND(Summary!I33,1) -> 0 | J33: =ROUND(Summary!J33,1) -> 0 | K33: =ROUND(Summary!K33,1) -> 2.1 | ... T33: =ROUND(Summary!T33,1) -> 3 | U33: =SUM(D33:T33) -> 38.7 | W33: =M33-D33 -> 0.7 | X33: =N33-E33 -> 0 | Y33: =O33-F33 -> 0 | Z33: =P33-G33 -> 0.5 | AA33: =IFERROR((M33-D33)/ABS(D33),"-") -> 0.53846154 | AB33: =IFERROR((N33-E33)/ABS(E33),"-") -> - | AC33: =IFERROR((O33-F33)/ABS(F33),"-") -> - | AD33: =IFERROR((P33-G33)/ABS(G33),"-") -> 0.040650407 | AF33: =Q33-H33 -> 0.4 | AG33: =R33-I33 -> 0 | AH33: =S33-J33 -> 0 | AI33: =T33-K33 -> 0.9 | AJ33: =IFERROR((Q33-H33)/ABS(H33),"-") -> 0.16666667 | AK33: =IFERROR((R33-I33)/ABS(I33),"-") -> - | AL33: =IFERROR((S33-J33)/ABS(J33),"-") -> - | AM33: =IFERROR((T33-K33)/ABS(K33),"-") -> 0.42857143
C34: 1055 | D34: =ROUND(Summary!D34,1) -> 0 | E34: =ROUND(Summary!E34,1) -> 0 | F34: =ROUND(Summary!F34,1) -> 0 | G34: =ROUND(Summary!G34,1) -> 0 | H34: =ROUND(Summary!H34,1) -> 0 | I34: =ROUND(Summary!I34,1) -> 0 | J34: =ROUND(Summary!J34,1) -> 0 | K34: =ROUND(Summary!K34,1) -> 0 | ... T34: =ROUND(Summary!T34,1) -> 0 | U34: =SUM(D34:T34) -> 0 | W34: =M34-D34 -> 0 | X34: =N34-E34 -> 0 | Y34: =O34-F34 -> 0 | Z34: =P34-G34 -> 0 | AA34: =IFERROR((M34-D34)/ABS(D34),"-") -> - | AB34: =IFERROR((N34-E34)/ABS(E34),"-") -> - | AC34: =IFERROR((O34-F34)/ABS(F34),"-") -> - | AD34: =IFERROR((P34-G34)/ABS(G34),"-") -> - | AF34: =Q34-H34 -> 0 | AG34: =R34-I34 -> 0 | AH34: =S34-J34 -> 0 | AI34: =T34-K34 -> 0 | AJ34: =IFERROR((Q34-H34)/ABS(H34),"-") -> - | AK34: =IFERROR((R34-I34)/ABS(I34),"-") -> - | AL34: =IFERROR((S34-J34)/ABS(J34),"-") -> - | AM34: =IFERROR((T34-K34)/ABS(K34),"-") -> -
C35: 1056 | D35: =ROUND(Summary!D35,1) -> 0 | E35: =ROUND(Summary!E35,1) -> 0 | F35: =ROUND(Summary!F35,1) -> 0 | G35: =ROUND(Summary!G35,1) -> 0 | H35: =ROUND(Summary!H35,1) -> 0 | I35: =ROUND(Summary!I35,1) -> 0 | J35: =ROUND(Summary!J35,1) -> 0 | K35: =ROUND(Summary!K35,1) -> 0 | ... T35: =ROUND(Summary!T35,1) -> 0 | U35: =SUM(D35:T35) -> 0 | W35: =M35-D35 -> 0 | X35: =N35-E35 -> 0 | Y35: =O35-F35 -> 0 | Z35: =P35-G35 -> 0 | AA35: =IFERROR((M35-D35)/ABS(D35),"-") -> - | AB35: =IFERROR((N35-E35)/ABS(E35),"-") -> - | AC35: =IFERROR((O35-F35)/ABS(F35),"-") -> - | AD35: =IFERROR((P35-G35)/ABS(G35),"-") -> - | AF35: =Q35-H35 -> 0 | AG35: =R35-I35 -> 0 | AH35: =S35-J35 -> 0 | AI35: =T35-K35 -> 0 | AJ35: =IFERROR((Q35-H35)/ABS(H35),"-") -> - | AK35: =IFERROR((R35-I35)/ABS(I35),"-") -> - | AL35: =IFERROR((S35-J35)/ABS(J35),"-") -> - | AM35: =IFERROR((T35-K35)/ABS(K35),"-") -> -
C36: 1057 | D36: =ROUND(Summary!D36,1) -> 0 | E36: =ROUND(Summary!E36,1) -> 0 | F36: =ROUND(Summary!F36,1) -> 0 | G36: =ROUND(Summary!G36,1) -> 0 | H36: =ROUND(Summary!H36,1) -> 0 | I36: =ROUND(Summary!I36,1) -> 0 | J36: =ROUND(Summary!J36,1) -> 0 | K36: =ROUND(Summary!K36,1) -> 0 | ... T36: =ROUND(Summary!T36,1) -> 0 | U36: =SUM(D36:T36) -> 0 | W36: =M36-D36 -> 0 | X36: =N36-E36 -> 0 | Y36: =O36-F36 -> 0 | Z36: =P36-G36 -> 0 | AA36: =IFERROR((M36-D36)/ABS(D36),"-") -> - | AB36: =IFERROR((N36-E36)/ABS(E36),"-") -> - | AC36: =IFERROR((O36-F36)/ABS(F36),"-") -> - | AD36: =IFERROR((P36-G36)/ABS(G36),"-") -> - | AF36: =Q36-H36 -> 0 | AG36: =R36-I36 -> 0 | AH36: =S36-J36 -> 0 | AI36: =T36-K36 -> 0 | AJ36: =IFERROR((Q36-H36)/ABS(H36),"-") -> - | AK36: =IFERROR((R36-I36)/ABS(I36),"-") -> - | AL36: =IFERROR((S36-J36)/ABS(J36),"-") -> - | AM36: =IFERROR((T36-K36)/ABS(K36),"-") -> -
B37: Land at North Colwell Farm, Lewes Road | C37: 1058 | D37: =ROUND(Summary!D37,1) -> 0 | E37: =ROUND(Summary!E37,1) -> 0 | F37: =ROUND(Summary!F37,1) -> 0 | G37: =ROUND(Summary!G37,1) -> 0 | H37: =ROUND(Summary!H37,1) -> 0 | I37: =ROUND(Summary!I37,1) -> 0 | J37: =ROUND(Summary!J37,1) -> 0 | K37: =ROUND(Summary!K37,1) -> 0 | ... T37: =ROUND(Summary!T37,1) -> 0 | U37: =SUM(D37:T37) -> 0 | W37: =M37-D37 -> 0 | X37: =N37-E37 -> 0 | Y37: =O37-F37 -> 0 | Z37: =P37-G37 -> 0 | AA37: =IFERROR((M37-D37)/ABS(D37),"-") -> - | AB37: =IFERROR((N37-E37)/ABS(E37),"-") -> - | AC37: =IFERROR((O37-F37)/ABS(F37),"-") -> - | AD37: =IFERROR((P37-G37)/ABS(G37),"-") -> - | AF37: =Q37-H37 -> 0 | AG37: =R37-I37 -> 0 | AH37: =S37-J37 -> 0 | AI37: =T37-K37 -> 0 | AJ37: =IFERROR((Q37-H37)/ABS(H37),"-") -> - | AK37: =IFERROR((R37-I37)/ABS(I37),"-") -> - | AL37: =IFERROR((S37-J37)/ABS(J37),"-") -> - | AM37: =IFERROR((T37-K37)/ABS(K37),"-") -> -
C38: 1061 | D38: =ROUND(Summary!D38,1) -> 0 | E38: =ROUND(Summary!E38,1) -> 3.3 | F38: =ROUND(Summary!F38,1) -> 2 | G38: =ROUND(Summary!G38,1) -> 0 | H38: =ROUND(Summary!H38,1) -> 0 | I38: =ROUND(Summary!I38,1) -> 3.1 | J38: =ROUND(Summary!J38,1) -> 1.4 | K38: =ROUND(Summary!K38,1) -> 0 | ... T38: =ROUND(Summary!T38,1) -> 0 | U38: =SUM(D38:T38) -> 24.9 | W38: =M38-D38 -> 0 | X38: =N38-E38 -> 2.2 | Y38: =O38-F38 -> 1.2 | Z38: =P38-G38 -> 0 | AA38: =IFERROR((M38-D38)/ABS(D38),"-") -> - | AB38: =IFERROR((N38-E38)/ABS(E38),"-") -> 0.66666667 | AC38: =IFERROR((O38-F38)/ABS(F38),"-") -> 0.6 | AD38: =IFERROR((P38-G38)/ABS(G38),"-") -> - | AF38: =Q38-H38 -> 0 | AG38: =R38-I38 -> 1.8 | AH38: =S38-J38 -> 0.1 | AI38: =T38-K38 -> 0 | AJ38: =IFERROR((Q38-H38)/ABS(H38),"-") -> - | AK38: =IFERROR((R38-I38)/ABS(I38),"-") -> 0.58064516 | AL38: =IFERROR((S38-J38)/ABS(J38),"-") -> 0.071428571 | AM38: =IFERROR((T38-K38)/ABS(K38),"-") -> -
C39: 1062 | D39: =ROUND(Summary!D39,1) -> 0 | E39: =ROUND(Summary!E39,1) -> 3.8 | F39: =ROUND(Summary!F39,1) -> 2.8 | G39: =ROUND(Summary!G39,1) -> 0 | H39: =ROUND(Summary!H39,1) -> 0 | I39: =ROUND(Summary!I39,1) -> 9.2 | J39: =ROUND(Summary!J39,1) -> 4 | K39: =ROUND(Summary!K39,1) -> 0 | ... T39: =ROUND(Summary!T39,1) -> 0 | U39: =SUM(D39:T39) -> 40.5 | W39: =M39-D39 -> 0 | X39: =N39-E39 -> 1.9 | Y39: =O39-F39 -> 1.3 | Z39: =P39-G39 -> 0 | AA39: =IFERROR((M39-D39)/ABS(D39),"-") -> - | AB39: =IFERROR((N39-E39)/ABS(E39),"-") -> 0.5 | AC39: =IFERROR((O39-F39)/ABS(F39),"-") -> 0.46428571 | AD39: =IFERROR((P39-G39)/ABS(G39),"-") -> - | AF39: =Q39-H39 -> 0 | AG39: =R39-I39 -> -4.3 | AH39: =S39-J39 -> 2 | AI39: =T39-K39 -> 0 | AJ39: =IFERROR((Q39-H39)/ABS(H39),"-") -> - | AK39: =IFERROR((R39-I39)/ABS(I39),"-") -> -0.4673913 | AL39: =IFERROR((S39-J39)/ABS(J39),"-") -> 0.5 | AM39: =IFERROR((T39-K39)/ABS(K39),"-") -> -
C40: 1063 | D40: =ROUND(Summary!D40,1) -> 0 | E40: =ROUND(Summary!E40,1) -> 5 | F40: =ROUND(Summary!F40,1) -> 2.8 | G40: =ROUND(Summary!G40,1) -> 0 | H40: =ROUND(Summary!H40,1) -> 0 | I40: =ROUND(Summary!I40,1) -> 3.9 | J40: =ROUND(Summary!J40,1) -> 4.5 | K40: =ROUND(Summary!K40,1) -> 0 | ... T40: =ROUND(Summary!T40,1) -> 0 | U40: =SUM(D40:T40) -> 41.8 | W40: =M40-D40 -> 0 | X40: =N40-E40 -> 3.1 | Y40: =O40-F40 -> 1.8 | Z40: =P40-G40 -> 0 | AA40: =IFERROR((M40-D40)/ABS(D40),"-") -> - | AB40: =IFERROR((N40-E40)/ABS(E40),"-") -> 0.62 | AC40: =IFERROR((O40-F40)/ABS(F40),"-") -> 0.64285714 | AD40: =IFERROR((P40-G40)/ABS(G40),"-") -> - | AF40: =Q40-H40 -> 0 | AG40: =R40-I40 -> 1.3 | AH40: =S40-J40 -> 3.2 | AI40: =T40-K40 -> 0 | AJ40: =IFERROR((Q40-H40)/ABS(H40),"-") -> - | AK40: =IFERROR((R40-I40)/ABS(I40),"-") -> 0.33333333 | AL40: =IFERROR((S40-J40)/ABS(J40),"-") -> 0.71111111 | AM40: =IFERROR((T40-K40)/ABS(K40),"-") -> -
C41: 1064 | D41: =ROUND(Summary!D41,1) -> 0 | E41: =ROUND(Summary!E41,1) -> 7 | F41: =ROUND(Summary!F41,1) -> 5.2 | G41: =ROUND(Summary!G41,1) -> 0 | H41: =ROUND(Summary!H41,1) -> 0 | I41: =ROUND(Summary!I41,1) -> 2.7 | J41: =ROUND(Summary!J41,1) -> 5.7 | K41: =ROUND(Summary!K41,1) -> 0 | ... T41: =ROUND(Summary!T41,1) -> 0 | U41: =SUM(D41:T41) -> 44.8 | W41: =M41-D41 -> 0 | X41: =N41-E41 -> 0.8 | Y41: =O41-F41 -> 0.8 | Z41: =P41-G41 -> 0 | AA41: =IFERROR((M41-D41)/ABS(D41),"-") -> - | AB41: =IFERROR((N41-E41)/ABS(E41),"-") -> 0.11428571 | AC41: =IFERROR((O41-F41)/ABS(F41),"-") -> 0.15384615 | AD41: =IFERROR((P41-G41)/ABS(G41),"-") -> - | AF41: =Q41-H41 -> 0 | AG41: =R41-I41 -> 1.3 | AH41: =S41-J41 -> 0.7 | AI41: =T41-K41 -> 0 | AJ41: =IFERROR((Q41-H41)/ABS(H41),"-") -> - | AK41: =IFERROR((R41-I41)/ABS(I41),"-") -> 0.48148148 | AL41: =IFERROR((S41-J41)/ABS(J41),"-") -> 0.12280702 | AM41: =IFERROR((T41-K41)/ABS(K41),"-") -> -
C42: 1065 | D42: =ROUND(Summary!D42,1) -> 0 | E42: =ROUND(Summary!E42,1) -> 87 | F42: =ROUND(Summary!F42,1) -> 0 | G42: =ROUND(Summary!G42,1) -> 0 | H42: =ROUND(Summary!H42,1) -> 0 | I42: =ROUND(Summary!I42,1) -> 53.3 | J42: =ROUND(Summary!J42,1) -> 0 | K42: =ROUND(Summary!K42,1) -> 0 | ... T42: =ROUND(Summary!T42,1) -> 0 | U42: =SUM(D42:T42) -> 287.6 | W42: =M42-D42 -> 0 | X42: =N42-E42 -> 4 | Y42: =O42-F42 -> 0 | Z42: =P42-G42 -> 0 | AA42: =IFERROR((M42-D42)/ABS(D42),"-") -> - | AB42: =IFERROR((N42-E42)/ABS(E42),"-") -> 0.045977011 | AC42: =IFERROR((O42-F42)/ABS(F42),"-") -> - | AD42: =IFERROR((P42-G42)/ABS(G42),"-") -> - | AF42: =Q42-H42 -> 0 | AG42: =R42-I42 -> 3 | AH42: =S42-J42 -> 0 | AI42: =T42-K42 -> 0 | AJ42: =IFERROR((Q42-H42)/ABS(H42),"-") -> - | AK42: =IFERROR((R42-I42)/ABS(I42),"-") -> 0.056285178 | AL42: =IFERROR((S42-J42)/ABS(J42),"-") -> - | AM42: =IFERROR((T42-K42)/ABS(K42),"-") -> -
C43: 1066 | D43: =ROUND(Summary!D43,1) -> 0 | E43: =ROUND(Summary!E43,1) -> 0 | F43: =ROUND(Summary!F43,1) -> 0 | G43: =ROUND(Summary!G43,1) -> 0 | H43: =ROUND(Summary!H43,1) -> 0.3 | I43: =ROUND(Summary!I43,1) -> 0 | J43: =ROUND(Summary!J43,1) -> 0 | K43: =ROUND(Summary!K43,1) -> 0 | ... T43: =ROUND(Summary!T43,1) -> 0 | U43: =SUM(D43:T43) -> 0.6 | W43: =M43-D43 -> 0 | X43: =N43-E43 -> 0 | Y43: =O43-F43 -> 0 | Z43: =P43-G43 -> 0 | AA43: =IFERROR((M43-D43)/ABS(D43),"-") -> - | AB43: =IFERROR((N43-E43)/ABS(E43),"-") -> - | AC43: =IFERROR((O43-F43)/ABS(F43),"-") -> - | AD43: =IFERROR((P43-G43)/ABS(G43),"-") -> - | AF43: =Q43-H43 -> 0 | AG43: =R43-I43 -> 0 | AH43: =S43-J43 -> 0 | AI43: =T43-K43 -> 0 | AJ43: =IFERROR((Q43-H43)/ABS(H43),"-") -> 0 | AK43: =IFERROR((R43-I43)/ABS(I43),"-") -> - | AL43: =IFERROR((S43-J43)/ABS(J43),"-") -> - | AM43: =IFERROR((T43-K43)/ABS(K43),"-") -> -
C44: 1067 | D44: =ROUND(Summary!D44,1) -> 0 | E44: =ROUND(Summary!E44,1) -> 0 | F44: =ROUND(Summary!F44,1) -> 0 | G44: =ROUND(Summary!G44,1) -> 0 | H44: =ROUND(Summary!H44,1) -> 0.4 | I44: =ROUND(Summary!I44,1) -> 0 | J44: =ROUND(Summary!J44,1) -> 0 | K44: =ROUND(Summary!K44,1) -> 0 | ... T44: =ROUND(Summary!T44,1) -> 0 | U44: =SUM(D44:T44) -> 0.4 | W44: =M44-D44 -> 0 | X44: =N44-E44 -> 0 | Y44: =O44-F44 -> 0 | Z44: =P44-G44 -> 0 | AA44: =IFERROR((M44-D44)/ABS(D44),"-") -> - | AB44: =IFERROR((N44-E44)/ABS(E44),"-") -> - | AC44: =IFERROR((O44-F44)/ABS(F44),"-") -> - | AD44: =IFERROR((P44-G44)/ABS(G44),"-") -> - | AF44: =Q44-H44 -> -0.4 | AG44: =R44-I44 -> 0 | AH44: =S44-J44 -> 0 | AI44: =T44-K44 -> 0 | AJ44: =IFERROR((Q44-H44)/ABS(H44),"-") -> -1 | AK44: =IFERROR((R44-I44)/ABS(I44),"-") -> - | AL44: =IFERROR((S44-J44)/ABS(J44),"-") -> - | AM44: =IFERROR((T44-K44)/ABS(K44),"-") -> -
C45: 1068 | D45: =ROUND(Summary!D45,1) -> 0 | E45: =ROUND(Summary!E45,1) -> 0 | F45: =ROUND(Summary!F45,1) -> 0 | G45: =ROUND(Summary!G45,1) -> 0 | H45: =ROUND(Summary!H45,1) -> 0 | I45: =ROUND(Summary!I45,1) -> 0 | J45: =ROUND(Summary!J45,1) -> 0 | K45: =ROUND(Summary!K45,1) -> 0 | ... T45: =ROUND(Summary!T45,1) -> 0 | U45: =SUM(D45:T45) -> 0 | W45: =M45-D45 -> 0 | X45: =N45-E45 -> 0 | Y45: =O45-F45 -> 0 | Z45: =P45-G45 -> 0 | AA45: =IFERROR((M45-D45)/ABS(D45),"-") -> - | AB45: =IFERROR((N45-E45)/ABS(E45),"-") -> - | AC45: =IFERROR((O45-F45)/ABS(F45),"-") -> - | AD45: =IFERROR((P45-G45)/ABS(G45),"-") -> - | AF45: =Q45-H45 -> 0 | AG45: =R45-I45 -> 0 | AH45: =S45-J45 -> 0 | AI45: =T45-K45 -> 0 | AJ45: =IFERROR((Q45-H45)/ABS(H45),"-") -> - | AK45: =IFERROR((R45-I45)/ABS(I45),"-") -> - | AL45: =IFERROR((S45-J45)/ABS(J45),"-") -> - | AM45: =IFERROR((T45-K45)/ABS(K45),"-") -> -
C46: 1069 | D46: =ROUND(Summary!D46,1) -> 0 | E46: =ROUND(Summary!E46,1) -> 0 | F46: =ROUND(Summary!F46,1) -> 0 | G46: =ROUND(Summary!G46,1) -> 0 | H46: =ROUND(Summary!H46,1) -> 0 | I46: =ROUND(Summary!I46,1) -> 0 | J46: =ROUND(Summary!J46,1) -> 0 | K46: =ROUND(Summary!K46,1) -> 0 | ... T46: =ROUND(Summary!T46,1) -> 0 | U46: =SUM(D46:T46) -> 0 | W46: =M46-D46 -> 0 | X46: =N46-E46 -> 0 | Y46: =O46-F46 -> 0 | Z46: =P46-G46 -> 0 | AA46: =IFERROR((M46-D46)/ABS(D46),"-") -> - | AB46: =IFERROR((N46-E46)/ABS(E46),"-") -> - | AC46: =IFERROR((O46-F46)/ABS(F46),"-") -> - | AD46: =IFERROR((P46-G46)/ABS(G46),"-") -> - | AF46: =Q46-H46 -> 0 | AG46: =R46-I46 -> 0 | AH46: =S46-J46 -> 0 | AI46: =T46-K46 -> 0 | AJ46: =IFERROR((Q46-H46)/ABS(H46),"-") -> - | AK46: =IFERROR((R46-I46)/ABS(I46),"-") -> - | AL46: =IFERROR((S46-J46)/ABS(J46),"-") -> - | AM46: =IFERROR((T46-K46)/ABS(K46),"-") -> -
C47: 1070 | D47: =ROUND(Summary!D47,1) -> 0 | E47: =ROUND(Summary!E47,1) -> 0 | F47: =ROUND(Summary!F47,1) -> 0 | G47: =ROUND(Summary!G47,1) -> 0 | H47: =ROUND(Summary!H47,1) -> 0 | I47: =ROUND(Summary!I47,1) -> 0 | J47: =ROUND(Summary!J47,1) -> 0 | K47: =ROUND(Summary!K47,1) -> 0 | ... T47: =ROUND(Summary!T47,1) -> 0 | U47: =SUM(D47:T47) -> 0 | W47: =M47-D47 -> 0 | X47: =N47-E47 -> 0 | Y47: =O47-F47 -> 0 | Z47: =P47-G47 -> 0 | AA47: =IFERROR((M47-D47)/ABS(D47),"-") -> - | AB47: =IFERROR((N47-E47)/ABS(E47),"-") -> - | AC47: =IFERROR((O47-F47)/ABS(F47),"-") -> - | AD47: =IFERROR((P47-G47)/ABS(G47),"-") -> - | AF47: =Q47-H47 -> 0 | AG47: =R47-I47 -> 0 | AH47: =S47-J47 -> 0 | AI47: =T47-K47 -> 0 | AJ47: =IFERROR((Q47-H47)/ABS(H47),"-") -> - | AK47: =IFERROR((R47-I47)/ABS(I47),"-") -> - | AL47: =IFERROR((S47-J47)/ABS(J47),"-") -> - | AM47: =IFERROR((T47-K47)/ABS(K47),"-") -> -
C48: 1071 | D48: =ROUND(Summary!D48,1) -> 0 | E48: =ROUND(Summary!E48,1) -> 0 | F48: =ROUND(Summary!F48,1) -> 0 | G48: =ROUND(Summary!G48,1) -> 0 | H48: =ROUND(Summary!H48,1) -> 0 | I48: =ROUND(Summary!I48,1) -> 0 | J48: =ROUND(Summary!J48,1) -> 0 | K48: =ROUND(Summary!K48,1) -> 0 | ... T48: =ROUND(Summary!T48,1) -> 0 | U48: =SUM(D48:T48) -> 0 | W48: =M48-D48 -> 0 | X48: =N48-E48 -> 0 | Y48: =O48-F48 -> 0 | Z48: =P48-G48 -> 0 | AA48: =IFERROR((M48-D48)/ABS(D48),"-") -> - | AB48: =IFERROR((N48-E48)/ABS(E48),"-") -> - | AC48: =IFERROR((O48-F48)/ABS(F48),"-") -> - | AD48: =IFERROR((P48-G48)/ABS(G48),"-") -> - | AF48: =Q48-H48 -> 0 | AG48: =R48-I48 -> 0 | AH48: =S48-J48 -> 0 | AI48: =T48-K48 -> 0 | AJ48: =IFERROR((Q48-H48)/ABS(H48),"-") -> - | AK48: =IFERROR((R48-I48)/ABS(I48),"-") -> - | AL48: =IFERROR((S48-J48)/ABS(J48),"-") -> - | AM48: =IFERROR((T48-K48)/ABS(K48),"-") -> -
C49: 1072 | D49: =ROUND(Summary!D49,1) -> 0 | E49: =ROUND(Summary!E49,1) -> 0 | F49: =ROUND(Summary!F49,1) -> 0 | G49: =ROUND(Summary!G49,1) -> 0 | H49: =ROUND(Summary!H49,1) -> 0 | I49: =ROUND(Summary!I49,1) -> 0 | J49: =ROUND(Summary!J49,1) -> 0 | K49: =ROUND(Summary!K49,1) -> 0 | ... T49: =ROUND(Summary!T49,1) -> 0 | U49: =SUM(D49:T49) -> 0 | W49: =M49-D49 -> 0 | X49: =N49-E49 -> 0 | Y49: =O49-F49 -> 0 | Z49: =P49-G49 -> 0 | AA49: =IFERROR((M49-D49)/ABS(D49),"-") -> - | AB49: =IFERROR((N49-E49)/ABS(E49),"-") -> - | AC49: =IFERROR((O49-F49)/ABS(F49),"-") -> - | AD49: =IFERROR((P49-G49)/ABS(G49),"-") -> - | AF49: =Q49-H49 -> 0 | AG49: =R49-I49 -> 0 | AH49: =S49-J49 -> 0 | AI49: =T49-K49 -> 0 | AJ49: =IFERROR((Q49-H49)/ABS(H49),"-") -> - | AK49: =IFERROR((R49-I49)/ABS(I49),"-") -> - | AL49: =IFERROR((S49-J49)/ABS(J49),"-") -> - | AM49: =IFERROR((T49-K49)/ABS(K49),"-") -> -
... C61: 1084 | D61: =ROUND(Summary!D61,1) -> 0 | E61: =ROUND(Summary!E61,1) -> 0 | F61: =ROUND(Summary!F61,1) -> 0 | G61: =ROUND(Summary!G61,1) -> 0 | H61: =ROUND(Summary!H61,1) -> 0 | I61: =ROUND(Summary!I61,1) -> 0 | J61: =ROUND(Summary!J61,1) -> 0 | K61: =ROUND(Summary!K61,1) -> 0 | ... T61: =ROUND(Summary!T61,1) -> 0 | U61: =SUM(D61:T61) -> 0 | W61: =M61-D61 -> 0 | X61: =N61-E61 -> 0 | Y61: =O61-F61 -> 0 | Z61: =P61-G61 -> 0 | AA61: =IFERROR((M61-D61)/ABS(D61),"-") -> - | AB61: =IFERROR((N61-E61)/ABS(E61),"-") -> - | AC61: =IFERROR((O61-F61)/ABS(F61),"-") -> - | AD61: =IFERROR((P61-G61)/ABS(G61),"-") -> - | AF61: =Q61-H61 -> 0 | AG61: =R61-I61 -> 0 | AH61: =S61-J61 -> 0 | AI61: =T61-K61 -> 0 | AJ61: =IFERROR((Q61-H61)/ABS(H61),"-") -> - | AK61: =IFERROR((R61-I61)/ABS(I61),"-") -> - | AL61: =IFERROR((S61-J61)/ABS(J61),"-") -> - | AM61: =IFERROR((T61-K61)/ABS(K61),"-") -> -
B62: Land at Hillbrow, Janes Lane, Burgess Hill | C62: 1085 | D62: =ROUND(Summary!D62,1) -> 0 | E62: =ROUND(Summary!E62,1) -> 0 | F62: =ROUND(Summary!F62,1) -> 0 | G62: =ROUND(Summary!G62,1) -> 0 | H62: =ROUND(Summary!H62,1) -> 0 | I62: =ROUND(Summary!I62,1) -> 0.1 | J62: =ROUND(Summary!J62,1) -> 0 | K62: =ROUND(Summary!K62,1) -> 0 | ... T62: =ROUND(Summary!T62,1) -> 0 | U62: =SUM(D62:T62) -> 0.7 | W62: =M62-D62 -> 0 | X62: =N62-E62 -> 0 | Y62: =O62-F62 -> 0.6 | Z62: =P62-G62 -> 0 | AA62: =IFERROR((M62-D62)/ABS(D62),"-") -> - | AB62: =IFERROR((N62-E62)/ABS(E62),"-") -> - | AC62: =IFERROR((O62-F62)/ABS(F62),"-") -> - | AD62: =IFERROR((P62-G62)/ABS(G62),"-") -> - | AF62: =Q62-H62 -> 0 | AG62: =R62-I62 -> -0.1 | AH62: =S62-J62 -> 0 | AI62: =T62-K62 -> 0 | AJ62: =IFERROR((Q62-H62)/ABS(H62),"-") -> - | AK62: =IFERROR((R62-I62)/ABS(I62),"-") -> -1 | AL62: =IFERROR((S62-J62)/ABS(J62),"-") -> - | AM62: =IFERROR((T62-K62)/ABS(K62),"-") -> -
C63: 1086 | D63: =ROUND(Summary!D63,1) -> 0 | E63: =ROUND(Summary!E63,1) -> 0 | F63: =ROUND(Summary!F63,1) -> 0 | G63: =ROUND(Summary!G63,1) -> 0 | H63: =ROUND(Summary!H63,1) -> 0 | I63: =ROUND(Summary!I63,1) -> 1.7 | J63: =ROUND(Summary!J63,1) -> 0 | K63: =ROUND(Summary!K63,1) -> 0 | ... T63: =ROUND(Summary!T63,1) -> 0 | U63: =SUM(D63:T63) -> 5.2 | W63: =M63-D63 -> 0 | X63: =N63-E63 -> 1.1 | Y63: =O63-F63 -> 0.2 | Z63: =P63-G63 -> 0 | AA63: =IFERROR((M63-D63)/ABS(D63),"-") -> - | AB63: =IFERROR((N63-E63)/ABS(E63),"-") -> - | AC63: =IFERROR((O63-F63)/ABS(F63),"-") -> - | AD63: =IFERROR((P63-G63)/ABS(G63),"-") -> - | AF63: =Q63-H63 -> 0 | AG63: =R63-I63 -> 0.5 | AH63: =S63-J63 -> 0 | AI63: =T63-K63 -> 0 | AJ63: =IFERROR((Q63-H63)/ABS(H63),"-") -> - | AK63: =IFERROR((R63-I63)/ABS(I63),"-") -> 0.29411765 | AL63: =IFERROR((S63-J63)/ABS(J63),"-") -> - | AM63: =IFERROR((T63-K63)/ABS(K63),"-") -> -
C64: 1087 | D64: =ROUND(Summary!D64,1) -> 0 | E64: =ROUND(Summary!E64,1) -> 3 | F64: =ROUND(Summary!F64,1) -> 2.8 | G64: =ROUND(Summary!G64,1) -> 0 | H64: =ROUND(Summary!H64,1) -> 0 | I64: =ROUND(Summary!I64,1) -> 7.2 | J64: =ROUND(Summary!J64,1) -> 0 | K64: =ROUND(Summary!K64,1) -> 0 | ... T64: =ROUND(Summary!T64,1) -> 0 | U64: =SUM(D64:T64) -> 33.3 | W64: =M64-D64 -> 0 | X64: =N64-E64 -> 3.1 | Y64: =O64-F64 -> 1.2 | Z64: =P64-G64 -> 0 | AA64: =IFERROR((M64-D64)/ABS(D64),"-") -> - | AB64: =IFERROR((N64-E64)/ABS(E64),"-") -> 1.0333333 | AC64: =IFERROR((O64-F64)/ABS(F64),"-") -> 0.42857143 | AD64: =IFERROR((P64-G64)/ABS(G64),"-") -> - | AF64: =Q64-H64 -> 0 | AG64: =R64-I64 -> 2.1 | AH64: =S64-J64 -> 0.9 | AI64: =T64-K64 -> 0 | AJ64: =IFERROR((Q64-H64)/ABS(H64),"-") -> - | AK64: =IFERROR((R64-I64)/ABS(I64),"-") -> 0.29166667 | AL64: =IFERROR((S64-J64)/ABS(J64),"-") -> - | AM64: =IFERROR((T64-K64)/ABS(K64),"-") -> -
C65: 1088 | D65: =ROUND(Summary!D65,1) -> 0 | E65: =ROUND(Summary!E65,1) -> 2.7 | F65: =ROUND(Summary!F65,1) -> 0.4 | G65: =ROUND(Summary!G65,1) -> 0 | H65: =ROUND(Summary!H65,1) -> 0 | I65: =ROUND(Summary!I65,1) -> 7.7 | J65: =ROUND(Summary!J65,1) -> 0 | K65: =ROUND(Summary!K65,1) -> 0 | ... T65: =ROUND(Summary!T65,1) -> 0 | U65: =SUM(D65:T65) -> 30.7 | W65: =M65-D65 -> 0 | X65: =N65-E65 -> 5.2 | Y65: =O65-F65 -> 1.9 | Z65: =P65-G65 -> 0 | AA65: =IFERROR((M65-D65)/ABS(D65),"-") -> - | AB65: =IFERROR((N65-E65)/ABS(E65),"-") -> 1.9259259 | AC65: =IFERROR((O65-F65)/ABS(F65),"-") -> 4.75 | AD65: =IFERROR((P65-G65)/ABS(G65),"-") -> - | AF65: =Q65-H65 -> 0 | AG65: =R65-I65 -> 1.8 | AH65: =S65-J65 -> 0.2 | AI65: =T65-K65 -> 0 | AJ65: =IFERROR((Q65-H65)/ABS(H65),"-") -> - | AK65: =IFERROR((R65-I65)/ABS(I65),"-") -> 0.23376623 | AL65: =IFERROR((S65-J65)/ABS(J65),"-") -> - | AM65: =IFERROR((T65-K65)/ABS(K65),"-") -> -
C66: 1089 | D66: =ROUND(Summary!D66,1) -> 0 | E66: =ROUND(Summary!E66,1) -> 0.9 | F66: =ROUND(Summary!F66,1) -> 0.4 | G66: =ROUND(Summary!G66,1) -> 0 | H66: =ROUND(Summary!H66,1) -> 0 | I66: =ROUND(Summary!I66,1) -> 0.6 | J66: =ROUND(Summary!J66,1) -> 0.6 | K66: =ROUND(Summary!K66,1) -> 0 | ... T66: =ROUND(Summary!T66,1) -> 0 | U66: =SUM(D66:T66) -> 7 | W66: =M66-D66 -> 0 | X66: =N66-E66 -> 0.4 | Y66: =O66-F66 -> 1 | Z66: =P66-G66 -> 0 | AA66: =IFERROR((M66-D66)/ABS(D66),"-") -> - | AB66: =IFERROR((N66-E66)/ABS(E66),"-") -> 0.44444444 | AC66: =IFERROR((O66-F66)/ABS(F66),"-") -> 2.5 | AD66: =IFERROR((P66-G66)/ABS(G66),"-") -> - | AF66: =Q66-H66 -> 0 | AG66: =R66-I66 -> 0.3 | AH66: =S66-J66 -> 0.3 | AI66: =T66-K66 -> 0 | AJ66: =IFERROR((Q66-H66)/ABS(H66),"-") -> - | AK66: =IFERROR((R66-I66)/ABS(I66),"-") -> 0.5 | AL66: =IFERROR((S66-J66)/ABS(J66),"-") -> 0.5 | AM66: =IFERROR((T66-K66)/ABS(K66),"-") -> -
C67: 1090 | D67: =ROUND(Summary!D67,1) -> 0 | E67: =ROUND(Summary!E67,1) -> 0.5 | F67: =ROUND(Summary!F67,1) -> 0.3 | G67: =ROUND(Summary!G67,1) -> 0 | H67: =ROUND(Summary!H67,1) -> 0 | I67: =ROUND(Summary!I67,1) -> 0.3 | J67: =ROUND(Summary!J67,1) -> 0.4 | K67: =ROUND(Summary!K67,1) -> 0 | ... T67: =ROUND(Summary!T67,1) -> 0 | U67: =SUM(D67:T67) -> 3.9 | W67: =M67-D67 -> 0 | X67: =N67-E67 -> 0.2 | Y67: =O67-F67 -> 0.2 | Z67: =P67-G67 -> 0 | AA67: =IFERROR((M67-D67)/ABS(D67),"-") -> - | AB67: =IFERROR((N67-E67)/ABS(E67),"-") -> 0.4 | AC67: =IFERROR((O67-F67)/ABS(F67),"-") -> 0.66666667 | AD67: =IFERROR((P67-G67)/ABS(G67),"-") -> - | AF67: =Q67-H67 -> 0 | AG67: =R67-I67 -> 0.2 | AH67: =S67-J67 -> 0.3 | AI67: =T67-K67 -> 0 | AJ67: =IFERROR((Q67-H67)/ABS(H67),"-") -> - | AK67: =IFERROR((R67-I67)/ABS(I67),"-") -> 0.66666667 | AL67: =IFERROR((S67-J67)/ABS(J67),"-") -> 0.75 | AM67: =IFERROR((T67-K67)/ABS(K67),"-") -> -
C68: 1091 | D68: =ROUND(Summary!D68,1) -> 0 | E68: =ROUND(Summary!E68,1) -> 3.9 | F68: =ROUND(Summary!F68,1) -> 0 | G68: =ROUND(Summary!G68,1) -> 0 | H68: =ROUND(Summary!H68,1) -> 0 | I68: =ROUND(Summary!I68,1) -> 1.8 | J68: =ROUND(Summary!J68,1) -> 0 | K68: =ROUND(Summary!K68,1) -> 0 | ... T68: =ROUND(Summary!T68,1) -> 0 | U68: =SUM(D68:T68) -> 23 | W68: =M68-D68 -> 0 | X68: =N68-E68 -> 7.1 | Y68: =O68-F68 -> 0 | Z68: =P68-G68 -> 0 | AA68: =IFERROR((M68-D68)/ABS(D68),"-") -> - | AB68: =IFERROR((N68-E68)/ABS(E68),"-") -> 1.8205128 | AC68: =IFERROR((O68-F68)/ABS(F68),"-") -> - | AD68: =IFERROR((P68-G68)/ABS(G68),"-") -> - | AF68: =Q68-H68 -> 0 | AG68: =R68-I68 -> 4.5 | AH68: =S68-J68 -> 0 | AI68: =T68-K68 -> 0 | AJ68: =IFERROR((Q68-H68)/ABS(H68),"-") -> - | AK68: =IFERROR((R68-I68)/ABS(I68),"-") -> 2.5 | AL68: =IFERROR((S68-J68)/ABS(J68),"-") -> - | AM68: =IFERROR((T68-K68)/ABS(K68),"-") -> -
C69: 1092 | D69: =ROUND(Summary!D69,1) -> 0 | E69: =ROUND(Summary!E69,1) -> 0.3 | F69: =ROUND(Summary!F69,1) -> 0 | G69: =ROUND(Summary!G69,1) -> 0 | H69: =ROUND(Summary!H69,1) -> 0 | I69: =ROUND(Summary!I69,1) -> 0.1 | J69: =ROUND(Summary!J69,1) -> 0 | K69: =ROUND(Summary!K69,1) -> 0 | ... T69: =ROUND(Summary!T69,1) -> 0 | U69: =SUM(D69:T69) -> 1.3 | W69: =M69-D69 -> 0 | X69: =N69-E69 -> 0.1 | Y69: =O69-F69 -> 0 | Z69: =P69-G69 -> 0 | AA69: =IFERROR((M69-D69)/ABS(D69),"-") -> - | AB69: =IFERROR((N69-E69)/ABS(E69),"-") -> 0.33333333 | AC69: =IFERROR((O69-F69)/ABS(F69),"-") -> - | AD69: =IFERROR((P69-G69)/ABS(G69),"-") -> - | AF69: =Q69-H69 -> 0 | AG69: =R69-I69 -> 0.4 | AH69: =S69-J69 -> 0 | AI69: =T69-K69 -> 0 | AJ69: =IFERROR((Q69-H69)/ABS(H69),"-") -> - | AK69: =IFERROR((R69-I69)/ABS(I69),"-") -> 4 | AL69: =IFERROR((S69-J69)/ABS(J69),"-") -> - | AM69: =IFERROR((T69-K69)/ABS(K69),"-") -> -
C70: 1093 | D70: =ROUND(Summary!D70,1) -> 0 | E70: =ROUND(Summary!E70,1) -> 1.6 | F70: =ROUND(Summary!F70,1) -> 0 | G70: =ROUND(Summary!G70,1) -> 0 | H70: =ROUND(Summary!H70,1) -> 0 | I70: =ROUND(Summary!I70,1) -> 0.6 | J70: =ROUND(Summary!J70,1) -> 0 | K70: =ROUND(Summary!K70,1) -> 0 | ... T70: =ROUND(Summary!T70,1) -> 0 | U70: =SUM(D70:T70) -> 7 | W70: =M70-D70 -> 0 | X70: =N70-E70 -> 0.5 | Y70: =O70-F70 -> 0 | Z70: =P70-G70 -> 0 | AA70: =IFERROR((M70-D70)/ABS(D70),"-") -> - | AB70: =IFERROR((N70-E70)/ABS(E70),"-") -> 0.3125 | AC70: =IFERROR((O70-F70)/ABS(F70),"-") -> - | AD70: =IFERROR((P70-G70)/ABS(G70),"-") -> - | AF70: =Q70-H70 -> 0 | AG70: =R70-I70 -> 2.1 | AH70: =S70-J70 -> 0 | AI70: =T70-K70 -> 0 | AJ70: =IFERROR((Q70-H70)/ABS(H70),"-") -> - | AK70: =IFERROR((R70-I70)/ABS(I70),"-") -> 3.5 | AL70: =IFERROR((S70-J70)/ABS(J70),"-") -> - | AM70: =IFERROR((T70-K70)/ABS(K70),"-") -> -
C71: 1094 | D71: =ROUND(Summary!D71,1) -> 0 | E71: =ROUND(Summary!E71,1) -> 0 | F71: =ROUND(Summary!F71,1) -> 0 | G71: =ROUND(Summary!G71,1) -> 0 | H71: =ROUND(Summary!H71,1) -> 0 | I71: =ROUND(Summary!I71,1) -> 3.2 | J71: =ROUND(Summary!J71,1) -> 0 | K71: =ROUND(Summary!K71,1) -> 0 | ... T71: =ROUND(Summary!T71,1) -> 0 | U71: =SUM(D71:T71) -> 13.5 | W71: =M71-D71 -> 0 | X71: =N71-E71 -> 0.1 | Y71: =O71-F71 -> 0 | Z71: =P71-G71 -> 0 | AA71: =IFERROR((M71-D71)/ABS(D71),"-") -> - | AB71: =IFERROR((N71-E71)/ABS(E71),"-") -> - | AC71: =IFERROR((O71-F71)/ABS(F71),"-") -> - | AD71: =IFERROR((P71-G71)/ABS(G71),"-") -> - | AF71: =Q71-H71 -> 0 | AG71: =R71-I71 -> 7 | AH71: =S71-J71 -> 0 | AI71: =T71-K71 -> 0 | AJ71: =IFERROR((Q71-H71)/ABS(H71),"-") -> - | AK71: =IFERROR((R71-I71)/ABS(I71),"-") -> 2.1875 | AL71: =IFERROR((S71-J71)/ABS(J71),"-") -> - | AM71: =IFERROR((T71-K71)/ABS(K71),"-") -> -
C72: 1095 | D72: =ROUND(Summary!D72,1) -> 0 | E72: =ROUND(Summary!E72,1) -> 0 | F72: =ROUND(Summary!F72,1) -> 0 | G72: =ROUND(Summary!G72,1) -> 0 | H72: =ROUND(Summary!H72,1) -> 0 | I72: =ROUND(Summary!I72,1) -> 0 | J72: =ROUND(Summary!J72,1) -> 0 | K72: =ROUND(Summary!K72,1) -> 0 | ... T72: =ROUND(Summary!T72,1) -> 0 | U72: =SUM(D72:T72) -> 0 | W72: =M72-D72 -> 0 | X72: =N72-E72 -> 0 | Y72: =O72-F72 -> 0 | Z72: =P72-G72 -> 0 | AA72: =IFERROR((M72-D72)/ABS(D72),"-") -> - | AB72: =IFERROR((N72-E72)/ABS(E72),"-") -> - | AC72: =IFERROR((O72-F72)/ABS(F72),"-") -> - | AD72: =IFERROR((P72-G72)/ABS(G72),"-") -> - | AF72: =Q72-H72 -> 0 | AG72: =R72-I72 -> 0 | AH72: =S72-J72 -> 0 | AI72: =T72-K72 -> 0 | AJ72: =IFERROR((Q72-H72)/ABS(H72),"-") -> - | AK72: =IFERROR((R72-I72)/ABS(I72),"-") -> - | AL72: =IFERROR((S72-J72)/ABS(J72),"-") -> - | AM72: =IFERROR((T72-K72)/ABS(K72),"-") -> -
C73: 1096 | D73: =ROUND(Summary!D73,1) -> 0 | E73: =ROUND(Summary!E73,1) -> 0 | F73: =ROUND(Summary!F73,1) -> 0 | G73: =ROUND(Summary!G73,1) -> 0 | H73: =ROUND(Summary!H73,1) -> 0.7 | I73: =ROUND(Summary!I73,1) -> 0 | J73: =ROUND(Summary!J73,1) -> 0 | K73: =ROUND(Summary!K73,1) -> 0 | ... T73: =ROUND(Summary!T73,1) -> 0 | U73: =SUM(D73:T73) -> 0.7 | W73: =M73-D73 -> 0 | X73: =N73-E73 -> 0 | Y73: =O73-F73 -> 0 | Z73: =P73-G73 -> 0 | AA73: =IFERROR((M73-D73)/ABS(D73),"-") -> - | AB73: =IFERROR((N73-E73)/ABS(E73),"-") -> - | AC73: =IFERROR((O73-F73)/ABS(F73),"-") -> - | AD73: =IFERROR((P73-G73)/ABS(G73),"-") -> - | AF73: =Q73-H73 -> -0.7 | AG73: =R73-I73 -> 0 | AH73: =S73-J73 -> 0 | AI73: =T73-K73 -> 0 | AJ73: =IFERROR((Q73-H73)/ABS(H73),"-") -> -1 | AK73: =IFERROR((R73-I73)/ABS(I73),"-") -> - | AL73: =IFERROR((S73-J73)/ABS(J73),"-") -> - | AM73: =IFERROR((T73-K73)/ABS(K73),"-") -> -
C74: 1097 | D74: =ROUND(Summary!D74,1) -> 0 | E74: =ROUND(Summary!E74,1) -> 0 | F74: =ROUND(Summary!F74,1) -> 0 | G74: =ROUND(Summary!G74,1) -> 0 | H74: =ROUND(Summary!H74,1) -> 1.1 | I74: =ROUND(Summary!I74,1) -> 0 | J74: =ROUND(Summary!J74,1) -> 0 | K74: =ROUND(Summary!K74,1) -> 0 | ... T74: =ROUND(Summary!T74,1) -> 0 | U74: =SUM(D74:T74) -> 1.1 | W74: =M74-D74 -> 0 | X74: =N74-E74 -> 0 | Y74: =O74-F74 -> 0 | Z74: =P74-G74 -> 0 | AA74: =IFERROR((M74-D74)/ABS(D74),"-") -> - | AB74: =IFERROR((N74-E74)/ABS(E74),"-") -> - | AC74: =IFERROR((O74-F74)/ABS(F74),"-") -> - | AD74: =IFERROR((P74-G74)/ABS(G74),"-") -> - | AF74: =Q74-H74 -> -1.1 | AG74: =R74-I74 -> 0 | AH74: =S74-J74 -> 0 | AI74: =T74-K74 -> 0 | AJ74: =IFERROR((Q74-H74)/ABS(H74),"-") -> -1 | AK74: =IFERROR((R74-I74)/ABS(I74),"-") -> - | AL74: =IFERROR((S74-J74)/ABS(J74),"-") -> - | AM74: =IFERROR((T74-K74)/ABS(K74),"-") -> -
... C91: 1114 | D91: =ROUND(Summary!D91,1) -> 0 | E91: =ROUND(Summary!E91,1) -> 2.1 | F91: =ROUND(Summary!F91,1) -> 0 | G91: =ROUND(Summary!G91,1) -> 0 | H91: =ROUND(Summary!H91,1) -> 0 | I91: =ROUND(Summary!I91,1) -> 1 | J91: =ROUND(Summary!J91,1) -> 0 | K91: =ROUND(Summary!K91,1) -> 0 | ... T91: =ROUND(Summary!T91,1) -> 0 | U91: =SUM(D91:T91) -> 9.6 | W91: =M91-D91 -> 0 | X91: =N91-E91 -> 0.7 | Y91: =O91-F91 -> 0 | Z91: =P91-G91 -> 0 | AA91: =IFERROR((M91-D91)/ABS(D91),"-") -> - | AB91: =IFERROR((N91-E91)/ABS(E91),"-") -> 0.33333333 | AC91: =IFERROR((O91-F91)/ABS(F91),"-") -> - | AD91: =IFERROR((P91-G91)/ABS(G91),"-") -> - | AF91: =Q91-H91 -> 0 | AG91: =R91-I91 -> 2.7 | AH91: =S91-J91 -> 0 | AI91: =T91-K91 -> 0 | AJ91: =IFERROR((Q91-H91)/ABS(H91),"-") -> - | AK91: =IFERROR((R91-I91)/ABS(I91),"-") -> 2.7 | AL91: =IFERROR((S91-J91)/ABS(J91),"-") -> - | AM91: =IFERROR((T91-K91)/ABS(K91),"-") -> -
B92: Burnside Centre, Victoria Road, Burgess Hill | C92: 1115 | D92: =ROUND(Summary!D92,1) -> 0 | E92: =ROUND(Summary!E92,1) -> 0 | F92: =ROUND(Summary!F92,1) -> 0 | G92: =ROUND(Summary!G92,1) -> 0 | H92: =ROUND(Summary!H92,1) -> 0 | I92: =ROUND(Summary!I92,1) -> 0 | J92: =ROUND(Summary!J92,1) -> 0 | K92: =ROUND(Summary!K92,1) -> 0 | ... T92: =ROUND(Summary!T92,1) -> 0 | U92: =SUM(D92:T92) -> 0 | W92: =M92-D92 -> 0 | X92: =N92-E92 -> 0 | Y92: =O92-F92 -> 0 | Z92: =P92-G92 -> 0 | AA92: =IFERROR((M92-D92)/ABS(D92),"-") -> - | AB92: =IFERROR((N92-E92)/ABS(E92),"-") -> - | AC92: =IFERROR((O92-F92)/ABS(F92),"-") -> - | AD92: =IFERROR((P92-G92)/ABS(G92),"-") -> - | AF92: =Q92-H92 -> 0 | AG92: =R92-I92 -> 0 | AH92: =S92-J92 -> 0 | AI92: =T92-K92 -> 0 | AJ92: =IFERROR((Q92-H92)/ABS(H92),"-") -> - | AK92: =IFERROR((R92-I92)/ABS(I92),"-") -> - | AL92: =IFERROR((S92-J92)/ABS(J92),"-") -> - | AM92: =IFERROR((T92-K92)/ABS(K92),"-") -> -
C93: 1116 | D93: =ROUND(Summary!D93,1) -> 0 | E93: =ROUND(Summary!E93,1) -> 0 | F93: =ROUND(Summary!F93,1) -> 0 | G93: =ROUND(Summary!G93,1) -> 0 | H93: =ROUND(Summary!H93,1) -> 0 | I93: =ROUND(Summary!I93,1) -> 0 | J93: =ROUND(Summary!J93,1) -> 0 | K93: =ROUND(Summary!K93,1) -> 0 | ... T93: =ROUND(Summary!T93,1) -> 0 | U93: =SUM(D93:T93) -> 0 | W93: =M93-D93 -> 0 | X93: =N93-E93 -> 0 | Y93: =O93-F93 -> 0 | Z93: =P93-G93 -> 0 | AA93: =IFERROR((M93-D93)/ABS(D93),"-") -> - | AB93: =IFERROR((N93-E93)/ABS(E93),"-") -> - | AC93: =IFERROR((O93-F93)/ABS(F93),"-") -> - | AD93: =IFERROR((P93-G93)/ABS(G93),"-") -> - | AF93: =Q93-H93 -> 0 | AG93: =R93-I93 -> 0 | AH93: =S93-J93 -> 0 | AI93: =T93-K93 -> 0 | AJ93: =IFERROR((Q93-H93)/ABS(H93),"-") -> - | AK93: =IFERROR((R93-I93)/ABS(I93),"-") -> - | AL93: =IFERROR((S93-J93)/ABS(J93),"-") -> - | AM93: =IFERROR((T93-K93)/ABS(K93),"-") -> -
C94: 1117 | D94: =ROUND(Summary!D94,1) -> 0 | E94: =ROUND(Summary!E94,1) -> 0 | F94: =ROUND(Summary!F94,1) -> 0 | G94: =ROUND(Summary!G94,1) -> 0 | H94: =ROUND(Summary!H94,1) -> 0.2 | I94: =ROUND(Summary!I94,1) -> 0 | J94: =ROUND(Summary!J94,1) -> 0 | K94: =ROUND(Summary!K94,1) -> 0 | ... T94: =ROUND(Summary!T94,1) -> 0 | U94: =SUM(D94:T94) -> 0.2 | W94: =M94-D94 -> 0 | X94: =N94-E94 -> 0 | Y94: =O94-F94 -> 0 | Z94: =P94-G94 -> 0 | AA94: =IFERROR((M94-D94)/ABS(D94),"-") -> - | AB94: =IFERROR((N94-E94)/ABS(E94),"-") -> - | AC94: =IFERROR((O94-F94)/ABS(F94),"-") -> - | AD94: =IFERROR((P94-G94)/ABS(G94),"-") -> - | AF94: =Q94-H94 -> -0.2 | AG94: =R94-I94 -> 0 | AH94: =S94-J94 -> 0 | AI94: =T94-K94 -> 0 | AJ94: =IFERROR((Q94-H94)/ABS(H94),"-") -> -1 | AK94: =IFERROR((R94-I94)/ABS(I94),"-") -> - | AL94: =IFERROR((S94-J94)/ABS(J94),"-") -> - | AM94: =IFERROR((T94-K94)/ABS(K94),"-") -> -
C95: 1118 | D95: =ROUND(Summary!D95,1) -> 0 | E95: =ROUND(Summary!E95,1) -> 0 | F95: =ROUND(Summary!F95,1) -> 0 | G95: =ROUND(Summary!G95,1) -> 0 | H95: =ROUND(Summary!H95,1) -> 0 | I95: =ROUND(Summary!I95,1) -> 0 | J95: =ROUND(Summary!J95,1) -> 0 | K95: =ROUND(Summary!K95,1) -> 0 | ... T95: =ROUND(Summary!T95,1) -> 0 | U95: =SUM(D95:T95) -> 0 | W95: =M95-D95 -> 0 | X95: =N95-E95 -> 0 | Y95: =O95-F95 -> 0 | Z95: =P95-G95 -> 0 | AA95: =IFERROR((M95-D95)/ABS(D95),"-") -> - | AB95: =IFERROR((N95-E95)/ABS(E95),"-") -> - | AC95: =IFERROR((O95-F95)/ABS(F95),"-") -> - | AD95: =IFERROR((P95-G95)/ABS(G95),"-") -> - | AF95: =Q95-H95 -> 0 | AG95: =R95-I95 -> 0 | AH95: =S95-J95 -> 0 | AI95: =T95-K95 -> 0 | AJ95: =IFERROR((Q95-H95)/ABS(H95),"-") -> - | AK95: =IFERROR((R95-I95)/ABS(I95),"-") -> - | AL95: =IFERROR((S95-J95)/ABS(J95),"-") -> - | AM95: =IFERROR((T95-K95)/ABS(K95),"-") -> -
C96: 1119 | D96: =ROUND(Summary!D96,1) -> 0 | E96: =ROUND(Summary!E96,1) -> 0 | F96: =ROUND(Summary!F96,1) -> 0 | G96: =ROUND(Summary!G96,1) -> 0 | H96: =ROUND(Summary!H96,1) -> 0 | I96: =ROUND(Summary!I96,1) -> 0 | J96: =ROUND(Summary!J96,1) -> 0 | K96: =ROUND(Summary!K96,1) -> 0 | ... T96: =ROUND(Summary!T96,1) -> 0 | U96: =SUM(D96:T96) -> 0 | W96: =M96-D96 -> 0 | X96: =N96-E96 -> 0 | Y96: =O96-F96 -> 0 | Z96: =P96-G96 -> 0 | AA96: =IFERROR((M96-D96)/ABS(D96),"-") -> - | AB96: =IFERROR((N96-E96)/ABS(E96),"-") -> - | AC96: =IFERROR((O96-F96)/ABS(F96),"-") -> - | AD96: =IFERROR((P96-G96)/ABS(G96),"-") -> - | AF96: =Q96-H96 -> 0 | AG96: =R96-I96 -> 0 | AH96: =S96-J96 -> 0 | AI96: =T96-K96 -> 0 | AJ96: =IFERROR((Q96-H96)/ABS(H96),"-") -> - | AK96: =IFERROR((R96-I96)/ABS(I96),"-") -> - | AL96: =IFERROR((S96-J96)/ABS(J96),"-") -> - | AM96: =IFERROR((T96-K96)/ABS(K96),"-") -> -
C97: 1120 | D97: =ROUND(Summary!D97,1) -> 0 | E97: =ROUND(Summary!E97,1) -> 0 | F97: =ROUND(Summary!F97,1) -> 0 | G97: =ROUND(Summary!G97,1) -> 0 | H97: =ROUND(Summary!H97,1) -> 0 | I97: =ROUND(Summary!I97,1) -> 3.1 | J97: =ROUND(Summary!J97,1) -> 0 | K97: =ROUND(Summary!K97,1) -> 0 | ... T97: =ROUND(Summary!T97,1) -> 0 | U97: =SUM(D97:T97) -> 3.8 | W97: =M97-D97 -> 0 | X97: =N97-E97 -> 0 | Y97: =O97-F97 -> 0 | Z97: =P97-G97 -> 0 | AA97: =IFERROR((M97-D97)/ABS(D97),"-") -> - | AB97: =IFERROR((N97-E97)/ABS(E97),"-") -> - | AC97: =IFERROR((O97-F97)/ABS(F97),"-") -> - | AD97: =IFERROR((P97-G97)/ABS(G97),"-") -> - | AF97: =Q97-H97 -> 0 | AG97: =R97-I97 -> -2.4 | AH97: =S97-J97 -> 0 | AI97: =T97-K97 -> 0 | AJ97: =IFERROR((Q97-H97)/ABS(H97),"-") -> - | AK97: =IFERROR((R97-I97)/ABS(I97),"-") -> -0.77419355 | AL97: =IFERROR((S97-J97)/ABS(J97),"-") -> - | AM97: =IFERROR((T97-K97)/ABS(K97),"-") -> -
C98: 1121 | D98: =ROUND(Summary!D98,1) -> 0 | E98: =ROUND(Summary!E98,1) -> 6.4 | F98: =ROUND(Summary!F98,1) -> 0 | G98: =ROUND(Summary!G98,1) -> 0 | H98: =ROUND(Summary!H98,1) -> 0 | I98: =ROUND(Summary!I98,1) -> 4.2 | J98: =ROUND(Summary!J98,1) -> 0 | K98: =ROUND(Summary!K98,1) -> 0 | ... T98: =ROUND(Summary!T98,1) -> 0 | U98: =SUM(D98:T98) -> 32.5 | W98: =M98-D98 -> 0 | X98: =N98-E98 -> -4.5 | Y98: =O98-F98 -> 0 | Z98: =P98-G98 -> 0 | AA98: =IFERROR((M98-D98)/ABS(D98),"-") -> - | AB98: =IFERROR((N98-E98)/ABS(E98),"-") -> -0.703125 | AC98: =IFERROR((O98-F98)/ABS(F98),"-") -> - | AD98: =IFERROR((P98-G98)/ABS(G98),"-") -> - | AF98: =Q98-H98 -> 0 | AG98: =R98-I98 -> 15.8 | AH98: =S98-J98 -> 0 | AI98: =T98-K98 -> 0 | AJ98: =IFERROR((Q98-H98)/ABS(H98),"-") -> - | AK98: =IFERROR((R98-I98)/ABS(I98),"-") -> 3.7619048 | AL98: =IFERROR((S98-J98)/ABS(J98),"-") -> - | AM98: =IFERROR((T98-K98)/ABS(K98),"-") -> -
C99: 1124 | D99: =ROUND(Summary!D99,1) -> 0 | E99: =ROUND(Summary!E99,1) -> 23.3 | F99: =ROUND(Summary!F99,1) -> 0 | G99: =ROUND(Summary!G99,1) -> 0 | H99: =ROUND(Summary!H99,1) -> 0 | I99: =ROUND(Summary!I99,1) -> 27.2 | J99: =ROUND(Summary!J99,1) -> 0 | K99: =ROUND(Summary!K99,1) -> 0 | ... T99: =ROUND(Summary!T99,1) -> 0 | U99: =SUM(D99:T99) -> 107.4 | W99: =M99-D99 -> 0 | X99: =N99-E99 -> 4 | Y99: =O99-F99 -> 0 | Z99: =P99-G99 -> 0 | AA99: =IFERROR((M99-D99)/ABS(D99),"-") -> - | AB99: =IFERROR((N99-E99)/ABS(E99),"-") -> 0.17167382 | AC99: =IFERROR((O99-F99)/ABS(F99),"-") -> - | AD99: =IFERROR((P99-G99)/ABS(G99),"-") -> - | AF99: =Q99-H99 -> 0 | AG99: =R99-I99 -> 2.4 | AH99: =S99-J99 -> 0 | AI99: =T99-K99 -> 0 | AJ99: =IFERROR((Q99-H99)/ABS(H99),"-") -> - | AK99: =IFERROR((R99-I99)/ABS(I99),"-") -> 0.088235294 | AL99: =IFERROR((S99-J99)/ABS(J99),"-") -> - | AM99: =IFERROR((T99-K99)/ABS(K99),"-") -> -
C100: 1125 | D100: =ROUND(Summary!D100,1) -> 0 | E100: =ROUND(Summary!E100,1) -> 5.7 | F100: =ROUND(Summary!F100,1) -> 0 | G100: =ROUND(Summary!G100,1) -> 0 | H100: =ROUND(Summary!H100,1) -> 0 | I100: =ROUND(Summary!I100,1) -> 8.1 | J100: =ROUND(Summary!J100,1) -> 0 | K100: =ROUND(Summary!K100,1) -> 0 | ... T100: =ROUND(Summary!T100,1) -> 0 | U100: =SUM(D100:T100) -> 34.5 | W100: =M100-D100 -> 0 | X100: =N100-E100 -> 0.8 | Y100: =O100-F100 -> 0 | Z100: =P100-G100 -> 0 | AA100: =IFERROR((M100-D100)/ABS(D100),"-") -> - | AB100: =IFERROR((N100-E100)/ABS(E100),"-") -> 0.14035088 | AC100: =IFERROR((O100-F100)/ABS(F100),"-") -> - | AD100: =IFERROR((P100-G100)/ABS(G100),"-") -> - | AF100: =Q100-H100 -> 0 | AG100: =R100-I100 -> 6.1 | AH100: =S100-J100 -> 0 | AI100: =T100-K100 -> 0 | AJ100: =IFERROR((Q100-H100)/ABS(H100),"-") -> - | AK100: =IFERROR((R100-I100)/ABS(I100),"-") -> 0.75308642 | AL100: =IFERROR((S100-J100)/ABS(J100),"-") -> - | AM100: =IFERROR((T100-K100)/ABS(K100),"-") -> -
C101: 1126 | D101: =ROUND(Summary!D101,1) -> 0 | E101: =ROUND(Summary!E101,1) -> 0 | F101: =ROUND(Summary!F101,1) -> 0 | G101: =ROUND(Summary!G101,1) -> 0 | H101: =ROUND(Summary!H101,1) -> 0 | I101: =ROUND(Summary!I101,1) -> 0 | J101: =ROUND(Summary!J101,1) -> 0 | K101: =ROUND(Summary!K101,1) -> 0 | ... T101: =ROUND(Summary!T101,1) -> 0 | U101: =SUM(D101:T101) -> 0 | W101: =M101-D101 -> 0 | X101: =N101-E101 -> 0 | Y101: =O101-F101 -> 0 | Z101: =P101-G101 -> 0 | AA101: =IFERROR((M101-D101)/ABS(D101),"-") -> - | AB101: =IFERROR((N101-E101)/ABS(E101),"-") -> - | AC101: =IFERROR((O101-F101)/ABS(F101),"-") -> - | AD101: =IFERROR((P101-G101)/ABS(G101),"-") -> - | AF101: =Q101-H101 -> 0 | AG101: =R101-I101 -> 0 | AH101: =S101-J101 -> 0 | AI101: =T101-K101 -> 0 | AJ101: =IFERROR((Q101-H101)/ABS(H101),"-") -> - | AK101: =IFERROR((R101-I101)/ABS(I101),"-") -> - | AL101: =IFERROR((S101-J101)/ABS(J101),"-") -> - | AM101: =IFERROR((T101-K101)/ABS(K101),"-") -> -
C102: 1127 | D102: =ROUND(Summary!D102,1) -> 0 | E102: =ROUND(Summary!E102,1) -> 0 | F102: =ROUND(Summary!F102,1) -> 0 | G102: =ROUND(Summary!G102,1) -> 0 | H102: =ROUND(Summary!H102,1) -> 0 | I102: =ROUND(Summary!I102,1) -> 0 | J102: =ROUND(Summary!J102,1) -> 0 | K102: =ROUND(Summary!K102,1) -> 0 | ... T102: =ROUND(Summary!T102,1) -> 0 | U102: =SUM(D102:T102) -> 0 | W102: =M102-D102 -> 0 | X102: =N102-E102 -> 0 | Y102: =O102-F102 -> 0 | Z102: =P102-G102 -> 0 | AA102: =IFERROR((M102-D102)/ABS(D102),"-") -> - | AB102: =IFERROR((N102-E102)/ABS(E102),"-") -> - | AC102: =IFERROR((O102-F102)/ABS(F102),"-") -> - | AD102: =IFERROR((P102-G102)/ABS(G102),"-") -> - | AF102: =Q102-H102 -> 0 | AG102: =R102-I102 -> 0 | AH102: =S102-J102 -> 0 | AI102: =T102-K102 -> 0 | AJ102: =IFERROR((Q102-H102)/ABS(H102),"-") -> - | AK102: =IFERROR((R102-I102)/ABS(I102),"-") -> - | AL102: =IFERROR((S102-J102)/ABS(J102),"-") -> - | AM102: =IFERROR((T102-K102)/ABS(K102),"-") -> -
C103: 1128 | D103: =ROUND(Summary!D103,1) -> 0 | E103: =ROUND(Summary!E103,1) -> 0 | F103: =ROUND(Summary!F103,1) -> 0 | G103: =ROUND(Summary!G103,1) -> 0 | H103: =ROUND(Summary!H103,1) -> 0 | I103: =ROUND(Summary!I103,1) -> 0 | J103: =ROUND(Summary!J103,1) -> 0 | K103: =ROUND(Summary!K103,1) -> 0 | ... T103: =ROUND(Summary!T103,1) -> 0 | U103: =SUM(D103:T103) -> 0 | W103: =M103-D103 -> 0 | X103: =N103-E103 -> 0 | Y103: =O103-F103 -> 0 | Z103: =P103-G103 -> 0 | AA103: =IFERROR((M103-D103)/ABS(D103),"-") -> - | AB103: =IFERROR((N103-E103)/ABS(E103),"-") -> - | AC103: =IFERROR((O103-F103)/ABS(F103),"-") -> - | AD103: =IFERROR((P103-G103)/ABS(G103),"-") -> - | AF103: =Q103-H103 -> 0 | AG103: =R103-I103 -> 0 | AH103: =S103-J103 -> 0 | AI103: =T103-K103 -> 0 | AJ103: =IFERROR((Q103-H103)/ABS(H103),"-") -> - | AK103: =IFERROR((R103-I103)/ABS(I103),"-") -> - | AL103: =IFERROR((S103-J103)/ABS(J103),"-") -> - | AM103: =IFERROR((T103-K103)/ABS(K103),"-") -> -
C104: 1129 | D104: =ROUND(Summary!D104,1) -> 0 | E104: =ROUND(Summary!E104,1) -> 0 | F104: =ROUND(Summary!F104,1) -> 0 | G104: =ROUND(Summary!G104,1) -> 0 | H104: =ROUND(Summary!H104,1) -> 0 | I104: =ROUND(Summary!I104,1) -> 2.5 | J104: =ROUND(Summary!J104,1) -> 0 | K104: =ROUND(Summary!K104,1) -> 0 | ... T104: =ROUND(Summary!T104,1) -> 0 | U104: =SUM(D104:T104) -> 2.6 | W104: =M104-D104 -> 0 | X104: =N104-E104 -> 0 | Y104: =O104-F104 -> 0 | Z104: =P104-G104 -> 0 | AA104: =IFERROR((M104-D104)/ABS(D104),"-") -> - | AB104: =IFERROR((N104-E104)/ABS(E104),"-") -> - | AC104: =IFERROR((O104-F104)/ABS(F104),"-") -> - | AD104: =IFERROR((P104-G104)/ABS(G104),"-") -> - | AF104: =Q104-H104 -> 0 | AG104: =R104-I104 -> -2.4 | AH104: =S104-J104 -> 0 | AI104: =T104-K104 -> 0 | AJ104: =IFERROR((Q104-H104)/ABS(H104),"-") -> - | AK104: =IFERROR((R104-I104)/ABS(I104),"-") -> -0.96 | AL104: =IFERROR((S104-J104)/ABS(J104),"-") -> - | AM104: =IFERROR((T104-K104)/ABS(K104),"-") -> -
... C107: 1137 | D107: =ROUND(Summary!D107,1) -> 0 | E107: =ROUND(Summary!E107,1) -> 0 | F107: =ROUND(Summary!F107,1) -> 0 | G107: =ROUND(Summary!G107,1) -> 0 | H107: =ROUND(Summary!H107,1) -> 0 | I107: =ROUND(Summary!I107,1) -> 0 | J107: =ROUND(Summary!J107,1) -> 0 | K107: =ROUND(Summary!K107,1) -> 0 | ... T107: =ROUND(Summary!T107,1) -> 0 | U107: =SUM(D107:T107) -> 0 | W107: =M107-D107 -> 0 | X107: =N107-E107 -> 0 | Y107: =O107-F107 -> 0 | Z107: =P107-G107 -> 0 | AA107: =IFERROR((M107-D107)/ABS(D107),"-") -> - | AB107: =IFERROR((N107-E107)/ABS(E107),"-") -> - | AC107: =IFERROR((O107-F107)/ABS(F107),"-") -> - | AD107: =IFERROR((P107-G107)/ABS(G107),"-") -> - | AF107: =Q107-H107 -> 0 | AG107: =R107-I107 -> 0 | AH107: =S107-J107 -> 0 | AI107: =T107-K107 -> 0 | AJ107: =IFERROR((Q107-H107)/ABS(H107),"-") -> - | AK107: =IFERROR((R107-I107)/ABS(I107),"-") -> - | AL107: =IFERROR((S107-J107)/ABS(J107),"-") -> - | AM107: =IFERROR((T107-K107)/ABS(K107),"-") -> -
B108: Burgess Hill Station (additional yield) | C108: 1138 | D108: =ROUND(Summary!D108,1) -> 0 | E108: =ROUND(Summary!E108,1) -> 6.4 | F108: =ROUND(Summary!F108,1) -> 0 | G108: =ROUND(Summary!G108,1) -> 0 | H108: =ROUND(Summary!H108,1) -> 0 | I108: =ROUND(Summary!I108,1) -> 0.6 | J108: =ROUND(Summary!J108,1) -> 0 | K108: =ROUND(Summary!K108,1) -> 0 | ... T108: =ROUND(Summary!T108,1) -> 0 | U108: =SUM(D108:T108) -> 29 | W108: =M108-D108 -> 0 | X108: =N108-E108 -> 2.3 | Y108: =O108-F108 -> 0 | Z108: =P108-G108 -> 0 | AA108: =IFERROR((M108-D108)/ABS(D108),"-") -> - | AB108: =IFERROR((N108-E108)/ABS(E108),"-") -> 0.359375 | AC108: =IFERROR((O108-F108)/ABS(F108),"-") -> - | AD108: =IFERROR((P108-G108)/ABS(G108),"-") -> - | AF108: =Q108-H108 -> 0 | AG108: =R108-I108 -> 12.7 | AH108: =S108-J108 -> 0 | AI108: =T108-K108 -> 0 | AJ108: =IFERROR((Q108-H108)/ABS(H108),"-") -> - | AK108: =IFERROR((R108-I108)/ABS(I108),"-") -> 21.166667 | AL108: =IFERROR((S108-J108)/ABS(J108),"-") -> - | AM108: =IFERROR((T108-K108)/ABS(K108),"-") -> -
C109: 1142 | D109: =ROUND(Summary!D109,1) -> 0 | E109: =ROUND(Summary!E109,1) -> 0 | F109: =ROUND(Summary!F109,1) -> 0 | G109: =ROUND(Summary!G109,1) -> 0 | H109: =ROUND(Summary!H109,1) -> 0 | I109: =ROUND(Summary!I109,1) -> 0 | J109: =ROUND(Summary!J109,1) -> 0 | K109: =ROUND(Summary!K109,1) -> 0 | ... T109: =ROUND(Summary!T109,1) -> 0 | U109: =SUM(D109:T109) -> 0 | W109: =M109-D109 -> 0 | X109: =N109-E109 -> 0 | Y109: =O109-F109 -> 0 | Z109: =P109-G109 -> 0 | AA109: =IFERROR((M109-D109)/ABS(D109),"-") -> - | AB109: =IFERROR((N109-E109)/ABS(E109),"-") -> - | AC109: =IFERROR((O109-F109)/ABS(F109),"-") -> - | AD109: =IFERROR((P109-G109)/ABS(G109),"-") -> - | AF109: =Q109-H109 -> 0 | AG109: =R109-I109 -> 0 | AH109: =S109-J109 -> 0 | AI109: =T109-K109 -> 0 | AJ109: =IFERROR((Q109-H109)/ABS(H109),"-") -> - | AK109: =IFERROR((R109-I109)/ABS(I109),"-") -> - | AL109: =IFERROR((S109-J109)/ABS(J109),"-") -> - | AM109: =IFERROR((T109-K109)/ABS(K109),"-") -> -
B110: Orchards Shopping Centre | C110: 1143 | D110: =ROUND(Summary!D110,1) -> 0 | E110: =ROUND(Summary!E110,1) -> 0 | F110: =ROUND(Summary!F110,1) -> 0 | G110: =ROUND(Summary!G110,1) -> 0 | H110: =ROUND(Summary!H110,1) -> 0 | I110: =ROUND(Summary!I110,1) -> 0 | J110: =ROUND(Summary!J110,1) -> 0 | K110: =ROUND(Summary!K110,1) -> 0 | ... T110: =ROUND(Summary!T110,1) -> 0 | U110: =SUM(D110:T110) -> 0 | W110: =M110-D110 -> 0 | X110: =N110-E110 -> 0 | Y110: =O110-F110 -> 0 | Z110: =P110-G110 -> 0 | AA110: =IFERROR((M110-D110)/ABS(D110),"-") -> - | AB110: =IFERROR((N110-E110)/ABS(E110),"-") -> - | AC110: =IFERROR((O110-F110)/ABS(F110),"-") -> - | AD110: =IFERROR((P110-G110)/ABS(G110),"-") -> - | AF110: =Q110-H110 -> 0 | AG110: =R110-I110 -> 0 | AH110: =S110-J110 -> 0 | AI110: =T110-K110 -> 0 | AJ110: =IFERROR((Q110-H110)/ABS(H110),"-") -> - | AK110: =IFERROR((R110-I110)/ABS(I110),"-") -> - | AL110: =IFERROR((S110-J110)/ABS(J110),"-") -> - | AM110: =IFERROR((T110-K110)/ABS(K110),"-") -> -
C111: 1144 | D111: =ROUND(Summary!D111,1) -> 0 | E111: =ROUND(Summary!E111,1) -> 0 | F111: =ROUND(Summary!F111,1) -> 0 | G111: =ROUND(Summary!G111,1) -> 0 | H111: =ROUND(Summary!H111,1) -> 0 | I111: =ROUND(Summary!I111,1) -> 0 | J111: =ROUND(Summary!J111,1) -> 0 | K111: =ROUND(Summary!K111,1) -> 0 | ... T111: =ROUND(Summary!T111,1) -> 0 | U111: =SUM(D111:T111) -> 0 | W111: =M111-D111 -> 0 | X111: =N111-E111 -> 0 | Y111: =O111-F111 -> 0 | Z111: =P111-G111 -> 0 | AA111: =IFERROR((M111-D111)/ABS(D111),"-") -> - | AB111: =IFERROR((N111-E111)/ABS(E111),"-") -> - | AC111: =IFERROR((O111-F111)/ABS(F111),"-") -> - | AD111: =IFERROR((P111-G111)/ABS(G111),"-") -> - | AF111: =Q111-H111 -> 0 | AG111: =R111-I111 -> 0 | AH111: =S111-J111 -> 0 | AI111: =T111-K111 -> 0 | AJ111: =IFERROR((Q111-H111)/ABS(H111),"-") -> - | AK111: =IFERROR((R111-I111)/ABS(I111),"-") -> - | AL111: =IFERROR((S111-J111)/ABS(J111),"-") -> - | AM111: =IFERROR((T111-K111)/ABS(K111),"-") -> -
C112: 1145 | D112: =ROUND(Summary!D112,1) -> 0 | E112: =ROUND(Summary!E112,1) -> 3.2 | F112: =ROUND(Summary!F112,1) -> 0 | G112: =ROUND(Summary!G112,1) -> 0 | H112: =ROUND(Summary!H112,1) -> 0 | I112: =ROUND(Summary!I112,1) -> 1.4 | J112: =ROUND(Summary!J112,1) -> 0 | K112: =ROUND(Summary!K112,1) -> 0 | ... T112: =ROUND(Summary!T112,1) -> 0 | U112: =SUM(D112:T112) -> 15 | W112: =M112-D112 -> 0 | X112: =N112-E112 -> 1.2 | Y112: =O112-F112 -> 0 | Z112: =P112-G112 -> 0 | AA112: =IFERROR((M112-D112)/ABS(D112),"-") -> - | AB112: =IFERROR((N112-E112)/ABS(E112),"-") -> 0.375 | AC112: =IFERROR((O112-F112)/ABS(F112),"-") -> - | AD112: =IFERROR((P112-G112)/ABS(G112),"-") -> - | AF112: =Q112-H112 -> 0 | AG112: =R112-I112 -> 4.6 | AH112: =S112-J112 -> 0 | AI112: =T112-K112 -> 0 | AJ112: =IFERROR((Q112-H112)/ABS(H112),"-") -> - | AK112: =IFERROR((R112-I112)/ABS(I112),"-") -> 3.2857143 | AL112: =IFERROR((S112-J112)/ABS(J112),"-") -> - | AM112: =IFERROR((T112-K112)/ABS(K112),"-") -> -
C113: 2001 | D113: =ROUND(Summary!D113,1) -> 0 | E113: =ROUND(Summary!E113,1) -> 0 | F113: =ROUND(Summary!F113,1) -> 0 | G113: =ROUND(Summary!G113,1) -> 0 | H113: =ROUND(Summary!H113,1) -> 0.1 | I113: =ROUND(Summary!I113,1) -> 0 | J113: =ROUND(Summary!J113,1) -> 0 | K113: =ROUND(Summary!K113,1) -> 0 | ... T113: =ROUND(Summary!T113,1) -> 0 | U113: =SUM(D113:T113) -> 0.2 | W113: =M113-D113 -> 0 | X113: =N113-E113 -> 0 | Y113: =O113-F113 -> 0 | Z113: =P113-G113 -> 0 | AA113: =IFERROR((M113-D113)/ABS(D113),"-") -> - | AB113: =IFERROR((N113-E113)/ABS(E113),"-") -> - | AC113: =IFERROR((O113-F113)/ABS(F113),"-") -> - | AD113: =IFERROR((P113-G113)/ABS(G113),"-") -> - | AF113: =Q113-H113 -> 0 | AG113: =R113-I113 -> 0 | AH113: =S113-J113 -> 0 | AI113: =T113-K113 -> 0 | AJ113: =IFERROR((Q113-H113)/ABS(H113),"-") -> 0 | AK113: =IFERROR((R113-I113)/ABS(I113),"-") -> - | AL113: =IFERROR((S113-J113)/ABS(J113),"-") -> - | AM113: =IFERROR((T113-K113)/ABS(K113),"-") -> -
C114: 2002 | D114: =ROUND(Summary!D114,1) -> 0 | E114: =ROUND(Summary!E114,1) -> 0 | F114: =ROUND(Summary!F114,1) -> 0 | G114: =ROUND(Summary!G114,1) -> 0 | H114: =ROUND(Summary!H114,1) -> 0.1 | I114: =ROUND(Summary!I114,1) -> 0 | J114: =ROUND(Summary!J114,1) -> 0 | K114: =ROUND(Summary!K114,1) -> 0 | ... T114: =ROUND(Summary!T114,1) -> 0 | U114: =SUM(D114:T114) -> 0.2 | W114: =M114-D114 -> 0 | X114: =N114-E114 -> 0 | Y114: =O114-F114 -> 0 | Z114: =P114-G114 -> 0 | AA114: =IFERROR((M114-D114)/ABS(D114),"-") -> - | AB114: =IFERROR((N114-E114)/ABS(E114),"-") -> - | AC114: =IFERROR((O114-F114)/ABS(F114),"-") -> - | AD114: =IFERROR((P114-G114)/ABS(G114),"-") -> - | AF114: =Q114-H114 -> 0 | AG114: =R114-I114 -> 0 | AH114: =S114-J114 -> 0 | AI114: =T114-K114 -> 0 | AJ114: =IFERROR((Q114-H114)/ABS(H114),"-") -> 0 | AK114: =IFERROR((R114-I114)/ABS(I114),"-") -> - | AL114: =IFERROR((S114-J114)/ABS(J114),"-") -> - | AM114: =IFERROR((T114-K114)/ABS(K114),"-") -> -
C115: 2003 | D115: =ROUND(Summary!D115,1) -> 0 | E115: =ROUND(Summary!E115,1) -> 0 | F115: =ROUND(Summary!F115,1) -> 0 | G115: =ROUND(Summary!G115,1) -> 0 | H115: =ROUND(Summary!H115,1) -> 0.1 | I115: =ROUND(Summary!I115,1) -> 0 | J115: =ROUND(Summary!J115,1) -> 0 | K115: =ROUND(Summary!K115,1) -> 0 | ... T115: =ROUND(Summary!T115,1) -> 0 | U115: =SUM(D115:T115) -> 0.2 | W115: =M115-D115 -> 0 | X115: =N115-E115 -> 0 | Y115: =O115-F115 -> 0 | Z115: =P115-G115 -> 0 | AA115: =IFERROR((M115-D115)/ABS(D115),"-") -> - | AB115: =IFERROR((N115-E115)/ABS(E115),"-") -> - | AC115: =IFERROR((O115-F115)/ABS(F115),"-") -> - | AD115: =IFERROR((P115-G115)/ABS(G115),"-") -> - | AF115: =Q115-H115 -> 0 | AG115: =R115-I115 -> 0 | AH115: =S115-J115 -> 0 | AI115: =T115-K115 -> 0 | AJ115: =IFERROR((Q115-H115)/ABS(H115),"-") -> 0 | AK115: =IFERROR((R115-I115)/ABS(I115),"-") -> - | AL115: =IFERROR((S115-J115)/ABS(J115),"-") -> - | AM115: =IFERROR((T115-K115)/ABS(K115),"-") -> -
C116: 2004 | D116: =ROUND(Summary!D116,1) -> 0 | E116: =ROUND(Summary!E116,1) -> 0 | F116: =ROUND(Summary!F116,1) -> 0 | G116: =ROUND(Summary!G116,1) -> 0 | H116: =ROUND(Summary!H116,1) -> 0 | I116: =ROUND(Summary!I116,1) -> 0 | J116: =ROUND(Summary!J116,1) -> 0 | K116: =ROUND(Summary!K116,1) -> 0 | ... T116: =ROUND(Summary!T116,1) -> 0 | U116: =SUM(D116:T116) -> 0 | W116: =M116-D116 -> 0 | X116: =N116-E116 -> 0 | Y116: =O116-F116 -> 0 | Z116: =P116-G116 -> 0 | AA116: =IFERROR((M116-D116)/ABS(D116),"-") -> - | AB116: =IFERROR((N116-E116)/ABS(E116),"-") -> - | AC116: =IFERROR((O116-F116)/ABS(F116),"-") -> - | AD116: =IFERROR((P116-G116)/ABS(G116),"-") -> - | AF116: =Q116-H116 -> 0 | AG116: =R116-I116 -> 0 | AH116: =S116-J116 -> 0 | AI116: =T116-K116 -> 0 | AJ116: =IFERROR((Q116-H116)/ABS(H116),"-") -> - | AK116: =IFERROR((R116-I116)/ABS(I116),"-") -> - | AL116: =IFERROR((S116-J116)/ABS(J116),"-") -> - | AM116: =IFERROR((T116-K116)/ABS(K116),"-") -> -
C117: 2005 | D117: =ROUND(Summary!D117,1) -> 0 | E117: =ROUND(Summary!E117,1) -> 0 | F117: =ROUND(Summary!F117,1) -> 0 | G117: =ROUND(Summary!G117,1) -> 0 | H117: =ROUND(Summary!H117,1) -> 0.1 | I117: =ROUND(Summary!I117,1) -> 0 | J117: =ROUND(Summary!J117,1) -> 0 | K117: =ROUND(Summary!K117,1) -> 0 | ... T117: =ROUND(Summary!T117,1) -> 0 | U117: =SUM(D117:T117) -> 0.2 | W117: =M117-D117 -> 0 | X117: =N117-E117 -> 0 | Y117: =O117-F117 -> 0 | Z117: =P117-G117 -> 0 | AA117: =IFERROR((M117-D117)/ABS(D117),"-") -> - | AB117: =IFERROR((N117-E117)/ABS(E117),"-") -> - | AC117: =IFERROR((O117-F117)/ABS(F117),"-") -> - | AD117: =IFERROR((P117-G117)/ABS(G117),"-") -> - | AF117: =Q117-H117 -> 0 | AG117: =R117-I117 -> 0 | AH117: =S117-J117 -> 0 | AI117: =T117-K117 -> 0 | AJ117: =IFERROR((Q117-H117)/ABS(H117),"-") -> 0 | AK117: =IFERROR((R117-I117)/ABS(I117),"-") -> - | AL117: =IFERROR((S117-J117)/ABS(J117),"-") -> - | AM117: =IFERROR((T117-K117)/ABS(K117),"-") -> -
C118: 2006 | D118: =ROUND(Summary!D118,1) -> 0 | E118: =ROUND(Summary!E118,1) -> 0 | F118: =ROUND(Summary!F118,1) -> 0 | G118: =ROUND(Summary!G118,1) -> 0 | H118: =ROUND(Summary!H118,1) -> 0.1 | I118: =ROUND(Summary!I118,1) -> 0 | J118: =ROUND(Summary!J118,1) -> 0 | K118: =ROUND(Summary!K118,1) -> 0 | ... T118: =ROUND(Summary!T118,1) -> 0 | U118: =SUM(D118:T118) -> 0.2 | W118: =M118-D118 -> 0 | X118: =N118-E118 -> 0 | Y118: =O118-F118 -> 0 | Z118: =P118-G118 -> 0 | AA118: =IFERROR((M118-D118)/ABS(D118),"-") -> - | AB118: =IFERROR((N118-E118)/ABS(E118),"-") -> - | AC118: =IFERROR((O118-F118)/ABS(F118),"-") -> - | AD118: =IFERROR((P118-G118)/ABS(G118),"-") -> - | AF118: =Q118-H118 -> 0 | AG118: =R118-I118 -> 0 | AH118: =S118-J118 -> 0 | AI118: =T118-K118 -> 0 | AJ118: =IFERROR((Q118-H118)/ABS(H118),"-") -> 0 | AK118: =IFERROR((R118-I118)/ABS(I118),"-") -> - | AL118: =IFERROR((S118-J118)/ABS(J118),"-") -> - | AM118: =IFERROR((T118-K118)/ABS(K118),"-") -> -
C119: 2007 | D119: =ROUND(Summary!D119,1) -> 0 | E119: =ROUND(Summary!E119,1) -> 0 | F119: =ROUND(Summary!F119,1) -> 0 | G119: =ROUND(Summary!G119,1) -> 0 | H119: =ROUND(Summary!H119,1) -> 0.1 | I119: =ROUND(Summary!I119,1) -> 0 | J119: =ROUND(Summary!J119,1) -> 0 | K119: =ROUND(Summary!K119,1) -> 0 | ... T119: =ROUND(Summary!T119,1) -> 0 | U119: =SUM(D119:T119) -> 0.2 | W119: =M119-D119 -> 0 | X119: =N119-E119 -> 0 | Y119: =O119-F119 -> 0 | Z119: =P119-G119 -> 0 | AA119: =IFERROR((M119-D119)/ABS(D119),"-") -> - | AB119: =IFERROR((N119-E119)/ABS(E119),"-") -> - | AC119: =IFERROR((O119-F119)/ABS(F119),"-") -> - | AD119: =IFERROR((P119-G119)/ABS(G119),"-") -> - | AF119: =Q119-H119 -> 0 | AG119: =R119-I119 -> 0 | AH119: =S119-J119 -> 0 | AI119: =T119-K119 -> 0 | AJ119: =IFERROR((Q119-H119)/ABS(H119),"-") -> 0 | AK119: =IFERROR((R119-I119)/ABS(I119),"-") -> - | AL119: =IFERROR((S119-J119)/ABS(J119),"-") -> - | AM119: =IFERROR((T119-K119)/ABS(K119),"-") -> -
C120: 2008 | D120: =ROUND(Summary!D120,1) -> 0 | E120: =ROUND(Summary!E120,1) -> 0 | F120: =ROUND(Summary!F120,1) -> 0 | G120: =ROUND(Summary!G120,1) -> 0 | H120: =ROUND(Summary!H120,1) -> 0.2 | I120: =ROUND(Summary!I120,1) -> 0 | J120: =ROUND(Summary!J120,1) -> 0 | K120: =ROUND(Summary!K120,1) -> 0 | ... T120: =ROUND(Summary!T120,1) -> 0 | U120: =SUM(D120:T120) -> 0.4 | W120: =M120-D120 -> 0 | X120: =N120-E120 -> 0 | Y120: =O120-F120 -> 0 | Z120: =P120-G120 -> 0 | AA120: =IFERROR((M120-D120)/ABS(D120),"-") -> - | AB120: =IFERROR((N120-E120)/ABS(E120),"-") -> - | AC120: =IFERROR((O120-F120)/ABS(F120),"-") -> - | AD120: =IFERROR((P120-G120)/ABS(G120),"-") -> - | AF120: =Q120-H120 -> 0 | AG120: =R120-I120 -> 0 | AH120: =S120-J120 -> 0 | AI120: =T120-K120 -> 0 | AJ120: =IFERROR((Q120-H120)/ABS(H120),"-") -> 0 | AK120: =IFERROR((R120-I120)/ABS(I120),"-") -> - | AL120: =IFERROR((S120-J120)/ABS(J120),"-") -> - | AM120: =IFERROR((T120-K120)/ABS(K120),"-") -> -
C121: 2009 | D121: =ROUND(Summary!D121,1) -> 0 | E121: =ROUND(Summary!E121,1) -> 0 | F121: =ROUND(Summary!F121,1) -> 0 | G121: =ROUND(Summary!G121,1) -> 0 | H121: =ROUND(Summary!H121,1) -> 0 | I121: =ROUND(Summary!I121,1) -> 0 | J121: =ROUND(Summary!J121,1) -> 0 | K121: =ROUND(Summary!K121,1) -> 0 | ... T121: =ROUND(Summary!T121,1) -> 0 | U121: =SUM(D121:T121) -> 0 | W121: =M121-D121 -> 0 | X121: =N121-E121 -> 0 | Y121: =O121-F121 -> 0 | Z121: =P121-G121 -> 0 | AA121: =IFERROR((M121-D121)/ABS(D121),"-") -> - | AB121: =IFERROR((N121-E121)/ABS(E121),"-") -> - | AC121: =IFERROR((O121-F121)/ABS(F121),"-") -> - | AD121: =IFERROR((P121-G121)/ABS(G121),"-") -> - | AF121: =Q121-H121 -> 0 | AG121: =R121-I121 -> 0 | AH121: =S121-J121 -> 0 | AI121: =T121-K121 -> 0 | AJ121: =IFERROR((Q121-H121)/ABS(H121),"-") -> - | AK121: =IFERROR((R121-I121)/ABS(I121),"-") -> - | AL121: =IFERROR((S121-J121)/ABS(J121),"-") -> - | AM121: =IFERROR((T121-K121)/ABS(K121),"-") -> -
C122: 2010 | D122: =ROUND(Summary!D122,1) -> 0 | E122: =ROUND(Summary!E122,1) -> 0 | F122: =ROUND(Summary!F122,1) -> 0 | G122: =ROUND(Summary!G122,1) -> 1.1 | H122: =ROUND(Summary!H122,1) -> 0.1 | I122: =ROUND(Summary!I122,1) -> 0 | J122: =ROUND(Summary!J122,1) -> 0 | K122: =ROUND(Summary!K122,1) -> 0 | ... T122: =ROUND(Summary!T122,1) -> 0.1 | U122: =SUM(D122:T122) -> 2.4 | W122: =M122-D122 -> 0.1 | X122: =N122-E122 -> 0 | Y122: =O122-F122 -> 0 | Z122: =P122-G122 -> -0.3 | AA122: =IFERROR((M122-D122)/ABS(D122),"-") -> - | AB122: =IFERROR((N122-E122)/ABS(E122),"-") -> - | AC122: =IFERROR((O122-F122)/ABS(F122),"-") -> - | AD122: =IFERROR((P122-G122)/ABS(G122),"-") -> -0.27272727 | AF122: =Q122-H122 -> 0.1 | AG122: =R122-I122 -> 0 | AH122: =S122-J122 -> 0 | AI122: =T122-K122 -> 0.1 | AJ122: =IFERROR((Q122-H122)/ABS(H122),"-") -> 1 | AK122: =IFERROR((R122-I122)/ABS(I122),"-") -> - | AL122: =IFERROR((S122-J122)/ABS(J122),"-") -> - | AM122: =IFERROR((T122-K122)/ABS(K122),"-") -> -
... C232: 2120 | D232: =ROUND(Summary!D232,1) -> 0 | E232: =ROUND(Summary!E232,1) -> 0 | F232: =ROUND(Summary!F232,1) -> 0 | G232: =ROUND(Summary!G232,1) -> 0.2 | H232: =ROUND(Summary!H232,1) -> 0.3 | I232: =ROUND(Summary!I232,1) -> 0 | J232: =ROUND(Summary!J232,1) -> 0 | K232: =ROUND(Summary!K232,1) -> 0 | ... T232: =ROUND(Summary!T232,1) -> 0.1 | U232: =SUM(D232:T232) -> 1.4 | W232: =M232-D232 -> 0.1 | X232: =N232-E232 -> 0 | Y232: =O232-F232 -> 0 | Z232: =P232-G232 -> 0.1 | AA232: =IFERROR((M232-D232)/ABS(D232),"-") -> - | AB232: =IFERROR((N232-E232)/ABS(E232),"-") -> - | AC232: =IFERROR((O232-F232)/ABS(F232),"-") -> - | AD232: =IFERROR((P232-G232)/ABS(G232),"-") -> 0.5 | AF232: =Q232-H232 -> 0.1 | AG232: =R232-I232 -> 0 | AH232: =S232-J232 -> 0 | AI232: =T232-K232 -> 0.1 | AJ232: =IFERROR((Q232-H232)/ABS(H232),"-") -> 0.33333333 | AK232: =IFERROR((R232-I232)/ABS(I232),"-") -> - | AL232: =IFERROR((S232-J232)/ABS(J232),"-") -> - | AM232: =IFERROR((T232-K232)/ABS(K232),"-") -> -
B233: North East Crawley | C233: 2121 | D233: =ROUND(Summary!D233,1) -> 0 | E233: =ROUND(Summary!E233,1) -> 0 | F233: =ROUND(Summary!F233,1) -> 0 | G233: =ROUND(Summary!G233,1) -> 0.4 | H233: =ROUND(Summary!H233,1) -> 0.7 | I233: =ROUND(Summary!I233,1) -> 0 | J233: =ROUND(Summary!J233,1) -> 0 | K233: =ROUND(Summary!K233,1) -> 0 | ... T233: =ROUND(Summary!T233,1) -> 0 | U233: =SUM(D233:T233) -> 1.9 | W233: =M233-D233 -> 0 | X233: =N233-E233 -> 0 | Y233: =O233-F233 -> 0 | Z233: =P233-G233 -> -0.2 | AA233: =IFERROR((M233-D233)/ABS(D233),"-") -> - | AB233: =IFERROR((N233-E233)/ABS(E233),"-") -> - | AC233: =IFERROR((O233-F233)/ABS(F233),"-") -> - | AD233: =IFERROR((P233-G233)/ABS(G233),"-") -> -0.5 | AF233: =Q233-H233 -> -0.1 | AG233: =R233-I233 -> 0 | AH233: =S233-J233 -> 0 | AI233: =T233-K233 -> 0 | AJ233: =IFERROR((Q233-H233)/ABS(H233),"-") -> -0.14285714 | AK233: =IFERROR((R233-I233)/ABS(I233),"-") -> - | AL233: =IFERROR((S233-J233)/ABS(J233),"-") -> - | AM233: =IFERROR((T233-K233)/ABS(K233),"-") -> -
C234: 2122 | D234: =ROUND(Summary!D234,1) -> 0 | E234: =ROUND(Summary!E234,1) -> 0 | F234: =ROUND(Summary!F234,1) -> 0 | G234: =ROUND(Summary!G234,1) -> 0.2 | H234: =ROUND(Summary!H234,1) -> 0.2 | I234: =ROUND(Summary!I234,1) -> 0 | J234: =ROUND(Summary!J234,1) -> 0 | K234: =ROUND(Summary!K234,1) -> 0 | ... T234: =ROUND(Summary!T234,1) -> 0 | U234: =SUM(D234:T234) -> 0.8 | W234: =M234-D234 -> 0 | X234: =N234-E234 -> 0 | Y234: =O234-F234 -> 0 | Z234: =P234-G234 -> 0 | AA234: =IFERROR((M234-D234)/ABS(D234),"-") -> - | AB234: =IFERROR((N234-E234)/ABS(E234),"-") -> - | AC234: =IFERROR((O234-F234)/ABS(F234),"-") -> - | AD234: =IFERROR((P234-G234)/ABS(G234),"-") -> 0 | AF234: =Q234-H234 -> 0 | AG234: =R234-I234 -> 0 | AH234: =S234-J234 -> 0 | AI234: =T234-K234 -> 0 | AJ234: =IFERROR((Q234-H234)/ABS(H234),"-") -> 0 | AK234: =IFERROR((R234-I234)/ABS(I234),"-") -> - | AL234: =IFERROR((S234-J234)/ABS(J234),"-") -> - | AM234: =IFERROR((T234-K234)/ABS(K234),"-") -> -
C235: 2123 | D235: =ROUND(Summary!D235,1) -> 0 | E235: =ROUND(Summary!E235,1) -> 0 | F235: =ROUND(Summary!F235,1) -> 0 | G235: =ROUND(Summary!G235,1) -> 0.2 | H235: =ROUND(Summary!H235,1) -> 0.1 | I235: =ROUND(Summary!I235,1) -> 0 | J235: =ROUND(Summary!J235,1) -> 0 | K235: =ROUND(Summary!K235,1) -> 0 | ... T235: =ROUND(Summary!T235,1) -> 0 | U235: =SUM(D235:T235) -> 0.5 | W235: =M235-D235 -> 0 | X235: =N235-E235 -> 0 | Y235: =O235-F235 -> 0 | Z235: =P235-G235 -> -0.1 | AA235: =IFERROR((M235-D235)/ABS(D235),"-") -> - | AB235: =IFERROR((N235-E235)/ABS(E235),"-") -> - | AC235: =IFERROR((O235-F235)/ABS(F235),"-") -> - | AD235: =IFERROR((P235-G235)/ABS(G235),"-") -> -0.5 | AF235: =Q235-H235 -> 0 | AG235: =R235-I235 -> 0 | AH235: =S235-J235 -> 0 | AI235: =T235-K235 -> 0 | AJ235: =IFERROR((Q235-H235)/ABS(H235),"-") -> 0 | AK235: =IFERROR((R235-I235)/ABS(I235),"-") -> - | AL235: =IFERROR((S235-J235)/ABS(J235),"-") -> - | AM235: =IFERROR((T235-K235)/ABS(K235),"-") -> -
C236: 2124 | D236: =ROUND(Summary!D236,1) -> 0 | E236: =ROUND(Summary!E236,1) -> 0 | F236: =ROUND(Summary!F236,1) -> 0 | G236: =ROUND(Summary!G236,1) -> 0.2 | H236: =ROUND(Summary!H236,1) -> 0.1 | I236: =ROUND(Summary!I236,1) -> 0 | J236: =ROUND(Summary!J236,1) -> 0 | K236: =ROUND(Summary!K236,1) -> 0 | ... T236: =ROUND(Summary!T236,1) -> 0 | U236: =SUM(D236:T236) -> 0.5 | W236: =M236-D236 -> 0 | X236: =N236-E236 -> 0 | Y236: =O236-F236 -> 0 | Z236: =P236-G236 -> -0.1 | AA236: =IFERROR((M236-D236)/ABS(D236),"-") -> - | AB236: =IFERROR((N236-E236)/ABS(E236),"-") -> - | AC236: =IFERROR((O236-F236)/ABS(F236),"-") -> - | AD236: =IFERROR((P236-G236)/ABS(G236),"-") -> -0.5 | AF236: =Q236-H236 -> 0 | AG236: =R236-I236 -> 0 | AH236: =S236-J236 -> 0 | AI236: =T236-K236 -> 0 | AJ236: =IFERROR((Q236-H236)/ABS(H236),"-") -> 0 | AK236: =IFERROR((R236-I236)/ABS(I236),"-") -> - | AL236: =IFERROR((S236-J236)/ABS(J236),"-") -> - | AM236: =IFERROR((T236-K236)/ABS(K236),"-") -> -
C237: 2125 | D237: =ROUND(Summary!D237,1) -> 0 | E237: =ROUND(Summary!E237,1) -> 0 | F237: =ROUND(Summary!F237,1) -> 0 | G237: =ROUND(Summary!G237,1) -> 0.3 | H237: =ROUND(Summary!H237,1) -> 0.1 | I237: =ROUND(Summary!I237,1) -> 0 | J237: =ROUND(Summary!J237,1) -> 0 | K237: =ROUND(Summary!K237,1) -> 0 | ... T237: =ROUND(Summary!T237,1) -> 0 | U237: =SUM(D237:T237) -> 0.7 | W237: =M237-D237 -> 0 | X237: =N237-E237 -> 0 | Y237: =O237-F237 -> 0 | Z237: =P237-G237 -> -0.1 | AA237: =IFERROR((M237-D237)/ABS(D237),"-") -> - | AB237: =IFERROR((N237-E237)/ABS(E237),"-") -> - | AC237: =IFERROR((O237-F237)/ABS(F237),"-") -> - | AD237: =IFERROR((P237-G237)/ABS(G237),"-") -> -0.33333333 | AF237: =Q237-H237 -> 0 | AG237: =R237-I237 -> 0 | AH237: =S237-J237 -> 0 | AI237: =T237-K237 -> 0 | AJ237: =IFERROR((Q237-H237)/ABS(H237),"-") -> 0 | AK237: =IFERROR((R237-I237)/ABS(I237),"-") -> - | AL237: =IFERROR((S237-J237)/ABS(J237),"-") -> - | AM237: =IFERROR((T237-K237)/ABS(K237),"-") -> -
C238: 2126 | D238: =ROUND(Summary!D238,1) -> 0 | E238: =ROUND(Summary!E238,1) -> 0 | F238: =ROUND(Summary!F238,1) -> 0 | G238: =ROUND(Summary!G238,1) -> 0.6 | H238: =ROUND(Summary!H238,1) -> 0.1 | I238: =ROUND(Summary!I238,1) -> 0 | J238: =ROUND(Summary!J238,1) -> 0 | K238: =ROUND(Summary!K238,1) -> 0 | ... T238: =ROUND(Summary!T238,1) -> 0 | U238: =SUM(D238:T238) -> 1.2 | W238: =M238-D238 -> 0 | X238: =N238-E238 -> 0 | Y238: =O238-F238 -> 0 | Z238: =P238-G238 -> -0.2 | AA238: =IFERROR((M238-D238)/ABS(D238),"-") -> - | AB238: =IFERROR((N238-E238)/ABS(E238),"-") -> - | AC238: =IFERROR((O238-F238)/ABS(F238),"-") -> - | AD238: =IFERROR((P238-G238)/ABS(G238),"-") -> -0.33333333 | AF238: =Q238-H238 -> 0 | AG238: =R238-I238 -> 0 | AH238: =S238-J238 -> 0 | AI238: =T238-K238 -> 0 | AJ238: =IFERROR((Q238-H238)/ABS(H238),"-") -> 0 | AK238: =IFERROR((R238-I238)/ABS(I238),"-") -> - | AL238: =IFERROR((S238-J238)/ABS(J238),"-") -> - | AM238: =IFERROR((T238-K238)/ABS(K238),"-") -> -
C239: 2127 | D239: =ROUND(Summary!D239,1) -> 0.2 | E239: =ROUND(Summary!E239,1) -> 0 | F239: =ROUND(Summary!F239,1) -> 0 | G239: =ROUND(Summary!G239,1) -> 0.5 | H239: =ROUND(Summary!H239,1) -> 0 | I239: =ROUND(Summary!I239,1) -> 0 | J239: =ROUND(Summary!J239,1) -> 0 | K239: =ROUND(Summary!K239,1) -> 1.4 | ... T239: =ROUND(Summary!T239,1) -> 1.4 | U239: =SUM(D239:T239) -> 4 | W239: =M239-D239 -> 0 | X239: =N239-E239 -> 0 | Y239: =O239-F239 -> 0 | Z239: =P239-G239 -> -0.2 | AA239: =IFERROR((M239-D239)/ABS(D239),"-") -> 0 | AB239: =IFERROR((N239-E239)/ABS(E239),"-") -> - | AC239: =IFERROR((O239-F239)/ABS(F239),"-") -> - | AD239: =IFERROR((P239-G239)/ABS(G239),"-") -> -0.4 | AF239: =Q239-H239 -> 0 | AG239: =R239-I239 -> 0 | AH239: =S239-J239 -> 0 | AI239: =T239-K239 -> 0 | AJ239: =IFERROR((Q239-H239)/ABS(H239),"-") -> - | AK239: =IFERROR((R239-I239)/ABS(I239),"-") -> - | AL239: =IFERROR((S239-J239)/ABS(J239),"-") -> - | AM239: =IFERROR((T239-K239)/ABS(K239),"-") -> 0
C240: 2128 | D240: =ROUND(Summary!D240,1) -> 0 | E240: =ROUND(Summary!E240,1) -> 0 | F240: =ROUND(Summary!F240,1) -> 0 | G240: =ROUND(Summary!G240,1) -> 0.6 | H240: =ROUND(Summary!H240,1) -> 0.8 | I240: =ROUND(Summary!I240,1) -> 0 | J240: =ROUND(Summary!J240,1) -> 0 | K240: =ROUND(Summary!K240,1) -> 0 | ... T240: =ROUND(Summary!T240,1) -> 0 | U240: =SUM(D240:T240) -> 2.5 | W240: =M240-D240 -> 0 | X240: =N240-E240 -> 0 | Y240: =O240-F240 -> 0 | Z240: =P240-G240 -> -0.4 | AA240: =IFERROR((M240-D240)/ABS(D240),"-") -> - | AB240: =IFERROR((N240-E240)/ABS(E240),"-") -> - | AC240: =IFERROR((O240-F240)/ABS(F240),"-") -> - | AD240: =IFERROR((P240-G240)/ABS(G240),"-") -> -0.66666667 | AF240: =Q240-H240 -> 0.1 | AG240: =R240-I240 -> 0 | AH240: =S240-J240 -> 0 | AI240: =T240-K240 -> 0 | AJ240: =IFERROR((Q240-H240)/ABS(H240),"-") -> 0.125 | AK240: =IFERROR((R240-I240)/ABS(I240),"-") -> - | AL240: =IFERROR((S240-J240)/ABS(J240),"-") -> - | AM240: =IFERROR((T240-K240)/ABS(K240),"-") -> -
C241: 2129 | D241: =ROUND(Summary!D241,1) -> 0 | E241: =ROUND(Summary!E241,1) -> 0 | F241: =ROUND(Summary!F241,1) -> 0 | G241: =ROUND(Summary!G241,1) -> 0 | H241: =ROUND(Summary!H241,1) -> 0 | I241: =ROUND(Summary!I241,1) -> 0 | J241: =ROUND(Summary!J241,1) -> 0 | K241: =ROUND(Summary!K241,1) -> 0.1 | ... T241: =ROUND(Summary!T241,1) -> 0.1 | U241: =SUM(D241:T241) -> 0.2 | W241: =M241-D241 -> 0 | X241: =N241-E241 -> 0 | Y241: =O241-F241 -> 0 | Z241: =P241-G241 -> 0 | AA241: =IFERROR((M241-D241)/ABS(D241),"-") -> - | AB241: =IFERROR((N241-E241)/ABS(E241),"-") -> - | AC241: =IFERROR((O241-F241)/ABS(F241),"-") -> - | AD241: =IFERROR((P241-G241)/ABS(G241),"-") -> - | AF241: =Q241-H241 -> 0 | AG241: =R241-I241 -> 0 | AH241: =S241-J241 -> 0 | AI241: =T241-K241 -> 0 | AJ241: =IFERROR((Q241-H241)/ABS(H241),"-") -> - | AK241: =IFERROR((R241-I241)/ABS(I241),"-") -> - | AL241: =IFERROR((S241-J241)/ABS(J241),"-") -> - | AM241: =IFERROR((T241-K241)/ABS(K241),"-") -> 0
...
